BEGIN:VCALENDAR
VERSION:2.0
PRODID:-//Northampton BID - ECPv6.2.4//NONSGML v1.0//EN
CALSCALE:GREGORIAN
METHOD:PUBLISH
X-ORIGINAL-URL:https://www.discovernorthampton.co.uk
X-WR-CALDESC:Events for Northampton BID
REFRESH-INTERVAL;VALUE=DURATION:PT1H
X-Robots-Tag:noindex
X-PUBLISHED-TTL:PT1H
BEGIN:VTIMEZONE
TZID:Europe/London
BEGIN:DAYLIGHT
TZOFFSETFROM:+0000
TZOFFSETTO:+0100
TZNAME:BST
DTSTART:20250330T010000
END:DAYLIGHT
BEGIN:STANDARD
TZOFFSETFROM:+0100
TZOFFSETTO:+0000
TZNAME:GMT
DTSTART:20251026T010000
END:STANDARD
END:VTIMEZONE
BEGIN:VEVENT
DTSTART;TZID=Europe/London:20251102T133000
DTEND;TZID=Europe/London:19700316T000000
DTSTAMP:20260421T043654
CREATED:20250820T213438Z
LAST-MODIFIED:20250820T213438Z
UID:129530-1762090200-6393600@www.discovernorthampton.co.uk
SUMMARY:A Squash And A Squeeze
DESCRIPTION:A Little Angel Theatre and Lowry Co-Production\nA musical adaptation of the best-selling book – A Squash And A Squeeze – written by Julia Donaldson and illustrated by Axel Scheffler \n\nStep into the magical world of A Squash And A Squeeze live on stage for the first time! \nOnce upon a time\, a little old lady lived all by herself in her cosy cottage\, but she wasn’t happy – her house felt just too small. Whatever could she do? Will the wise old man’s solution of bringing in a flappy\, scratchy\, greedy\, noisy crowd of farmyard animals work? \nJoin us for this heart warming and hilarious adventure\, full of beautiful puppets and enchanting songs. Written and illustrated by the unparalleled picture book partnership of Julia Donaldson and Axel Scheffler\, and adapted for the stage by Olivier-nominated duo Barb Jungr and Samantha Lane.
URL:https://www.discovernorthampton.co.uk/event/a-squash-and-a-squeeze/2025-11-02/4/
LOCATION:Royal and Derngate Theatre\, 19-21 Guildhall Road\, Northampton\, Northamptonshire\, NN1 1DP
CATEGORIES:Royal and Derngate,Theatre
ATTACH;FMTTYPE=image/png:https://www.discovernorthampton.co.uk/wp-content/uploads/2025/08/A-Squash-A-Squeeze-Website-1170x476-1.png
ORGANIZER;CN="Royal and Derngate":MAILTO:BoxOffice@royalandderngate.co.uk
END:VEVENT
BEGIN:VEVENT
DTSTART;TZID=Europe/London:20251102T103000
DTEND;TZID=Europe/London:19700316T000000
DTSTAMP:20260421T043654
CREATED:20250820T213438Z
LAST-MODIFIED:20250820T213438Z
UID:129529-1762079400-6393600@www.discovernorthampton.co.uk
SUMMARY:A Squash And A Squeeze
DESCRIPTION:A Little Angel Theatre and Lowry Co-Production\nA musical adaptation of the best-selling book – A Squash And A Squeeze – written by Julia Donaldson and illustrated by Axel Scheffler \n\nStep into the magical world of A Squash And A Squeeze live on stage for the first time! \nOnce upon a time\, a little old lady lived all by herself in her cosy cottage\, but she wasn’t happy – her house felt just too small. Whatever could she do? Will the wise old man’s solution of bringing in a flappy\, scratchy\, greedy\, noisy crowd of farmyard animals work? \nJoin us for this heart warming and hilarious adventure\, full of beautiful puppets and enchanting songs. Written and illustrated by the unparalleled picture book partnership of Julia Donaldson and Axel Scheffler\, and adapted for the stage by Olivier-nominated duo Barb Jungr and Samantha Lane.
URL:https://www.discovernorthampton.co.uk/event/a-squash-and-a-squeeze/2025-11-02/
LOCATION:Royal and Derngate Theatre\, 19-21 Guildhall Road\, Northampton\, Northamptonshire\, NN1 1DP
CATEGORIES:Royal and Derngate,Theatre
ATTACH;FMTTYPE=image/png:https://www.discovernorthampton.co.uk/wp-content/uploads/2025/08/A-Squash-A-Squeeze-Website-1170x476-1.png
ORGANIZER;CN="Royal and Derngate":MAILTO:BoxOffice@royalandderngate.co.uk
END:VEVENT
BEGIN:VEVENT
DTSTART;TZID=Europe/London:20251101T153000
DTEND;TZID=Europe/London:19700315T000000
DTSTAMP:20260421T043654
CREATED:20250820T213438Z
LAST-MODIFIED:20250820T213438Z
UID:129528-1762011000-6307200@www.discovernorthampton.co.uk
SUMMARY:A Squash And A Squeeze
DESCRIPTION:A Little Angel Theatre and Lowry Co-Production\nA musical adaptation of the best-selling book – A Squash And A Squeeze – written by Julia Donaldson and illustrated by Axel Scheffler \n\nStep into the magical world of A Squash And A Squeeze live on stage for the first time! \nOnce upon a time\, a little old lady lived all by herself in her cosy cottage\, but she wasn’t happy – her house felt just too small. Whatever could she do? Will the wise old man’s solution of bringing in a flappy\, scratchy\, greedy\, noisy crowd of farmyard animals work? \nJoin us for this heart warming and hilarious adventure\, full of beautiful puppets and enchanting songs. Written and illustrated by the unparalleled picture book partnership of Julia Donaldson and Axel Scheffler\, and adapted for the stage by Olivier-nominated duo Barb Jungr and Samantha Lane.
URL:https://www.discovernorthampton.co.uk/event/a-squash-and-a-squeeze/2025-11-01/3/
LOCATION:Royal and Derngate Theatre\, 19-21 Guildhall Road\, Northampton\, Northamptonshire\, NN1 1DP
CATEGORIES:Royal and Derngate,Theatre
ATTACH;FMTTYPE=image/png:https://www.discovernorthampton.co.uk/wp-content/uploads/2025/08/A-Squash-A-Squeeze-Website-1170x476-1.png
ORGANIZER;CN="Royal and Derngate":MAILTO:BoxOffice@royalandderngate.co.uk
END:VEVENT
BEGIN:VEVENT
DTSTART;TZID=Europe/London:20251101T133000
DTEND;TZID=Europe/London:19700315T000000
DTSTAMP:20260421T043654
CREATED:20250820T213438Z
LAST-MODIFIED:20250820T213438Z
UID:129527-1762003800-6307200@www.discovernorthampton.co.uk
SUMMARY:A Squash And A Squeeze
DESCRIPTION:A Little Angel Theatre and Lowry Co-Production\nA musical adaptation of the best-selling book – A Squash And A Squeeze – written by Julia Donaldson and illustrated by Axel Scheffler \n\nStep into the magical world of A Squash And A Squeeze live on stage for the first time! \nOnce upon a time\, a little old lady lived all by herself in her cosy cottage\, but she wasn’t happy – her house felt just too small. Whatever could she do? Will the wise old man’s solution of bringing in a flappy\, scratchy\, greedy\, noisy crowd of farmyard animals work? \nJoin us for this heart warming and hilarious adventure\, full of beautiful puppets and enchanting songs. Written and illustrated by the unparalleled picture book partnership of Julia Donaldson and Axel Scheffler\, and adapted for the stage by Olivier-nominated duo Barb Jungr and Samantha Lane.
URL:https://www.discovernorthampton.co.uk/event/a-squash-and-a-squeeze/2025-11-01/2/
LOCATION:Royal and Derngate Theatre\, 19-21 Guildhall Road\, Northampton\, Northamptonshire\, NN1 1DP
CATEGORIES:Royal and Derngate,Theatre
ATTACH;FMTTYPE=image/png:https://www.discovernorthampton.co.uk/wp-content/uploads/2025/08/A-Squash-A-Squeeze-Website-1170x476-1.png
ORGANIZER;CN="Royal and Derngate":MAILTO:BoxOffice@royalandderngate.co.uk
END:VEVENT
BEGIN:VEVENT
DTSTART;TZID=Europe/London:20251101T103000
DTEND;TZID=Europe/London:19700315T000000
DTSTAMP:20260421T043654
CREATED:20250820T213438Z
LAST-MODIFIED:20250820T213438Z
UID:129526-1761993000-6307200@www.discovernorthampton.co.uk
SUMMARY:A Squash And A Squeeze
DESCRIPTION:A Little Angel Theatre and Lowry Co-Production\nA musical adaptation of the best-selling book – A Squash And A Squeeze – written by Julia Donaldson and illustrated by Axel Scheffler \n\nStep into the magical world of A Squash And A Squeeze live on stage for the first time! \nOnce upon a time\, a little old lady lived all by herself in her cosy cottage\, but she wasn’t happy – her house felt just too small. Whatever could she do? Will the wise old man’s solution of bringing in a flappy\, scratchy\, greedy\, noisy crowd of farmyard animals work? \nJoin us for this heart warming and hilarious adventure\, full of beautiful puppets and enchanting songs. Written and illustrated by the unparalleled picture book partnership of Julia Donaldson and Axel Scheffler\, and adapted for the stage by Olivier-nominated duo Barb Jungr and Samantha Lane.
URL:https://www.discovernorthampton.co.uk/event/a-squash-and-a-squeeze/2025-11-01/
LOCATION:Royal and Derngate Theatre\, 19-21 Guildhall Road\, Northampton\, Northamptonshire\, NN1 1DP
CATEGORIES:Royal and Derngate,Theatre
ATTACH;FMTTYPE=image/png:https://www.discovernorthampton.co.uk/wp-content/uploads/2025/08/A-Squash-A-Squeeze-Website-1170x476-1.png
ORGANIZER;CN="Royal and Derngate":MAILTO:BoxOffice@royalandderngate.co.uk
END:VEVENT
BEGIN:VEVENT
DTSTART;TZID=Europe/London:20251031T140000
DTEND;TZID=Europe/London:20251031T140000
DTSTAMP:20260421T043654
CREATED:20250820T213438Z
LAST-MODIFIED:20250820T213438Z
UID:129523-1761919200-1761919200@www.discovernorthampton.co.uk
SUMMARY:A Squash And A Squeeze
DESCRIPTION:A Little Angel Theatre and Lowry Co-Production\nA musical adaptation of the best-selling book – A Squash And A Squeeze – written by Julia Donaldson and illustrated by Axel Scheffler \n\nStep into the magical world of A Squash And A Squeeze live on stage for the first time! \nOnce upon a time\, a little old lady lived all by herself in her cosy cottage\, but she wasn’t happy – her house felt just too small. Whatever could she do? Will the wise old man’s solution of bringing in a flappy\, scratchy\, greedy\, noisy crowd of farmyard animals work? \nJoin us for this heart warming and hilarious adventure\, full of beautiful puppets and enchanting songs. Written and illustrated by the unparalleled picture book partnership of Julia Donaldson and Axel Scheffler\, and adapted for the stage by Olivier-nominated duo Barb Jungr and Samantha Lane.
URL:https://www.discovernorthampton.co.uk/event/a-squash-and-a-squeeze/2025-10-31/
LOCATION:Royal and Derngate Theatre\, 19-21 Guildhall Road\, Northampton\, Northamptonshire\, NN1 1DP
CATEGORIES:Royal and Derngate,Theatre
ATTACH;FMTTYPE=image/png:https://www.discovernorthampton.co.uk/wp-content/uploads/2025/08/A-Squash-A-Squeeze-Website-1170x476-1.png
ORGANIZER;CN="Royal and Derngate":MAILTO:BoxOffice@royalandderngate.co.uk
END:VEVENT
END:VCALENDAR