BEGIN:VCALENDAR
VERSION:2.0
PRODID:-//Northampton BID - ECPv6.2.4//NONSGML v1.0//EN
CALSCALE:GREGORIAN
METHOD:PUBLISH
X-WR-CALNAME:Northampton BID
X-ORIGINAL-URL:https://www.discovernorthampton.co.uk
X-WR-CALDESC:Events for Northampton BID
REFRESH-INTERVAL;VALUE=DURATION:PT1H
X-Robots-Tag:noindex
X-PUBLISHED-TTL:PT1H
BEGIN:VTIMEZONE
TZID:Europe/London
BEGIN:DAYLIGHT
TZOFFSETFROM:+0000
TZOFFSETTO:+0100
TZNAME:BST
DTSTART:20240331T010000
END:DAYLIGHT
BEGIN:STANDARD
TZOFFSETFROM:+0100
TZOFFSETTO:+0000
TZNAME:GMT
DTSTART:20241027T010000
END:STANDARD
END:VTIMEZONE
BEGIN:VEVENT
DTSTART;TZID=Europe/London:20240127T150000
DTEND;TZID=Europe/London:20240127T170000
DTSTAMP:20260425T213340
CREATED:20240102T151446Z
LAST-MODIFIED:20240102T151446Z
UID:117728-1706367600-1706374800@www.discovernorthampton.co.uk
SUMMARY:Cirque Enchantment
DESCRIPTION:This magical production features superb choreography\, breathtaking live vocals and mesmerising circus performers. \nWith an eclectic and iconic musical soundtrack including Wings\, Mad World\, Sweet Dreams\, The Show Must Go On\, Relight My Fire\, I’ll Put A Spell On You and many more. \nCirque Enchantment see’s a little girl with a big imagination enter a frozen circus wonderland and a mysterious path of good versus evil. Meeting an array of weird\, wonderful and talented characters along the way. \nThis stunning family show that will offer a much needed escape from reality this Winter. Cirque Enchantment is a dynamic fairytale for all the family. Book now for the Cirque Enchantment experience.
URL:https://www.discovernorthampton.co.uk/event/cirque-enchantment/2024-01-27/
LOCATION:Royal and Derngate Theatre\, 19-21 Guildhall Road\, Northampton\, Northamptonshire\, NN1 1DP
ATTACH;FMTTYPE=image/jpeg:https://www.discovernorthampton.co.uk/wp-content/uploads/2024/01/SGlover_Cirque_FBook_2-1170x476-1.jpg
ORGANIZER;CN="Royal and Derngate":MAILTO:BoxOffice@royalandderngate.co.uk
END:VEVENT
END:VCALENDAR