BEGIN:VCALENDAR
VERSION:2.0
PRODID:-//Northampton BID - ECPv6.2.4//NONSGML v1.0//EN
CALSCALE:GREGORIAN
METHOD:PUBLISH
X-ORIGINAL-URL:https://www.discovernorthampton.co.uk
X-WR-CALDESC:Events for Northampton BID
REFRESH-INTERVAL;VALUE=DURATION:PT1H
X-Robots-Tag:noindex
X-PUBLISHED-TTL:PT1H
BEGIN:VTIMEZONE
TZID:Europe/London
BEGIN:DAYLIGHT
TZOFFSETFROM:+0000
TZOFFSETTO:+0100
TZNAME:BST
DTSTART:20240331T010000
END:DAYLIGHT
BEGIN:STANDARD
TZOFFSETFROM:+0100
TZOFFSETTO:+0000
TZNAME:GMT
DTSTART:20241027T010000
END:STANDARD
END:VTIMEZONE
BEGIN:VEVENT
DTSTART;TZID=Europe/London:20241127T143000
DTEND;TZID=Europe/London:20241127T163000
DTSTAMP:20260420T014937
CREATED:20240827T150423Z
LAST-MODIFIED:20240827T150423Z
UID:121403-1732717800-1732725000@www.discovernorthampton.co.uk
SUMMARY:Cluedo 2
DESCRIPTION:The hit new whodunit show based on the classic boardgame comes to Northampton with a brand new murder mystery starring West End and TV star Jason Durr as Colonel Mustard and award winning actress and Strictly Come Dancing champion\, Ellie Leach\, playing Miss Scarlett. \nSet in the swinging 1960s\, rock n roll legend Rick Black has not had a hit for years and he’s broke. But as he settles into his brand new\, expensive home\, Graveny Manor\, Rick is desperate to revive his fading career and reclaim his fame and fortune… and is prepared to do anything to get it back. \nExcited to reveal his long-awaited comeback album\, Rick has assembled his supermodel wife\, The Honourable Emerald Peacock\, his manager\, Colonel Eugene Mustard\, long-time roadie “Professor” Alex Plum\, Annabel Scarlett his trusted interior designer and housekeeper Mrs White\, who came with house and who knows all its secrets. \nBut there is still someone missing… Rick’s former song-writing partner “The Reverend” Hal Green\, disappeared mysteriously at the same time that Rick’s career went downhill and without him\, has Rick still got it? \nAnd where did that butler come from? \nAs the bodies pile up\, all the guests become suspects\, potential victim and detectives\, as they dart from room to room trying to escape the killer and survive the night. \nWritten by BAFTA Award-winners Laurence Marks and Maurice Gran (Birds of A Feather\, Dreamboats and Petticoats)\, and directed by Mark Bell – director of the original hit UK production of Cluedo and the global phenomenon\, The Play That Goes Wrong\, Cluedo 2 – The Next Chapter is a rollocking spoof of a comedy that will keep you guessing right up to the final twist and invites budding detectives of all ages\, from 8 to 80 and beyond\, to watch for the clues and unravel the secrets\, as we all try to work out whodunnit… with what… and where!!
URL:https://www.discovernorthampton.co.uk/event/cluedo-2/2024-11-27/2/
LOCATION:Royal and Derngate Theatre\, 19-21 Guildhall Road\, Northampton\, Northamptonshire\, NN1 1DP
ATTACH;FMTTYPE=image/jpeg:https://www.discovernorthampton.co.uk/wp-content/uploads/2024/08/2340x1750-1170x476-1-1.jpg
ORGANIZER;CN="Royal and Derngate":MAILTO:BoxOffice@royalandderngate.co.uk
END:VEVENT
BEGIN:VEVENT
DTSTART;TZID=Europe/London:20241127T080000
DTEND;TZID=Europe/London:20241127T170000
DTSTAMP:20260420T014937
CREATED:20240827T150423Z
LAST-MODIFIED:20240827T150423Z
UID:121402-1732694400-1732726800@www.discovernorthampton.co.uk
SUMMARY:Cluedo 2
DESCRIPTION:The hit new whodunit show based on the classic boardgame comes to Northampton with a brand new murder mystery starring West End and TV star Jason Durr as Colonel Mustard and award winning actress and Strictly Come Dancing champion\, Ellie Leach\, playing Miss Scarlett. \nSet in the swinging 1960s\, rock n roll legend Rick Black has not had a hit for years and he’s broke. But as he settles into his brand new\, expensive home\, Graveny Manor\, Rick is desperate to revive his fading career and reclaim his fame and fortune… and is prepared to do anything to get it back. \nExcited to reveal his long-awaited comeback album\, Rick has assembled his supermodel wife\, The Honourable Emerald Peacock\, his manager\, Colonel Eugene Mustard\, long-time roadie “Professor” Alex Plum\, Annabel Scarlett his trusted interior designer and housekeeper Mrs White\, who came with house and who knows all its secrets. \nBut there is still someone missing… Rick’s former song-writing partner “The Reverend” Hal Green\, disappeared mysteriously at the same time that Rick’s career went downhill and without him\, has Rick still got it? \nAnd where did that butler come from? \nAs the bodies pile up\, all the guests become suspects\, potential victim and detectives\, as they dart from room to room trying to escape the killer and survive the night. \nWritten by BAFTA Award-winners Laurence Marks and Maurice Gran (Birds of A Feather\, Dreamboats and Petticoats)\, and directed by Mark Bell – director of the original hit UK production of Cluedo and the global phenomenon\, The Play That Goes Wrong\, Cluedo 2 – The Next Chapter is a rollocking spoof of a comedy that will keep you guessing right up to the final twist and invites budding detectives of all ages\, from 8 to 80 and beyond\, to watch for the clues and unravel the secrets\, as we all try to work out whodunnit… with what… and where!!
URL:https://www.discovernorthampton.co.uk/event/cluedo-2/2024-11-27/
LOCATION:Royal and Derngate Theatre\, 19-21 Guildhall Road\, Northampton\, Northamptonshire\, NN1 1DP
ATTACH;FMTTYPE=image/jpeg:https://www.discovernorthampton.co.uk/wp-content/uploads/2024/08/2340x1750-1170x476-1-1.jpg
ORGANIZER;CN="Royal and Derngate":MAILTO:BoxOffice@royalandderngate.co.uk
END:VEVENT
BEGIN:VEVENT
DTSTART;TZID=Europe/London:20241126T193000
DTEND;TZID=Europe/London:20241126T213000
DTSTAMP:20260420T014937
CREATED:20240827T150423Z
LAST-MODIFIED:20240827T150423Z
UID:121399-1732649400-1732656600@www.discovernorthampton.co.uk
SUMMARY:Cluedo 2
DESCRIPTION:The hit new whodunit show based on the classic boardgame comes to Northampton with a brand new murder mystery starring West End and TV star Jason Durr as Colonel Mustard and award winning actress and Strictly Come Dancing champion\, Ellie Leach\, playing Miss Scarlett. \nSet in the swinging 1960s\, rock n roll legend Rick Black has not had a hit for years and he’s broke. But as he settles into his brand new\, expensive home\, Graveny Manor\, Rick is desperate to revive his fading career and reclaim his fame and fortune… and is prepared to do anything to get it back. \nExcited to reveal his long-awaited comeback album\, Rick has assembled his supermodel wife\, The Honourable Emerald Peacock\, his manager\, Colonel Eugene Mustard\, long-time roadie “Professor” Alex Plum\, Annabel Scarlett his trusted interior designer and housekeeper Mrs White\, who came with house and who knows all its secrets. \nBut there is still someone missing… Rick’s former song-writing partner “The Reverend” Hal Green\, disappeared mysteriously at the same time that Rick’s career went downhill and without him\, has Rick still got it? \nAnd where did that butler come from? \nAs the bodies pile up\, all the guests become suspects\, potential victim and detectives\, as they dart from room to room trying to escape the killer and survive the night. \nWritten by BAFTA Award-winners Laurence Marks and Maurice Gran (Birds of A Feather\, Dreamboats and Petticoats)\, and directed by Mark Bell – director of the original hit UK production of Cluedo and the global phenomenon\, The Play That Goes Wrong\, Cluedo 2 – The Next Chapter is a rollocking spoof of a comedy that will keep you guessing right up to the final twist and invites budding detectives of all ages\, from 8 to 80 and beyond\, to watch for the clues and unravel the secrets\, as we all try to work out whodunnit… with what… and where!!
URL:https://www.discovernorthampton.co.uk/event/cluedo-2/2024-11-26/
LOCATION:Royal and Derngate Theatre\, 19-21 Guildhall Road\, Northampton\, Northamptonshire\, NN1 1DP
ATTACH;FMTTYPE=image/jpeg:https://www.discovernorthampton.co.uk/wp-content/uploads/2024/08/2340x1750-1170x476-1-1.jpg
ORGANIZER;CN="Royal and Derngate":MAILTO:BoxOffice@royalandderngate.co.uk
END:VEVENT
END:VCALENDAR