BEGIN:VCALENDAR
VERSION:2.0
PRODID:-//Northampton BID - ECPv6.2.4//NONSGML v1.0//EN
CALSCALE:GREGORIAN
METHOD:PUBLISH
X-WR-CALNAME:Northampton BID
X-ORIGINAL-URL:https://www.discovernorthampton.co.uk
X-WR-CALDESC:Events for Northampton BID
REFRESH-INTERVAL;VALUE=DURATION:PT1H
X-Robots-Tag:noindex
X-PUBLISHED-TTL:PT1H
BEGIN:VTIMEZONE
TZID:Europe/London
BEGIN:DAYLIGHT
TZOFFSETFROM:+0000
TZOFFSETTO:+0100
TZNAME:BST
DTSTART:20240331T010000
END:DAYLIGHT
BEGIN:STANDARD
TZOFFSETFROM:+0100
TZOFFSETTO:+0000
TZNAME:GMT
DTSTART:20241027T010000
END:STANDARD
END:VTIMEZONE
BEGIN:VEVENT
DTSTART;TZID=Europe/London:20240531T123000
DTEND;TZID=Europe/London:20240531T140000
DTSTAMP:20260419T204812
CREATED:20240229T110630Z
LAST-MODIFIED:20240229T110630Z
UID:119694-1717158600-1717164000@www.discovernorthampton.co.uk
SUMMARY:Craft and chatter
DESCRIPTION:Every Friday (no session on 7 April)\n12.30 â€“ 2.00pm\nFree\nIf you’re looking for a way to unwind after a busy week or just want to make some new crafting friends\, come along with your chosen craft to these friendly informal sessions. They take place every Friday lunchtime in the Northampton Museum & Art Gallery lower café area.\nDrop in – no booking required but please purchase a drink or something to eat from the cafe.
URL:https://www.discovernorthampton.co.uk/event/craft-and-chatter-4/2024-05-31/
LOCATION:Northampton Museum And Art Gallery\, 4-6 Guildhall Rd\,\, Northampton\, Northamptonshire\, NN1 1DP\, United Kingdom
CATEGORIES:craft
ATTACH;FMTTYPE=image/jpeg:https://www.discovernorthampton.co.uk/wp-content/uploads/2024/02/Knit_and_Natter.jpg
END:VEVENT
BEGIN:VEVENT
DTSTART;TZID=Europe/London:20240524T123000
DTEND;TZID=Europe/London:20240524T140000
DTSTAMP:20260419T204812
CREATED:20240229T110630Z
LAST-MODIFIED:20240229T110630Z
UID:119693-1716553800-1716559200@www.discovernorthampton.co.uk
SUMMARY:Craft and chatter
DESCRIPTION:Every Friday (no session on 7 April)\n12.30 â€“ 2.00pm\nFree\nIf you’re looking for a way to unwind after a busy week or just want to make some new crafting friends\, come along with your chosen craft to these friendly informal sessions. They take place every Friday lunchtime in the Northampton Museum & Art Gallery lower café area.\nDrop in – no booking required but please purchase a drink or something to eat from the cafe.
URL:https://www.discovernorthampton.co.uk/event/craft-and-chatter-4/2024-05-24/
LOCATION:Northampton Museum And Art Gallery\, 4-6 Guildhall Rd\,\, Northampton\, Northamptonshire\, NN1 1DP\, United Kingdom
CATEGORIES:craft
ATTACH;FMTTYPE=image/jpeg:https://www.discovernorthampton.co.uk/wp-content/uploads/2024/02/Knit_and_Natter.jpg
END:VEVENT
BEGIN:VEVENT
DTSTART;TZID=Europe/London:20240517T123000
DTEND;TZID=Europe/London:20240517T140000
DTSTAMP:20260419T204812
CREATED:20240229T110630Z
LAST-MODIFIED:20240229T110630Z
UID:119692-1715949000-1715954400@www.discovernorthampton.co.uk
SUMMARY:Craft and chatter
DESCRIPTION:Every Friday (no session on 7 April)\n12.30 â€“ 2.00pm\nFree\nIf you’re looking for a way to unwind after a busy week or just want to make some new crafting friends\, come along with your chosen craft to these friendly informal sessions. They take place every Friday lunchtime in the Northampton Museum & Art Gallery lower café area.\nDrop in – no booking required but please purchase a drink or something to eat from the cafe.
URL:https://www.discovernorthampton.co.uk/event/craft-and-chatter-4/2024-05-17/
LOCATION:Northampton Museum And Art Gallery\, 4-6 Guildhall Rd\,\, Northampton\, Northamptonshire\, NN1 1DP\, United Kingdom
CATEGORIES:craft
ATTACH;FMTTYPE=image/jpeg:https://www.discovernorthampton.co.uk/wp-content/uploads/2024/02/Knit_and_Natter.jpg
END:VEVENT
BEGIN:VEVENT
DTSTART;TZID=Europe/London:20240510T123000
DTEND;TZID=Europe/London:20240510T140000
DTSTAMP:20260419T204812
CREATED:20240229T110630Z
LAST-MODIFIED:20240229T110630Z
UID:119691-1715344200-1715349600@www.discovernorthampton.co.uk
SUMMARY:Craft and chatter
DESCRIPTION:Every Friday (no session on 7 April)\n12.30 â€“ 2.00pm\nFree\nIf you’re looking for a way to unwind after a busy week or just want to make some new crafting friends\, come along with your chosen craft to these friendly informal sessions. They take place every Friday lunchtime in the Northampton Museum & Art Gallery lower café area.\nDrop in – no booking required but please purchase a drink or something to eat from the cafe.
URL:https://www.discovernorthampton.co.uk/event/craft-and-chatter-4/2024-05-10/
LOCATION:Northampton Museum And Art Gallery\, 4-6 Guildhall Rd\,\, Northampton\, Northamptonshire\, NN1 1DP\, United Kingdom
CATEGORIES:craft
ATTACH;FMTTYPE=image/jpeg:https://www.discovernorthampton.co.uk/wp-content/uploads/2024/02/Knit_and_Natter.jpg
END:VEVENT
BEGIN:VEVENT
DTSTART;TZID=Europe/London:20240503T123000
DTEND;TZID=Europe/London:20240503T140000
DTSTAMP:20260419T204812
CREATED:20240229T110630Z
LAST-MODIFIED:20240229T110630Z
UID:119690-1714739400-1714744800@www.discovernorthampton.co.uk
SUMMARY:Craft and chatter
DESCRIPTION:Every Friday (no session on 7 April)\n12.30 â€“ 2.00pm\nFree\nIf you’re looking for a way to unwind after a busy week or just want to make some new crafting friends\, come along with your chosen craft to these friendly informal sessions. They take place every Friday lunchtime in the Northampton Museum & Art Gallery lower café area.\nDrop in – no booking required but please purchase a drink or something to eat from the cafe.
URL:https://www.discovernorthampton.co.uk/event/craft-and-chatter-4/2024-05-03/
LOCATION:Northampton Museum And Art Gallery\, 4-6 Guildhall Rd\,\, Northampton\, Northamptonshire\, NN1 1DP\, United Kingdom
CATEGORIES:craft
ATTACH;FMTTYPE=image/jpeg:https://www.discovernorthampton.co.uk/wp-content/uploads/2024/02/Knit_and_Natter.jpg
END:VEVENT
BEGIN:VEVENT
DTSTART;TZID=Europe/London:20240301T123000
DTEND;TZID=Europe/London:20240301T140000
DTSTAMP:20260419T204812
CREATED:20240229T110630Z
LAST-MODIFIED:20240502T122136Z
UID:118856-1709296200-1709301600@www.discovernorthampton.co.uk
SUMMARY:Craft and chatter
DESCRIPTION:Every Friday (no session on 7 April)\n12.30 â€“ 2.00pm\nFree\nIf you’re looking for a way to unwind after a busy week or just want to make some new crafting friends\, come along with your chosen craft to these friendly informal sessions. They take place every Friday lunchtime in the Northampton Museum & Art Gallery lower café area.\nDrop in – no booking required but please purchase a drink or something to eat from the cafe.
URL:https://www.discovernorthampton.co.uk/event/craft-and-chatter-4/2024-03-01/
LOCATION:Northampton Museum And Art Gallery\, 4-6 Guildhall Rd\,\, Northampton\, Northamptonshire\, NN1 1DP\, United Kingdom
CATEGORIES:craft
ATTACH;FMTTYPE=image/jpeg:https://www.discovernorthampton.co.uk/wp-content/uploads/2024/02/Knit_and_Natter.jpg
END:VEVENT
END:VCALENDAR