BEGIN:VCALENDAR
VERSION:2.0
PRODID:-//Northampton BID - ECPv6.2.4//NONSGML v1.0//EN
CALSCALE:GREGORIAN
METHOD:PUBLISH
X-WR-CALNAME:Northampton BID
X-ORIGINAL-URL:https://www.discovernorthampton.co.uk
X-WR-CALDESC:Events for Northampton BID
REFRESH-INTERVAL;VALUE=DURATION:PT1H
X-Robots-Tag:noindex
X-PUBLISHED-TTL:PT1H
BEGIN:VTIMEZONE
TZID:Europe/London
BEGIN:DAYLIGHT
TZOFFSETFROM:+0000
TZOFFSETTO:+0100
TZNAME:BST
DTSTART:20230326T010000
END:DAYLIGHT
BEGIN:STANDARD
TZOFFSETFROM:+0100
TZOFFSETTO:+0000
TZNAME:GMT
DTSTART:20231029T010000
END:STANDARD
END:VTIMEZONE
BEGIN:VEVENT
DTSTART;TZID=Europe/London:20230514T140000
DTEND;TZID=Europe/London:20230514T160000
DTSTAMP:20260424T061049
CREATED:20230426T135636Z
LAST-MODIFIED:20230426T135914Z
UID:113702-1684072800-1684080000@www.discovernorthampton.co.uk
SUMMARY:Dancing Schools UK
DESCRIPTION:Join us for the heats of this year’s Dancing Schools UK Northamptonshire! \nThis is the 10th year of this fabulous Ballroom and Latin dance event designed to encourage school children from across the region to have a try at dancing and nurture team work. From its early days as Strictly Junior\, the show has now evolved to Dancing Schools UK and seen over 3000 children having braved the stage\, stepped out into the spotlight and done something they never thought they would do – dance in front of hundreds of people.
URL:https://www.discovernorthampton.co.uk/event/dancing-schools-uk-2/2023-05-14/
LOCATION:Royal and Derngate Theatre\, 19-21 Guildhall Road\, Northampton\, Northamptonshire\, NN1 1DP
ATTACH;FMTTYPE=image/png:https://www.discovernorthampton.co.uk/wp-content/uploads/2023/04/Website-Template-1170x476-1.png
ORGANIZER;CN="Royal and Derngate":MAILTO:BoxOffice@royalandderngate.co.uk
END:VEVENT
END:VCALENDAR