BEGIN:VCALENDAR
VERSION:2.0
PRODID:-//Northampton BID - ECPv6.2.4//NONSGML v1.0//EN
CALSCALE:GREGORIAN
METHOD:PUBLISH
X-WR-CALNAME:Northampton BID
X-ORIGINAL-URL:https://www.discovernorthampton.co.uk
X-WR-CALDESC:Events for Northampton BID
REFRESH-INTERVAL;VALUE=DURATION:PT1H
X-Robots-Tag:noindex
X-PUBLISHED-TTL:PT1H
BEGIN:VTIMEZONE
TZID:Europe/London
BEGIN:DAYLIGHT
TZOFFSETFROM:+0000
TZOFFSETTO:+0100
TZNAME:BST
DTSTART:20250330T010000
END:DAYLIGHT
BEGIN:STANDARD
TZOFFSETFROM:+0100
TZOFFSETTO:+0000
TZNAME:GMT
DTSTART:20251026T010000
END:STANDARD
END:VTIMEZONE
BEGIN:VEVENT
DTSTART;TZID=Europe/London:20250420T220000
DTEND;TZID=Europe/London:20250420T220000
DTSTAMP:20260422T163221
CREATED:20250417T145839Z
LAST-MODIFIED:20250417T145839Z
UID:125909-1745186400-1745186400@www.discovernorthampton.co.uk
SUMMARY:Easter Bank Holiday
DESCRIPTION: EASTER BANK HOLIDAY  Thursday 17th to Sunday 20th April 2025\nJoin us for an egg-cellent Easter Bank Holiday party this April! Weâ€™re celebrating with delicious Easter-themed cocktails\, including our decadent Creme Egg creations. Plus\, get ready for loads of fantastic giveaways throughout the long weekend. Donâ€™t miss out on this cracking fun!\nâ€”â€”â€”â€”â€”â€”â€”â€”â€”â€”â€”â€”â€”â€”â€”â€”â€”â€”â€”â€”â€”-\n Easter Cocktails â€“ £7 each or 2 for £12\n Cadbury Creme Egg Aero Mint Terryâ€™s Chocolate Orange\nâ€”â€”â€”â€”â€”â€”â€”â€”â€”â€”â€”â€”â€”â€”â€”â€”â€”â€”â€”â€”â€”-\n Thursday 17th April 22:00 â€“ 04:00 Free entry & selected drinks from £2.50\n Friday 18th April 22:00 â€“ 04:00 £5 entry & FOMO drink promotions\n Saturday 19th April 22:00 â€“ 04:00 £7 entry b4 12\, £10 after & 2-4-1 on selected drinks before midnight\n Sunday 20th April 22:00 â€“ 04:00 £5 entry & 2-4-1 on selected drinks before midnight
URL:https://www.discovernorthampton.co.uk/event/easter-bank-holiday/2025-04-20/
LOCATION:NBâ€™s\, 25-29 Bridge Street\, Northampton\, NN1 1NS
CATEGORIES:Easter
ATTACH;FMTTYPE=image/jpeg:https://www.discovernorthampton.co.uk/wp-content/uploads/2025/04/488921812_1076195181219188_1702782043339285499_n.jpg
END:VEVENT
BEGIN:VEVENT
DTSTART;TZID=Europe/London:20250419T220000
DTEND;TZID=Europe/London:20250419T220000
DTSTAMP:20260422T163221
CREATED:20250417T145839Z
LAST-MODIFIED:20250417T145839Z
UID:125908-1745100000-1745100000@www.discovernorthampton.co.uk
SUMMARY:Easter Bank Holiday
DESCRIPTION: EASTER BANK HOLIDAY  Thursday 17th to Sunday 20th April 2025\nJoin us for an egg-cellent Easter Bank Holiday party this April! Weâ€™re celebrating with delicious Easter-themed cocktails\, including our decadent Creme Egg creations. Plus\, get ready for loads of fantastic giveaways throughout the long weekend. Donâ€™t miss out on this cracking fun!\nâ€”â€”â€”â€”â€”â€”â€”â€”â€”â€”â€”â€”â€”â€”â€”â€”â€”â€”â€”â€”â€”-\n Easter Cocktails â€“ £7 each or 2 for £12\n Cadbury Creme Egg Aero Mint Terryâ€™s Chocolate Orange\nâ€”â€”â€”â€”â€”â€”â€”â€”â€”â€”â€”â€”â€”â€”â€”â€”â€”â€”â€”â€”â€”-\n Thursday 17th April 22:00 â€“ 04:00 Free entry & selected drinks from £2.50\n Friday 18th April 22:00 â€“ 04:00 £5 entry & FOMO drink promotions\n Saturday 19th April 22:00 â€“ 04:00 £7 entry b4 12\, £10 after & 2-4-1 on selected drinks before midnight\n Sunday 20th April 22:00 â€“ 04:00 £5 entry & 2-4-1 on selected drinks before midnight
URL:https://www.discovernorthampton.co.uk/event/easter-bank-holiday/2025-04-19/
LOCATION:NBâ€™s\, 25-29 Bridge Street\, Northampton\, NN1 1NS
CATEGORIES:Easter
ATTACH;FMTTYPE=image/jpeg:https://www.discovernorthampton.co.uk/wp-content/uploads/2025/04/488921812_1076195181219188_1702782043339285499_n.jpg
END:VEVENT
BEGIN:VEVENT
DTSTART;TZID=Europe/London:20250418T220000
DTEND;TZID=Europe/London:20250418T220000
DTSTAMP:20260422T163221
CREATED:20250417T145839Z
LAST-MODIFIED:20250417T145839Z
UID:125907-1745013600-1745013600@www.discovernorthampton.co.uk
SUMMARY:Easter Bank Holiday
DESCRIPTION: EASTER BANK HOLIDAY  Thursday 17th to Sunday 20th April 2025\nJoin us for an egg-cellent Easter Bank Holiday party this April! Weâ€™re celebrating with delicious Easter-themed cocktails\, including our decadent Creme Egg creations. Plus\, get ready for loads of fantastic giveaways throughout the long weekend. Donâ€™t miss out on this cracking fun!\nâ€”â€”â€”â€”â€”â€”â€”â€”â€”â€”â€”â€”â€”â€”â€”â€”â€”â€”â€”â€”â€”-\n Easter Cocktails â€“ £7 each or 2 for £12\n Cadbury Creme Egg Aero Mint Terryâ€™s Chocolate Orange\nâ€”â€”â€”â€”â€”â€”â€”â€”â€”â€”â€”â€”â€”â€”â€”â€”â€”â€”â€”â€”â€”-\n Thursday 17th April 22:00 â€“ 04:00 Free entry & selected drinks from £2.50\n Friday 18th April 22:00 â€“ 04:00 £5 entry & FOMO drink promotions\n Saturday 19th April 22:00 â€“ 04:00 £7 entry b4 12\, £10 after & 2-4-1 on selected drinks before midnight\n Sunday 20th April 22:00 â€“ 04:00 £5 entry & 2-4-1 on selected drinks before midnight
URL:https://www.discovernorthampton.co.uk/event/easter-bank-holiday/2025-04-18/
LOCATION:NBâ€™s\, 25-29 Bridge Street\, Northampton\, NN1 1NS
CATEGORIES:Easter
ATTACH;FMTTYPE=image/jpeg:https://www.discovernorthampton.co.uk/wp-content/uploads/2025/04/488921812_1076195181219188_1702782043339285499_n.jpg
END:VEVENT
BEGIN:VEVENT
DTSTART;TZID=Europe/London:20250417T220000
DTEND;TZID=Europe/London:20250417T220000
DTSTAMP:20260422T163221
CREATED:20250417T145839Z
LAST-MODIFIED:20250417T145839Z
UID:125901-1744927200-1744927200@www.discovernorthampton.co.uk
SUMMARY:Easter Bank Holiday
DESCRIPTION: EASTER BANK HOLIDAY  Thursday 17th to Sunday 20th April 2025\nJoin us for an egg-cellent Easter Bank Holiday party this April! Weâ€™re celebrating with delicious Easter-themed cocktails\, including our decadent Creme Egg creations. Plus\, get ready for loads of fantastic giveaways throughout the long weekend. Donâ€™t miss out on this cracking fun!\nâ€”â€”â€”â€”â€”â€”â€”â€”â€”â€”â€”â€”â€”â€”â€”â€”â€”â€”â€”â€”â€”-\n Easter Cocktails â€“ £7 each or 2 for £12\n Cadbury Creme Egg Aero Mint Terryâ€™s Chocolate Orange\nâ€”â€”â€”â€”â€”â€”â€”â€”â€”â€”â€”â€”â€”â€”â€”â€”â€”â€”â€”â€”â€”-\n Thursday 17th April 22:00 â€“ 04:00 Free entry & selected drinks from £2.50\n Friday 18th April 22:00 â€“ 04:00 £5 entry & FOMO drink promotions\n Saturday 19th April 22:00 â€“ 04:00 £7 entry b4 12\, £10 after & 2-4-1 on selected drinks before midnight\n Sunday 20th April 22:00 â€“ 04:00 £5 entry & 2-4-1 on selected drinks before midnight
URL:https://www.discovernorthampton.co.uk/event/easter-bank-holiday/2025-04-17/
LOCATION:NBâ€™s\, 25-29 Bridge Street\, Northampton\, NN1 1NS
CATEGORIES:Easter
ATTACH;FMTTYPE=image/jpeg:https://www.discovernorthampton.co.uk/wp-content/uploads/2025/04/488921812_1076195181219188_1702782043339285499_n.jpg
END:VEVENT
END:VCALENDAR