BEGIN:VCALENDAR
VERSION:2.0
PRODID:-//Northampton BID - ECPv6.2.4//NONSGML v1.0//EN
CALSCALE:GREGORIAN
METHOD:PUBLISH
X-WR-CALNAME:Northampton BID
X-ORIGINAL-URL:https://www.discovernorthampton.co.uk
X-WR-CALDESC:Events for Northampton BID
REFRESH-INTERVAL;VALUE=DURATION:PT1H
X-Robots-Tag:noindex
X-PUBLISHED-TTL:PT1H
BEGIN:VTIMEZONE
TZID:Europe/London
BEGIN:DAYLIGHT
TZOFFSETFROM:+0000
TZOFFSETTO:+0100
TZNAME:BST
DTSTART:20220327T010000
END:DAYLIGHT
BEGIN:STANDARD
TZOFFSETFROM:+0100
TZOFFSETTO:+0000
TZNAME:GMT
DTSTART:20221030T010000
END:STANDARD
END:VTIMEZONE
BEGIN:VEVENT
DTSTART;VALUE=DATE:20220729
DTEND;VALUE=DATE:20220730
DTSTAMP:20260426T022053
CREATED:20220726T134547Z
LAST-MODIFIED:20220726T135518Z
UID:109658-1659052800-1659139199@www.discovernorthampton.co.uk
SUMMARY:Live Music at The Fish
DESCRIPTION:Enjoy a weekend of live music at The Fish Pub \nLu Angel performing on Friday night from 9pm \nJennah performing on Saturday from 2:30pm \nCameron Grace performing on Saturday from 6:30pm \nDaniel Butterworth performing on Saturday from 9pm \nAdam The Greek performing on Sunday from 2pm \nEnjoy!
URL:https://www.discovernorthampton.co.uk/event/live-music-at-the-fish/2022-07-29/
LOCATION:The Fish Pub\, 11 Fish St\, Northampton\, Northamptonshire\, NN1 2AA\, United Kingdom
CATEGORIES:Festival
ATTACH;FMTTYPE=image/jpeg:https://www.discovernorthampton.co.uk/wp-content/uploads/2022/07/rfm.jpg
END:VEVENT
END:VCALENDAR