BEGIN:VCALENDAR
VERSION:2.0
PRODID:-//Northampton BID - ECPv6.2.4//NONSGML v1.0//EN
CALSCALE:GREGORIAN
METHOD:PUBLISH
X-ORIGINAL-URL:https://www.discovernorthampton.co.uk
X-WR-CALDESC:Events for Northampton BID
REFRESH-INTERVAL;VALUE=DURATION:PT1H
X-Robots-Tag:noindex
X-PUBLISHED-TTL:PT1H
BEGIN:VTIMEZONE
TZID:Europe/London
BEGIN:DAYLIGHT
TZOFFSETFROM:+0000
TZOFFSETTO:+0100
TZNAME:BST
DTSTART:20240331T010000
END:DAYLIGHT
BEGIN:STANDARD
TZOFFSETFROM:+0100
TZOFFSETTO:+0000
TZNAME:GMT
DTSTART:20241027T010000
END:STANDARD
END:VTIMEZONE
BEGIN:VEVENT
DTSTART;TZID=Europe/London:20240608T193000
DTEND;TZID=Europe/London:20240608T213000
DTSTAMP:20260420T184217
CREATED:20240524T102640Z
LAST-MODIFIED:20240524T102640Z
UID:119824-1717875000-1717882200@www.discovernorthampton.co.uk
SUMMARY:Maggie & Me
DESCRIPTION:“Don’t you worry. I’ll always love you. Love doesn’t run out. It’s not like the gas meter. I’ll find extra love.” \nBrighton\, 2008: Damian Barr celebrates getting a deal to write a memoir about his chaotic childhood in 1980s Lanarkshire. But as soon as he opens the door to his troubled past\, everybody comes rushing through\, including his younger self and the woman who forever changes his family\, community and country: Maggie Thatcher. \nSoon\, revisiting his past turns into reliving it – the fear and the joy. From the furnaces of the Ravenscraig Steelworks to the sanctuary of Carfin Grotto\, there’s trauma and triumph\, coming of age and coming out. Can Damian survive his past again\, find his voice and finally tell his story?\nPast and present collide\, endangering the future\, in the world premiere stage adaptation of modern Scottish classic Maggie & Me (Sunday Times Memoir of the Year). \nDamian Barr\, James Ley and director Suba Das team up for this bold new production\, with an incredible ensemble cast led by Gary Lamont (Boiling Point\, Outlander). Join us on an explosive quest that tells the story of a particular place and time through Damian’s childhood. Before you can move forwards\, you have to go back… \nWritten by Damian Barr and James Ley\nAdapted from the memoir by Damian Barr\nDirected by Suba Das \nA National Theatre of Scotland production
URL:https://www.discovernorthampton.co.uk/event/maggie-me-2/2024-06-08/2/
LOCATION:Royal and Derngate Theatre\, 19-21 Guildhall Road\, Northampton\, Northamptonshire\, NN1 1DP
ATTACH;FMTTYPE=image/png:https://www.discovernorthampton.co.uk/wp-content/uploads/2024/05/RD-Re-spec-1170x476-1.png
ORGANIZER;CN="Royal and Derngate":MAILTO:BoxOffice@royalandderngate.co.uk
END:VEVENT
BEGIN:VEVENT
DTSTART;TZID=Europe/London:20240608T143000
DTEND;TZID=Europe/London:20240608T163000
DTSTAMP:20260420T184217
CREATED:20240524T102640Z
LAST-MODIFIED:20240524T102640Z
UID:119823-1717857000-1717864200@www.discovernorthampton.co.uk
SUMMARY:Maggie & Me
DESCRIPTION:“Don’t you worry. I’ll always love you. Love doesn’t run out. It’s not like the gas meter. I’ll find extra love.” \nBrighton\, 2008: Damian Barr celebrates getting a deal to write a memoir about his chaotic childhood in 1980s Lanarkshire. But as soon as he opens the door to his troubled past\, everybody comes rushing through\, including his younger self and the woman who forever changes his family\, community and country: Maggie Thatcher. \nSoon\, revisiting his past turns into reliving it – the fear and the joy. From the furnaces of the Ravenscraig Steelworks to the sanctuary of Carfin Grotto\, there’s trauma and triumph\, coming of age and coming out. Can Damian survive his past again\, find his voice and finally tell his story?\nPast and present collide\, endangering the future\, in the world premiere stage adaptation of modern Scottish classic Maggie & Me (Sunday Times Memoir of the Year). \nDamian Barr\, James Ley and director Suba Das team up for this bold new production\, with an incredible ensemble cast led by Gary Lamont (Boiling Point\, Outlander). Join us on an explosive quest that tells the story of a particular place and time through Damian’s childhood. Before you can move forwards\, you have to go back… \nWritten by Damian Barr and James Ley\nAdapted from the memoir by Damian Barr\nDirected by Suba Das \nA National Theatre of Scotland production
URL:https://www.discovernorthampton.co.uk/event/maggie-me-2/2024-06-08/
LOCATION:Royal and Derngate Theatre\, 19-21 Guildhall Road\, Northampton\, Northamptonshire\, NN1 1DP
ATTACH;FMTTYPE=image/png:https://www.discovernorthampton.co.uk/wp-content/uploads/2024/05/RD-Re-spec-1170x476-1.png
ORGANIZER;CN="Royal and Derngate":MAILTO:BoxOffice@royalandderngate.co.uk
END:VEVENT
BEGIN:VEVENT
DTSTART;TZID=Europe/London:20240607T193000
DTEND;TZID=Europe/London:20240607T213000
DTSTAMP:20260420T184217
CREATED:20240524T102640Z
LAST-MODIFIED:20240524T102640Z
UID:119822-1717788600-1717795800@www.discovernorthampton.co.uk
SUMMARY:Maggie & Me
DESCRIPTION:“Don’t you worry. I’ll always love you. Love doesn’t run out. It’s not like the gas meter. I’ll find extra love.” \nBrighton\, 2008: Damian Barr celebrates getting a deal to write a memoir about his chaotic childhood in 1980s Lanarkshire. But as soon as he opens the door to his troubled past\, everybody comes rushing through\, including his younger self and the woman who forever changes his family\, community and country: Maggie Thatcher. \nSoon\, revisiting his past turns into reliving it – the fear and the joy. From the furnaces of the Ravenscraig Steelworks to the sanctuary of Carfin Grotto\, there’s trauma and triumph\, coming of age and coming out. Can Damian survive his past again\, find his voice and finally tell his story?\nPast and present collide\, endangering the future\, in the world premiere stage adaptation of modern Scottish classic Maggie & Me (Sunday Times Memoir of the Year). \nDamian Barr\, James Ley and director Suba Das team up for this bold new production\, with an incredible ensemble cast led by Gary Lamont (Boiling Point\, Outlander). Join us on an explosive quest that tells the story of a particular place and time through Damian’s childhood. Before you can move forwards\, you have to go back… \nWritten by Damian Barr and James Ley\nAdapted from the memoir by Damian Barr\nDirected by Suba Das \nA National Theatre of Scotland production
URL:https://www.discovernorthampton.co.uk/event/maggie-me-2/2024-06-07/
LOCATION:Royal and Derngate Theatre\, 19-21 Guildhall Road\, Northampton\, Northamptonshire\, NN1 1DP
ATTACH;FMTTYPE=image/png:https://www.discovernorthampton.co.uk/wp-content/uploads/2024/05/RD-Re-spec-1170x476-1.png
ORGANIZER;CN="Royal and Derngate":MAILTO:BoxOffice@royalandderngate.co.uk
END:VEVENT
BEGIN:VEVENT
DTSTART;TZID=Europe/London:20240606T193000
DTEND;TZID=Europe/London:20240606T213000
DTSTAMP:20260420T184217
CREATED:20240524T102640Z
LAST-MODIFIED:20240524T102732Z
UID:119819-1717702200-1717709400@www.discovernorthampton.co.uk
SUMMARY:Maggie & Me
DESCRIPTION:“Don’t you worry. I’ll always love you. Love doesn’t run out. It’s not like the gas meter. I’ll find extra love.” \nBrighton\, 2008: Damian Barr celebrates getting a deal to write a memoir about his chaotic childhood in 1980s Lanarkshire. But as soon as he opens the door to his troubled past\, everybody comes rushing through\, including his younger self and the woman who forever changes his family\, community and country: Maggie Thatcher. \nSoon\, revisiting his past turns into reliving it – the fear and the joy. From the furnaces of the Ravenscraig Steelworks to the sanctuary of Carfin Grotto\, there’s trauma and triumph\, coming of age and coming out. Can Damian survive his past again\, find his voice and finally tell his story?\nPast and present collide\, endangering the future\, in the world premiere stage adaptation of modern Scottish classic Maggie & Me (Sunday Times Memoir of the Year). \nDamian Barr\, James Ley and director Suba Das team up for this bold new production\, with an incredible ensemble cast led by Gary Lamont (Boiling Point\, Outlander). Join us on an explosive quest that tells the story of a particular place and time through Damian’s childhood. Before you can move forwards\, you have to go back… \nWritten by Damian Barr and James Ley\nAdapted from the memoir by Damian Barr\nDirected by Suba Das \nA National Theatre of Scotland production
URL:https://www.discovernorthampton.co.uk/event/maggie-me-2/2024-06-06/
LOCATION:Royal and Derngate Theatre\, 19-21 Guildhall Road\, Northampton\, Northamptonshire\, NN1 1DP
ATTACH;FMTTYPE=image/png:https://www.discovernorthampton.co.uk/wp-content/uploads/2024/05/RD-Re-spec-1170x476-1.png
ORGANIZER;CN="Royal and Derngate":MAILTO:BoxOffice@royalandderngate.co.uk
END:VEVENT
END:VCALENDAR