BEGIN:VCALENDAR
VERSION:2.0
PRODID:-//Northampton BID - ECPv6.2.4//NONSGML v1.0//EN
CALSCALE:GREGORIAN
METHOD:PUBLISH
X-ORIGINAL-URL:https://www.discovernorthampton.co.uk
X-WR-CALDESC:Events for Northampton BID
REFRESH-INTERVAL;VALUE=DURATION:PT1H
X-Robots-Tag:noindex
X-PUBLISHED-TTL:PT1H
BEGIN:VTIMEZONE
TZID:Europe/London
BEGIN:DAYLIGHT
TZOFFSETFROM:+0000
TZOFFSETTO:+0100
TZNAME:BST
DTSTART:20240331T010000
END:DAYLIGHT
BEGIN:STANDARD
TZOFFSETFROM:+0100
TZOFFSETTO:+0000
TZNAME:GMT
DTSTART:20241027T010000
END:STANDARD
END:VTIMEZONE
BEGIN:VEVENT
DTSTART;TZID=Europe/London:20240120T140000
DTEND;TZID=Europe/London:20240120T160000
DTSTAMP:20260419T145541
CREATED:20240102T145557Z
LAST-MODIFIED:20240102T145557Z
UID:117714-1705759200-1705766400@www.discovernorthampton.co.uk
SUMMARY:Shen Yun
DESCRIPTION:Experience China before communism\n\n\n\n\n\n\nThe moment the curtain opens\, you enter a wondrous dream. \nShen Yun takes you on an extraordinary journey through China’s 5\,000 years of divinely inspired culture. \nExquisite beauty from the heavens\, profound wisdom from dynasties past\, timeless legends and ethnic traditions all spring to life through classical Chinese dance\, enchanting live orchestral music\, authentic costumes\, and patented interactive backdrops. Revisit a time when scholars and artists sought harmony with the Tao\, or the “Way” of the universe\, and when divine beings walked upon the earth to inspire humanity. \nJoin us for a night filled with beauty and wisdom\, courage and hope… it’s the experience of a lifetime! See Shen Yun—live on stage.
URL:https://www.discovernorthampton.co.uk/event/shen-yun/2024-01-20/
LOCATION:Royal and Derngate Theatre\, 19-21 Guildhall Road\, Northampton\, Northamptonshire\, NN1 1DP
ATTACH;FMTTYPE=image/jpeg:https://www.discovernorthampton.co.uk/wp-content/uploads/2024/01/Website-Image-1-1170x476-1.jpg
ORGANIZER;CN="Royal and Derngate":MAILTO:BoxOffice@royalandderngate.co.uk
END:VEVENT
END:VCALENDAR