BEGIN:VCALENDAR
VERSION:2.0
PRODID:-//Northampton BID - ECPv6.2.4//NONSGML v1.0//EN
CALSCALE:GREGORIAN
METHOD:PUBLISH
X-WR-CALNAME:Northampton BID
X-ORIGINAL-URL:https://www.discovernorthampton.co.uk
X-WR-CALDESC:Events for Northampton BID
REFRESH-INTERVAL;VALUE=DURATION:PT1H
X-Robots-Tag:noindex
X-PUBLISHED-TTL:PT1H
BEGIN:VTIMEZONE
TZID:Europe/London
BEGIN:DAYLIGHT
TZOFFSETFROM:+0000
TZOFFSETTO:+0100
TZNAME:BST
DTSTART:20240331T010000
END:DAYLIGHT
BEGIN:STANDARD
TZOFFSETFROM:+0100
TZOFFSETTO:+0000
TZNAME:GMT
DTSTART:20241027T010000
END:STANDARD
END:VTIMEZONE
BEGIN:VEVENT
DTSTART;TZID=Europe/London:20240427T193000
DTEND;TZID=Europe/London:20240427T213000
DTSTAMP:20260425T204151
CREATED:20240321T105431Z
LAST-MODIFIED:20240321T105431Z
UID:119083-1714246200-1714253400@www.discovernorthampton.co.uk
SUMMARY:Shrek The Musical
DESCRIPTION:A THRILL FOR THEATRE?LOVERS OF ALL AGES’ – Manchester Evening News \nGet ready to leave your troubles Far Far Away and embark on an unforgettable adventure filled with laughter\, love\, and ogre-sized fun. \nJoin Shrek and his trusty sidekick Donkey as they set out on a quest to defeat the fearsome dragon and rescue the beautiful Princess Fiona. With a heart-warming story and a cast of unforgettable characters\, this musical extravaganza is a journey you won’t want to miss. \nThe show is set to a toe-tapping soundtrack featuring fabulous songs like ‘I’m A Believer‘\, ‘Big Bright Beautiful World‘ and ‘I Know It’s Today‘. These tunes will have you humming all the way home. It’s the perfect night out for the whole family\, offering an award-winning show that promises a musical spectacular for big kids and little kids alike. \nOur stellar cast is led by theatre legend Antony Lawrence as Shrek\, whose ‘powerful voice fills the theatre and makes him instantly lovable’ (Twit Celeb Gossip). His previous credits include: The Lion King\, Mary Poppins\, Matilda the Musical\, and We Will Rock You. Strictly Come Dancing star and leading lady Joanne Clifton is ‘An absolute revelation as Princess Fiona’ (Cheshire Live). Previous credits include: Strictly Come Dancing and The Addams Family. Olivier-Award nominated James Gillan is ‘As magnificent a villain as you could hope for’ (Great British Life) as the evil Lord Farquaad. His previous credits include: Everybody’s Talking About Jamie\, Wicked and Taboo! Theatre favourite Brandon Lee Sears’ ‘exuberant performance does Eddie Murphy proud’ (Love Dublin) as the loveable Donkey. His previous credits include: Dreamgirls\, Come From Away and Motown. \nBook your tickets today and get ready for an unforgettable journey with Shrek and his friends – because in this kingdom\, everyone is a part of the adventure!
URL:https://www.discovernorthampton.co.uk/event/shrek-the-musical/2024-04-27/3/
LOCATION:Royal and Derngate Theatre\, 19-21 Guildhall Road\, Northampton\, Northamptonshire\, NN1 1DP
ATTACH;FMTTYPE=image/jpeg:https://www.discovernorthampton.co.uk/wp-content/uploads/2024/03/ShrekP4-NHam-2340x1750px-1170x476-1.jpg
ORGANIZER;CN="Royal and Derngate":MAILTO:BoxOffice@royalandderngate.co.uk
END:VEVENT
BEGIN:VEVENT
DTSTART;TZID=Europe/London:20240427T143000
DTEND;TZID=Europe/London:20240427T163000
DTSTAMP:20260425T204151
CREATED:20240321T105431Z
LAST-MODIFIED:20240321T105431Z
UID:119082-1714228200-1714235400@www.discovernorthampton.co.uk
SUMMARY:Shrek The Musical
DESCRIPTION:A THRILL FOR THEATRE?LOVERS OF ALL AGES’ – Manchester Evening News \nGet ready to leave your troubles Far Far Away and embark on an unforgettable adventure filled with laughter\, love\, and ogre-sized fun. \nJoin Shrek and his trusty sidekick Donkey as they set out on a quest to defeat the fearsome dragon and rescue the beautiful Princess Fiona. With a heart-warming story and a cast of unforgettable characters\, this musical extravaganza is a journey you won’t want to miss. \nThe show is set to a toe-tapping soundtrack featuring fabulous songs like ‘I’m A Believer‘\, ‘Big Bright Beautiful World‘ and ‘I Know It’s Today‘. These tunes will have you humming all the way home. It’s the perfect night out for the whole family\, offering an award-winning show that promises a musical spectacular for big kids and little kids alike. \nOur stellar cast is led by theatre legend Antony Lawrence as Shrek\, whose ‘powerful voice fills the theatre and makes him instantly lovable’ (Twit Celeb Gossip). His previous credits include: The Lion King\, Mary Poppins\, Matilda the Musical\, and We Will Rock You. Strictly Come Dancing star and leading lady Joanne Clifton is ‘An absolute revelation as Princess Fiona’ (Cheshire Live). Previous credits include: Strictly Come Dancing and The Addams Family. Olivier-Award nominated James Gillan is ‘As magnificent a villain as you could hope for’ (Great British Life) as the evil Lord Farquaad. His previous credits include: Everybody’s Talking About Jamie\, Wicked and Taboo! Theatre favourite Brandon Lee Sears’ ‘exuberant performance does Eddie Murphy proud’ (Love Dublin) as the loveable Donkey. His previous credits include: Dreamgirls\, Come From Away and Motown. \nBook your tickets today and get ready for an unforgettable journey with Shrek and his friends – because in this kingdom\, everyone is a part of the adventure!
URL:https://www.discovernorthampton.co.uk/event/shrek-the-musical/2024-04-27/
LOCATION:Royal and Derngate Theatre\, 19-21 Guildhall Road\, Northampton\, Northamptonshire\, NN1 1DP
ATTACH;FMTTYPE=image/jpeg:https://www.discovernorthampton.co.uk/wp-content/uploads/2024/03/ShrekP4-NHam-2340x1750px-1170x476-1.jpg
ORGANIZER;CN="Royal and Derngate":MAILTO:BoxOffice@royalandderngate.co.uk
END:VEVENT
BEGIN:VEVENT
DTSTART;TZID=Europe/London:20240426T193000
DTEND;TZID=Europe/London:20240426T213000
DTSTAMP:20260425T204151
CREATED:20240321T105431Z
LAST-MODIFIED:20240321T105431Z
UID:119081-1714159800-1714167000@www.discovernorthampton.co.uk
SUMMARY:Shrek The Musical
DESCRIPTION:A THRILL FOR THEATRE?LOVERS OF ALL AGES’ – Manchester Evening News \nGet ready to leave your troubles Far Far Away and embark on an unforgettable adventure filled with laughter\, love\, and ogre-sized fun. \nJoin Shrek and his trusty sidekick Donkey as they set out on a quest to defeat the fearsome dragon and rescue the beautiful Princess Fiona. With a heart-warming story and a cast of unforgettable characters\, this musical extravaganza is a journey you won’t want to miss. \nThe show is set to a toe-tapping soundtrack featuring fabulous songs like ‘I’m A Believer‘\, ‘Big Bright Beautiful World‘ and ‘I Know It’s Today‘. These tunes will have you humming all the way home. It’s the perfect night out for the whole family\, offering an award-winning show that promises a musical spectacular for big kids and little kids alike. \nOur stellar cast is led by theatre legend Antony Lawrence as Shrek\, whose ‘powerful voice fills the theatre and makes him instantly lovable’ (Twit Celeb Gossip). His previous credits include: The Lion King\, Mary Poppins\, Matilda the Musical\, and We Will Rock You. Strictly Come Dancing star and leading lady Joanne Clifton is ‘An absolute revelation as Princess Fiona’ (Cheshire Live). Previous credits include: Strictly Come Dancing and The Addams Family. Olivier-Award nominated James Gillan is ‘As magnificent a villain as you could hope for’ (Great British Life) as the evil Lord Farquaad. His previous credits include: Everybody’s Talking About Jamie\, Wicked and Taboo! Theatre favourite Brandon Lee Sears’ ‘exuberant performance does Eddie Murphy proud’ (Love Dublin) as the loveable Donkey. His previous credits include: Dreamgirls\, Come From Away and Motown. \nBook your tickets today and get ready for an unforgettable journey with Shrek and his friends – because in this kingdom\, everyone is a part of the adventure!
URL:https://www.discovernorthampton.co.uk/event/shrek-the-musical/2024-04-26/
LOCATION:Royal and Derngate Theatre\, 19-21 Guildhall Road\, Northampton\, Northamptonshire\, NN1 1DP
ATTACH;FMTTYPE=image/jpeg:https://www.discovernorthampton.co.uk/wp-content/uploads/2024/03/ShrekP4-NHam-2340x1750px-1170x476-1.jpg
ORGANIZER;CN="Royal and Derngate":MAILTO:BoxOffice@royalandderngate.co.uk
END:VEVENT
BEGIN:VEVENT
DTSTART;TZID=Europe/London:20240425T193000
DTEND;TZID=Europe/London:20240425T213000
DTSTAMP:20260425T204151
CREATED:20240321T105431Z
LAST-MODIFIED:20240321T105431Z
UID:119080-1714073400-1714080600@www.discovernorthampton.co.uk
SUMMARY:Shrek The Musical
DESCRIPTION:A THRILL FOR THEATRE?LOVERS OF ALL AGES’ – Manchester Evening News \nGet ready to leave your troubles Far Far Away and embark on an unforgettable adventure filled with laughter\, love\, and ogre-sized fun. \nJoin Shrek and his trusty sidekick Donkey as they set out on a quest to defeat the fearsome dragon and rescue the beautiful Princess Fiona. With a heart-warming story and a cast of unforgettable characters\, this musical extravaganza is a journey you won’t want to miss. \nThe show is set to a toe-tapping soundtrack featuring fabulous songs like ‘I’m A Believer‘\, ‘Big Bright Beautiful World‘ and ‘I Know It’s Today‘. These tunes will have you humming all the way home. It’s the perfect night out for the whole family\, offering an award-winning show that promises a musical spectacular for big kids and little kids alike. \nOur stellar cast is led by theatre legend Antony Lawrence as Shrek\, whose ‘powerful voice fills the theatre and makes him instantly lovable’ (Twit Celeb Gossip). His previous credits include: The Lion King\, Mary Poppins\, Matilda the Musical\, and We Will Rock You. Strictly Come Dancing star and leading lady Joanne Clifton is ‘An absolute revelation as Princess Fiona’ (Cheshire Live). Previous credits include: Strictly Come Dancing and The Addams Family. Olivier-Award nominated James Gillan is ‘As magnificent a villain as you could hope for’ (Great British Life) as the evil Lord Farquaad. His previous credits include: Everybody’s Talking About Jamie\, Wicked and Taboo! Theatre favourite Brandon Lee Sears’ ‘exuberant performance does Eddie Murphy proud’ (Love Dublin) as the loveable Donkey. His previous credits include: Dreamgirls\, Come From Away and Motown. \nBook your tickets today and get ready for an unforgettable journey with Shrek and his friends – because in this kingdom\, everyone is a part of the adventure!
URL:https://www.discovernorthampton.co.uk/event/shrek-the-musical/2024-04-25/
LOCATION:Royal and Derngate Theatre\, 19-21 Guildhall Road\, Northampton\, Northamptonshire\, NN1 1DP
ATTACH;FMTTYPE=image/jpeg:https://www.discovernorthampton.co.uk/wp-content/uploads/2024/03/ShrekP4-NHam-2340x1750px-1170x476-1.jpg
ORGANIZER;CN="Royal and Derngate":MAILTO:BoxOffice@royalandderngate.co.uk
END:VEVENT
BEGIN:VEVENT
DTSTART;TZID=Europe/London:20240323T193000
DTEND;TZID=Europe/London:20240323T213000
DTSTAMP:20260425T204151
CREATED:20240321T105431Z
LAST-MODIFIED:20240321T105431Z
UID:119075-1711222200-1711229400@www.discovernorthampton.co.uk
SUMMARY:Shrek The Musical
DESCRIPTION:A THRILL FOR THEATRE?LOVERS OF ALL AGES’ – Manchester Evening News \nGet ready to leave your troubles Far Far Away and embark on an unforgettable adventure filled with laughter\, love\, and ogre-sized fun. \nJoin Shrek and his trusty sidekick Donkey as they set out on a quest to defeat the fearsome dragon and rescue the beautiful Princess Fiona. With a heart-warming story and a cast of unforgettable characters\, this musical extravaganza is a journey you won’t want to miss. \nThe show is set to a toe-tapping soundtrack featuring fabulous songs like ‘I’m A Believer‘\, ‘Big Bright Beautiful World‘ and ‘I Know It’s Today‘. These tunes will have you humming all the way home. It’s the perfect night out for the whole family\, offering an award-winning show that promises a musical spectacular for big kids and little kids alike. \nOur stellar cast is led by theatre legend Antony Lawrence as Shrek\, whose ‘powerful voice fills the theatre and makes him instantly lovable’ (Twit Celeb Gossip). His previous credits include: The Lion King\, Mary Poppins\, Matilda the Musical\, and We Will Rock You. Strictly Come Dancing star and leading lady Joanne Clifton is ‘An absolute revelation as Princess Fiona’ (Cheshire Live). Previous credits include: Strictly Come Dancing and The Addams Family. Olivier-Award nominated James Gillan is ‘As magnificent a villain as you could hope for’ (Great British Life) as the evil Lord Farquaad. His previous credits include: Everybody’s Talking About Jamie\, Wicked and Taboo! Theatre favourite Brandon Lee Sears’ ‘exuberant performance does Eddie Murphy proud’ (Love Dublin) as the loveable Donkey. His previous credits include: Dreamgirls\, Come From Away and Motown. \nBook your tickets today and get ready for an unforgettable journey with Shrek and his friends – because in this kingdom\, everyone is a part of the adventure!
URL:https://www.discovernorthampton.co.uk/event/shrek-the-musical/2024-03-23/
LOCATION:Royal and Derngate Theatre\, 19-21 Guildhall Road\, Northampton\, Northamptonshire\, NN1 1DP
ATTACH;FMTTYPE=image/jpeg:https://www.discovernorthampton.co.uk/wp-content/uploads/2024/03/ShrekP4-NHam-2340x1750px-1170x476-1.jpg
ORGANIZER;CN="Royal and Derngate":MAILTO:BoxOffice@royalandderngate.co.uk
END:VEVENT
END:VCALENDAR