BEGIN:VCALENDAR
VERSION:2.0
PRODID:-//Northampton BID - ECPv6.2.4//NONSGML v1.0//EN
CALSCALE:GREGORIAN
METHOD:PUBLISH
X-WR-CALNAME:Northampton BID
X-ORIGINAL-URL:https://www.discovernorthampton.co.uk
X-WR-CALDESC:Events for Northampton BID
REFRESH-INTERVAL;VALUE=DURATION:PT1H
X-Robots-Tag:noindex
X-PUBLISHED-TTL:PT1H
BEGIN:VTIMEZONE
TZID:Europe/London
BEGIN:DAYLIGHT
TZOFFSETFROM:+0000
TZOFFSETTO:+0100
TZNAME:BST
DTSTART:20240331T010000
END:DAYLIGHT
BEGIN:STANDARD
TZOFFSETFROM:+0100
TZOFFSETTO:+0000
TZNAME:GMT
DTSTART:20241027T010000
END:STANDARD
END:VTIMEZONE
BEGIN:VEVENT
DTSTART;TZID=Europe/London:20240504T193000
DTEND;TZID=Europe/London:20240504T213000
DTSTAMP:20260421T010239
CREATED:20240326T143359Z
LAST-MODIFIED:20240326T143359Z
UID:119182-1714851000-1714858200@www.discovernorthampton.co.uk
SUMMARY:The Mikado – Northampton Gilbert & Sullivan Group
DESCRIPTION:“In our 70th anniversary year the Northampton Gilbert & Sullivan Group are thrilled to be returning to the stage with a brand-new production of The Mikado. \nThis perennial family favourite was the group’s first production\, and it seems only fitting for us to be starting our next 70 years with the same show. \nThe Mikado is\, without doubt\, the most popular of Gilbert & Sullivan’s operettas\, and it is no wonder as the story skilfully combines colourful characters\, memorable music\, with an underlying tale of power\, corruption\, love\, betrothal and sycophancy……
URL:https://www.discovernorthampton.co.uk/event/the-mikado-northampton-gilbert-sullivan-group/2024-05-04/
LOCATION:The Old Savoy â€“ The home of The Deco Theatre\, Abington Square\, Northampton\, Northamptonshire\, NN1 4AE
ATTACH;FMTTYPE=image/jpeg:https://www.discovernorthampton.co.uk/wp-content/uploads/2024/03/Mikado-small-logo-300x284-1.jpg
ORGANIZER;CN="The Deco":MAILTO:Toni@stage-right.co.uk
END:VEVENT
BEGIN:VEVENT
DTSTART;TZID=Europe/London:20240430T193000
DTEND;TZID=Europe/London:20240430T213000
DTSTAMP:20260421T010239
CREATED:20240326T143359Z
LAST-MODIFIED:20240326T143359Z
UID:119179-1714505400-1714512600@www.discovernorthampton.co.uk
SUMMARY:The Mikado – Northampton Gilbert & Sullivan Group
DESCRIPTION:“In our 70th anniversary year the Northampton Gilbert & Sullivan Group are thrilled to be returning to the stage with a brand-new production of The Mikado. \nThis perennial family favourite was the group’s first production\, and it seems only fitting for us to be starting our next 70 years with the same show. \nThe Mikado is\, without doubt\, the most popular of Gilbert & Sullivan’s operettas\, and it is no wonder as the story skilfully combines colourful characters\, memorable music\, with an underlying tale of power\, corruption\, love\, betrothal and sycophancy……
URL:https://www.discovernorthampton.co.uk/event/the-mikado-northampton-gilbert-sullivan-group/2024-04-30/
LOCATION:The Old Savoy â€“ The home of The Deco Theatre\, Abington Square\, Northampton\, Northamptonshire\, NN1 4AE
ATTACH;FMTTYPE=image/jpeg:https://www.discovernorthampton.co.uk/wp-content/uploads/2024/03/Mikado-small-logo-300x284-1.jpg
ORGANIZER;CN="The Deco":MAILTO:Toni@stage-right.co.uk
END:VEVENT
END:VCALENDAR