BEGIN:VCALENDAR
VERSION:2.0
PRODID:-//Northampton BID - ECPv6.2.4//NONSGML v1.0//EN
CALSCALE:GREGORIAN
METHOD:PUBLISH
X-ORIGINAL-URL:https://www.discovernorthampton.co.uk
X-WR-CALDESC:Events for Northampton BID
REFRESH-INTERVAL;VALUE=DURATION:PT1H
X-Robots-Tag:noindex
X-PUBLISHED-TTL:PT1H
BEGIN:VTIMEZONE
TZID:Europe/London
BEGIN:DAYLIGHT
TZOFFSETFROM:+0000
TZOFFSETTO:+0100
TZNAME:BST
DTSTART:20260329T010000
END:DAYLIGHT
BEGIN:STANDARD
TZOFFSETFROM:+0100
TZOFFSETTO:+0000
TZNAME:GMT
DTSTART:20261025T010000
END:STANDARD
END:VTIMEZONE
BEGIN:VEVENT
DTSTART;TZID=Europe/London:20260507T163000
DTEND;TZID=Europe/London:20260507T163000
DTSTAMP:20260420T073001
CREATED:20260418T093344Z
LAST-MODIFIED:20260418T093344Z
UID:136150-1778171400-1778171400@www.discovernorthampton.co.uk
SUMMARY:Zog
DESCRIPTION:‘I’m not braggin’ but I’m a dragon’ \nJulia Donaldson and Axel Scheffler’s classic\, feel-good story is brought to roaring\, soaring life in this delightful musical for children. \nZog is the keenest dragon in Madam Dragon’s school.  He’s also the most accident-prone\, flying into trees\, and even setting his own wing alight.  Thankfully\, a kind girl comes along to patch up his scratches and scrapes – but can she help him with his biggest challenge yet\, so that he can finally win a golden star? \nThis charming smash-hit show\, from the producers of Stick Man and Zog and the Flying Doctors and featuring joyful songs by Joe Stilgoe and beautiful puppets by Little Angel\, is a treat for children and adults alike.
URL:https://www.discovernorthampton.co.uk/event/zog-2/2026-05-07/
LOCATION:Royal and Derngate Theatre\, 19-21 Guildhall Road\, Northampton\, Northamptonshire\, NN1 1DP
CATEGORIES:Royal and Derngate,Theatre
ATTACH;FMTTYPE=image/jpeg:https://www.discovernorthampton.co.uk/wp-content/uploads/2026/04/Zog_2026_Northampton_2340x978-1170x476-1.jpg
ORGANIZER;CN="Royal and Derngate":MAILTO:BoxOffice@royalandderngate.co.uk
END:VEVENT
END:VCALENDAR