BEGIN:VCALENDAR
VERSION:2.0
PRODID:-//Northampton BID - ECPv6.2.4//NONSGML v1.0//EN
CALSCALE:GREGORIAN
METHOD:PUBLISH
X-ORIGINAL-URL:https://www.discovernorthampton.co.uk
X-WR-CALDESC:Events for Northampton BID
REFRESH-INTERVAL;VALUE=DURATION:PT1H
X-Robots-Tag:noindex
X-PUBLISHED-TTL:PT1H
BEGIN:VTIMEZONE
TZID:Europe/London
BEGIN:DAYLIGHT
TZOFFSETFROM:+0000
TZOFFSETTO:+0100
TZNAME:BST
DTSTART:20210328T010000
END:DAYLIGHT
BEGIN:STANDARD
TZOFFSETFROM:+0100
TZOFFSETTO:+0000
TZNAME:GMT
DTSTART:20211031T010000
END:STANDARD
BEGIN:DAYLIGHT
TZOFFSETFROM:+0000
TZOFFSETTO:+0100
TZNAME:BST
DTSTART:20220327T010000
END:DAYLIGHT
BEGIN:STANDARD
TZOFFSETFROM:+0100
TZOFFSETTO:+0000
TZNAME:GMT
DTSTART:20221030T010000
END:STANDARD
END:VTIMEZONE
BEGIN:VEVENT
DTSTART;VALUE=DATE:20210710
DTEND;VALUE=DATE:20220131
DTSTAMP:20260425T165229
CREATED:20220124T114128Z
LAST-MODIFIED:20220124T114128Z
UID:106488-1625875200-1643587199@www.discovernorthampton.co.uk
SUMMARY:Inspiration
DESCRIPTION:Artists and designers are inspired by all manner of things from the everyday to the fantastical\, from nature to people\, music to stories.This exhibition\, for all ages\, explores the way artists look at the world around them and how this sparks the creative imagination.
URL:https://www.discovernorthampton.co.uk/event/inspiration/
LOCATION:Northampton Museum And Art Gallery\, 4-6 Guildhall Rd\,\, Northampton\, Northamptonshire\, NN1 1DP\, United Kingdom
CATEGORIES:Museum
ATTACH;FMTTYPE=image/jpeg:https://www.discovernorthampton.co.uk/wp-content/uploads/2022/01/Inspiration_960x640.jpg
END:VEVENT
BEGIN:VEVENT
DTSTART;TZID=Europe/London:20210909T110000
DTEND;TZID=Europe/London:20210911T230000
DTSTAMP:20260425T165229
CREATED:20210908T143808Z
LAST-MODIFIED:20210908T143808Z
UID:105088-1631185200-1631401200@www.discovernorthampton.co.uk
SUMMARY:Northampton County Beer Festival 2021
DESCRIPTION:The largest beer festival in Northamptonshire running for over 43 years. All of the county’s independent brewers\, cider and spirit producers will be featured. Bottled ales and cider available\, festival food and a music stage. Set in the Becket’s Park.
URL:https://www.discovernorthampton.co.uk/event/northampton-county-beer-festival-2021/
LOCATION:Becket’s Park\, Northampton\, NN1 5BB
ATTACH;FMTTYPE=image/jpeg:https://www.discovernorthampton.co.uk/wp-content/uploads/2021/09/160014220_2725636677746628_5806668654478754105_n.jpg
END:VEVENT
END:VCALENDAR