BEGIN:VCALENDAR
VERSION:2.0
PRODID:-//Northampton BID - ECPv6.2.4//NONSGML v1.0//EN
CALSCALE:GREGORIAN
METHOD:PUBLISH
X-ORIGINAL-URL:https://www.discovernorthampton.co.uk
X-WR-CALDESC:Events for Northampton BID
REFRESH-INTERVAL;VALUE=DURATION:PT1H
X-Robots-Tag:noindex
X-PUBLISHED-TTL:PT1H
BEGIN:VTIMEZONE
TZID:Europe/London
BEGIN:DAYLIGHT
TZOFFSETFROM:+0000
TZOFFSETTO:+0100
TZNAME:BST
DTSTART:20220327T010000
END:DAYLIGHT
BEGIN:STANDARD
TZOFFSETFROM:+0100
TZOFFSETTO:+0000
TZNAME:GMT
DTSTART:20221030T010000
END:STANDARD
END:VTIMEZONE
BEGIN:VEVENT
DTSTART;TZID=Europe/London:20220114T200000
DTEND;TZID=Europe/London:20220325T220000
DTSTAMP:20260423T215025
CREATED:20220124T090128Z
LAST-MODIFIED:20220124T090128Z
UID:106332-1642190400-1648245600@www.discovernorthampton.co.uk
SUMMARY:Screaming Blue Murder Comedy Club
DESCRIPTION:Don’t miss the comedy club in the Underground Studio with compere Dan Evans. Come along if you want a laugh.
URL:https://www.discovernorthampton.co.uk/event/screaming-blue-murder-comedy-club/2022-01-14/
LOCATION:Royal and Derngate Theatre\, 19-21 Guildhall Road\, Northampton\, Northamptonshire\, NN1 1DP
CATEGORIES:Royal and Derngate
ATTACH;FMTTYPE=image/jpeg:https://www.discovernorthampton.co.uk/wp-content/uploads/2022/01/Screaming-Blue-Murder-logo-1170x476-1.jpg
ORGANIZER;CN="Royal and Derngate":MAILTO:BoxOffice@royalandderngate.co.uk
END:VEVENT
BEGIN:VEVENT
DTSTART;VALUE=DATE:20220129
DTEND;VALUE=DATE:20220404
DTSTAMP:20260423T215025
CREATED:20220124T113824Z
LAST-MODIFIED:20220124T113824Z
UID:106480-1643414400-1649030399@www.discovernorthampton.co.uk
SUMMARY:10 Years of the British Wildlife Photography Awards
DESCRIPTION:An exhibition celebrating the tenth anniversary of The British Wildlife Photography Awards.\nThis retrospective collects together all the overall winners\, along with a selection of category winners and highly commended images. The British Wildlife Photography awards have created a unique legacy showcasing British wildlife at its very best and inspired millions with some of the most outstanding wildlife photography in the world.
URL:https://www.discovernorthampton.co.uk/event/10-years-of-the-british-wildlife-photography-awards/
LOCATION:Northampton Museum And Art Gallery\, 4-6 Guildhall Rd\,\, Northampton\, Northamptonshire\, NN1 1DP\, United Kingdom
CATEGORIES:Museum
ATTACH;FMTTYPE=image/jpeg:https://www.discovernorthampton.co.uk/wp-content/uploads/2022/01/BWPOY.jpg
END:VEVENT
BEGIN:VEVENT
DTSTART;VALUE=DATE:20220129
DTEND;VALUE=DATE:20220419
DTSTAMP:20260423T215025
CREATED:20220124T114429Z
LAST-MODIFIED:20220124T114429Z
UID:106491-1643414400-1650326399@www.discovernorthampton.co.uk
SUMMARY:Valhalla
DESCRIPTION:Discover Life and Death in Viking Britain \nAt Valhalla you can explore the Viking attitudes to life and death during this dynamic era. Follow the lives that these people once led and learn how they were commemorated through burial rites and rituals. This exciting exhibition displays significant artefacts from excavations in York\, including a Viking-age skeleton that was unearthed in the city\, displayed alongside a facial reconstruction and astonishing grave goods. Don’t miss the striking replica boat dressed for a ship burial\, complete with replica grave goods such as armour and jewellery. Plus\, little ones can discover the world of Viking mythology and sagas in our hands-on children’s area.\nA touring exhibition brought to you by The JORVIK Group.
URL:https://www.discovernorthampton.co.uk/event/valhalla/
LOCATION:Northampton Museum And Art Gallery\, 4-6 Guildhall Rd\,\, Northampton\, Northamptonshire\, NN1 1DP\, United Kingdom
CATEGORIES:Museum
ATTACH;FMTTYPE=image/jpeg:https://www.discovernorthampton.co.uk/wp-content/uploads/2022/01/runes_1.jpg
END:VEVENT
BEGIN:VEVENT
DTSTART;TZID=Europe/London:20220225T193000
DTEND;TZID=Europe/London:20220405T220000
DTSTAMP:20260423T215025
CREATED:20220124T101836Z
LAST-MODIFIED:20220124T101836Z
UID:106387-1645817400-1649196000@www.discovernorthampton.co.uk
SUMMARY:An Improbable Musical
DESCRIPTION:Theatre as live as it gets. Witness the creation of the newest musical around\, every night! \nYou want to know a secret? The best bits of any show\, you never get to see: beautiful moments of discovery\, fresh minted gags\, a story coming alive for the first time – all this happens in the rehearsal room. Less of a secret is that you never see the worst: dead ends\, duff choices\, bits that don’t fit. \nBut what if we let you in on the secret and put them ALL on the stage: triumphs\, disasters\, the wonderful and the what-the-hell? How? By improvising from scratch a new show made especially for the audience that night. Story\, song and puppetry conjured from the unlikeliest materials by matchless performers and every moment of creation (or lack of it) witnessed by you. Definitely not an attempt to improvise the “classic” musical but an unapologetic experiment in starting with nothing and seeing where we end up.
URL:https://www.discovernorthampton.co.uk/event/an-improbable-musical/2022-02-25/
LOCATION:Royal and Derngate Theatre\, 19-21 Guildhall Road\, Northampton\, Northamptonshire\, NN1 1DP
CATEGORIES:Royal and Derngate
ATTACH;FMTTYPE=image/jpeg:https://www.discovernorthampton.co.uk/wp-content/uploads/2022/01/Improbable-Musical-website-1-1170x476-1.jpg
ORGANIZER;CN="Royal and Derngate":MAILTO:BoxOffice@royalandderngate.co.uk
END:VEVENT
BEGIN:VEVENT
DTSTART;VALUE=DATE:20220312
DTEND;VALUE=DATE:20220328
DTSTAMP:20260423T215025
CREATED:20220311T104403Z
LAST-MODIFIED:20220311T105239Z
UID:107561-1647043200-1648425599@www.discovernorthampton.co.uk
SUMMARY:PAW Patrol Brick Trail
DESCRIPTION:Saturday March 12 to Sunday March 27\nPAW Patrol fans will be able to meet their favourite cartoon characters as Northampton town centre hosts an amazing ‘brick trail’ of sculptures from the hit show. \nThe town centre is set to host up to 21 models including favourite characters and buildings from the hit Nick Jr. show\, presented and built by BRICKLIVE. \nFamilies can join in the search and find the brightly coloured toy brick models with characters including Chase\, Marshall\, Skye and the gang all waiting to be found in and around the town centre. \nDuring the two-week event\, which runs from Saturday\, March 12 to Sunday\, March 27\, visitors can collect a trail-map and answer questions based on each of the models to be in with a chance of winning one of four £50 vouchers to spend in town centre businesses. \nTrail maps and prize draw entry forms can be collected from participating businesses and can also be downloaded from our website here. \nEntries can be posted into a specially designed post box located in Grosvenor Shopping during the two weeks the pups are in town. \nGood Luck! \nÂ 
URL:https://www.discovernorthampton.co.uk/event/paw-patrol-brick-trail/
LOCATION:town centre
CATEGORIES:BID Event
ATTACH;FMTTYPE=image/png:https://www.discovernorthampton.co.uk/wp-content/uploads/2022/03/Car-Park-Banner-Snip.png
END:VEVENT
BEGIN:VEVENT
DTSTART;TZID=Europe/London:20220317T193000
DTEND;TZID=Europe/London:20220326T213000
DTSTAMP:20260423T215025
CREATED:20220124T124948Z
LAST-MODIFIED:20220124T124948Z
UID:106683-1647545400-1648330200@www.discovernorthampton.co.uk
SUMMARY:The Wellspring
DESCRIPTION:Directed by Jude Christian\, this timely and intimate work from award-winning playwright Barney Norris (The Remains Of The Day) and his father\, the internationally acclaimed pianist and broadcaster David Owen Norris\, examines that age-old story of a boy and his dad\, and how they can relate to one another\, in every sense of the word. \nAn intimate\, autobiographical exploration of their relationship\, The Wellspring takes us inside the complex and shifting dynamic between this particular father and son\, exploring the people and stories that shape us. Their performances are accompanied by exquisite music performed by David\, described by the Toronto Globe and Mail as “quite possibly the most interesting pianist in the world”
URL:https://www.discovernorthampton.co.uk/event/the-wellspring/2022-03-17/
LOCATION:Royal and Derngate Theatre\, 19-21 Guildhall Road\, Northampton\, Northamptonshire\, NN1 1DP
CATEGORIES:Royal and Derngate
ATTACH;FMTTYPE=image/jpeg:https://www.discovernorthampton.co.uk/wp-content/uploads/2022/01/The-Wellspring-with-director-credit-1170x476-1.jpg
ORGANIZER;CN="Royal and Derngate":MAILTO:BoxOffice@royalandderngate.co.uk
END:VEVENT
BEGIN:VEVENT
DTSTART;TZID=Europe/London:20220319T123000
DTEND;TZID=Europe/London:20220319T233000
DTSTAMP:20260423T215025
CREATED:20220223T134222Z
LAST-MODIFIED:20220223T134222Z
UID:107398-1647693000-1647732600@www.discovernorthampton.co.uk
SUMMARY:The Gin & Rum Festival
DESCRIPTION:If you’re thirsty for knowledge or just want to party the night away\, the Gin & Rum Festival is for you! Discover new favourites with samples from our hand-picked guest distillers\, treat yourself at our themed Gin and Rum bars and let your hair down with friends whilst enjoying music from our award-winning DJ and live entertainment. \nÂ  \nNew for 2022 â€“ Tequila! \nYou will be spoilt for choice with over 120 of the best Gins and Rums on the market\, including the best of British\, spirits from around the world and a huge range of flavoured products. Our hand-picked products offer customers the chance to discover the highest quality Gins and Rums\, many of which are exclusive to our festival. New for 2022 is our themed Tequila bar! With a variety of up to 20 authentic Tequilas on offer\, the Gin & Rum Festival can’t wait to bring a taste of Mexico to a city near you.
URL:https://www.discovernorthampton.co.uk/event/the-gin-rum-festival/
LOCATION:Northampton County Cricket Ground\, The County Ground\, Abington Ave\, Northampton\, Northants\, NN14PR\, United Kingdom
CATEGORIES:Festival
ATTACH;FMTTYPE=image/jpeg:https://www.discovernorthampton.co.uk/wp-content/uploads/2022/02/6469b4321dcaec6c7ed417a80d491f926a87d8a83e6bbcb7e2ee4a31569800af-rimg-w1200-h675-gmir.jpg
END:VEVENT
BEGIN:VEVENT
DTSTART;TZID=Europe/London:20220319T193000
DTEND;TZID=Europe/London:20220319T213000
DTSTAMP:20260423T215025
CREATED:20220124T125625Z
LAST-MODIFIED:20220124T125625Z
UID:106697-1647718200-1647725400@www.discovernorthampton.co.uk
SUMMARY:Johannes Radebe – Freedom
DESCRIPTION:Dancing sensation\, international champion\, and 2021 Strictly Come Dancing finalist\, Johannes Radebe is bringing his first UK Tour to Royal & Derngate in 2022!  \nFreedom is a celebration of music and dance\, from African Fusion to fiery Latin\, classic dance arrangements and huge party anthems\, with a company of exciting dancers. \nJohannes will take the audience on his personal journey\, from growing up in South Africa\, to travelling the world\, winning titles and starring in Strictly Come Dancing.
URL:https://www.discovernorthampton.co.uk/event/johannes-radebe-freedom/
LOCATION:Royal and Derngate Theatre\, 19-21 Guildhall Road\, Northampton\, Northamptonshire\, NN1 1DP
CATEGORIES:Royal and Derngate
ATTACH;FMTTYPE=image/jpeg:https://www.discovernorthampton.co.uk/wp-content/uploads/2022/01/192020x20108020No20TEXT-1170x476-1.jpeg
ORGANIZER;CN="Royal and Derngate":MAILTO:BoxOffice@royalandderngate.co.uk
END:VEVENT
END:VCALENDAR