BEGIN:VCALENDAR
VERSION:2.0
PRODID:-//Northampton BID - ECPv6.2.4//NONSGML v1.0//EN
CALSCALE:GREGORIAN
METHOD:PUBLISH
X-WR-CALNAME:Northampton BID
X-ORIGINAL-URL:https://www.discovernorthampton.co.uk
X-WR-CALDESC:Events for Northampton BID
REFRESH-INTERVAL;VALUE=DURATION:PT1H
X-Robots-Tag:noindex
X-PUBLISHED-TTL:PT1H
BEGIN:VTIMEZONE
TZID:Europe/London
BEGIN:DAYLIGHT
TZOFFSETFROM:+0000
TZOFFSETTO:+0100
TZNAME:BST
DTSTART:20220327T010000
END:DAYLIGHT
BEGIN:STANDARD
TZOFFSETFROM:+0100
TZOFFSETTO:+0000
TZNAME:GMT
DTSTART:20221030T010000
END:STANDARD
END:VTIMEZONE
BEGIN:VEVENT
DTSTART;TZID=Europe/London:20220531T100000
DTEND;TZID=Europe/London:20220531T230000
DTSTAMP:20260421T044633
CREATED:20220510T093401Z
LAST-MODIFIED:20220510T093401Z
UID:108510-1653991200-1654038000@www.discovernorthampton.co.uk
SUMMARY:Planetarium In The Museum
DESCRIPTION:Sit under the stars\, see the milky way and go on a tour of space in our planetarium shows with Dave Eagle.
URL:https://www.discovernorthampton.co.uk/event/planetarium-in-the-museum/2022-05-31/
LOCATION:Northampton Museum And Art Gallery\, 4-6 Guildhall Rd\,\, Northampton\, Northamptonshire\, NN1 1DP\, United Kingdom
CATEGORIES:Museum
ATTACH;FMTTYPE=image/jpeg:https://www.discovernorthampton.co.uk/wp-content/uploads/2022/05/download.jpg
END:VEVENT
BEGIN:VEVENT
DTSTART;TZID=Europe/London:20220531T190000
DTEND;TZID=Europe/London:20220531T220000
DTSTAMP:20260421T044633
CREATED:20220530T140358Z
LAST-MODIFIED:20220530T140358Z
UID:108804-1654023600-1654034400@www.discovernorthampton.co.uk
SUMMARY:BE•SPOKE Launch Party - VnB
DESCRIPTION:V&B Northampton have kindly offered to host the BE•SPOKE Launch Party â€“ our first event â€“ which will bring together some of Northamptonshireâ€™s finest artists for an evening of entertainment and real talk. \nÂ  \nFeaturing headliner Jamilah Moktadir as well as words from Tre Ventour\, The Revolt Poet\, and this monthâ€™s host\, Marly Talks\, this is bound to be a worthwhile free event to attend! Musical accompaniment provided by John Bowman.
URL:https://www.discovernorthampton.co.uk/event/bespoke-launch-party-vnb/
LOCATION:VnB\, 10 St Giles' Square\, Northampton\, Northamptonshire\, NN1 1DA\, United Kingdom
ATTACH;FMTTYPE=image/jpeg:https://www.discovernorthampton.co.uk/wp-content/uploads/2022/05/https___cdn.evbuc_.com_images_278340109_241627390292_1_original.jpg
END:VEVENT
END:VCALENDAR