BEGIN:VCALENDAR
VERSION:2.0
PRODID:-//Northampton BID - ECPv6.2.4//NONSGML v1.0//EN
CALSCALE:GREGORIAN
METHOD:PUBLISH
X-WR-CALNAME:Northampton BID
X-ORIGINAL-URL:https://www.discovernorthampton.co.uk
X-WR-CALDESC:Events for Northampton BID
REFRESH-INTERVAL;VALUE=DURATION:PT1H
X-Robots-Tag:noindex
X-PUBLISHED-TTL:PT1H
BEGIN:VTIMEZONE
TZID:Europe/London
BEGIN:DAYLIGHT
TZOFFSETFROM:+0000
TZOFFSETTO:+0100
TZNAME:BST
DTSTART:20220327T010000
END:DAYLIGHT
BEGIN:STANDARD
TZOFFSETFROM:+0100
TZOFFSETTO:+0000
TZNAME:GMT
DTSTART:20221030T010000
END:STANDARD
END:VTIMEZONE
BEGIN:VEVENT
DTSTART;VALUE=DATE:20220619
DTEND;VALUE=DATE:20220627
DTSTAMP:20260422T065648
CREATED:20220519T131607Z
LAST-MODIFIED:20220519T131607Z
UID:108687-1655596800-1656287999@www.discovernorthampton.co.uk
SUMMARY:NLive Week of Action
DESCRIPTION:Nlive Week of Action at Nlive radio
URL:https://www.discovernorthampton.co.uk/event/nlive-week-of-action/
LOCATION:Nlive\, Swan St\, northampton\, Northamptonshire\, NN1 1DH\, United Kingdom
CATEGORIES:Northampton Pride
ATTACH;FMTTYPE=image/webp:https://www.discovernorthampton.co.uk/wp-content/uploads/2022/05/logog.webp
END:VEVENT
BEGIN:VEVENT
DTSTART;TZID=Europe/London:20220621T093000
DTEND;TZID=Europe/London:20220621T143000
DTSTAMP:20260422T065648
CREATED:20220607T081330Z
LAST-MODIFIED:20220607T081330Z
UID:108867-1655803800-1655821800@www.discovernorthampton.co.uk
SUMMARY:Steam Northants - Northamptonshire Natural History Society
DESCRIPTION:(Science technology\, engineering\, arts and mathematics) This is an event being run at Northampton University for children in year 6 to 13. we are currently liaising with the University to see what our involvement can be. More information will be provided to section leaders as it becomes available
URL:https://www.discovernorthampton.co.uk/event/steam-northants-northamptonshire-natural-history-society/
LOCATION:University of Northampton\, Waterside Campus\, University Dr\, northampton\, Northamptonshire\, NN1 5PH\, United Kingdom
CATEGORIES:Natural History
ATTACH;FMTTYPE=image/png:https://www.discovernorthampton.co.uk/wp-content/uploads/2022/06/72428a3d47fddff41b11995b5cea23f3.png
END:VEVENT
BEGIN:VEVENT
DTSTART;TZID=Europe/London:20220621T190000
DTEND;TZID=Europe/London:20220621T200000
DTSTAMP:20260422T065648
CREATED:20220510T084708Z
LAST-MODIFIED:20220510T084708Z
UID:108503-1655838000-1655841600@www.discovernorthampton.co.uk
SUMMARY:The Excavations at Angel Street And St John's Street
DESCRIPTION:Mark Holmes from Museum of London Archaeology (MOLA) will be speaking about the large-scale excavations on Angel Street and St Johnâ€™s Street in 2014\, uncovering a site which had been continuously occupied since the early 1100s. highlights include the discovery of a workshop where bone and antler chess pieces were carved in the 12th century\, and extensive evidence for later medieval malting and brewing. There will be an opportunity to view some of the original finds from their site. this talk is in partnership with MOLA and celebrates the Festival of Archaeology.
URL:https://www.discovernorthampton.co.uk/event/the-excavations-at-angel-street-and-st-johns-street/
LOCATION:Northampton Museum And Art Gallery\, 4-6 Guildhall Rd\,\, Northampton\, Northamptonshire\, NN1 1DP\, United Kingdom
CATEGORIES:Museum
ATTACH;FMTTYPE=image/png:https://www.discovernorthampton.co.uk/wp-content/uploads/2022/05/download.png
END:VEVENT
BEGIN:VEVENT
DTSTART;TZID=Europe/London:20220621T190000
DTEND;TZID=Europe/London:20220621T210000
DTSTAMP:20260422T065648
CREATED:20220621T091811Z
LAST-MODIFIED:20220621T091811Z
UID:109083-1655838000-1655845200@www.discovernorthampton.co.uk
SUMMARY:Art Jam with Sophie Slade - Saints Coffee
DESCRIPTION:Art Jam with Sophie Slade
URL:https://www.discovernorthampton.co.uk/event/art-jam-with-sophie-slade-saints-coffee/
LOCATION:Saints Coffee\, 62 St Giles' St\, Northampton\, Northamptonshire\, NN1 1JW\, United Kingdom
CATEGORIES:Event
ATTACH;FMTTYPE=image/jpeg:https://www.discovernorthampton.co.uk/wp-content/uploads/2022/04/2021-02-01_19-36-01_1612208205.jpg
END:VEVENT
BEGIN:VEVENT
DTSTART;TZID=Europe/London:20220621T193000
DTEND;TZID=Europe/London:20220621T213000
DTSTAMP:20260422T065648
CREATED:20220405T141531Z
LAST-MODIFIED:20220405T141531Z
UID:107795-1655839800-1655847000@www.discovernorthampton.co.uk
SUMMARY:Oti Mabuse: I Am Here
DESCRIPTION:Strictly Come Dancing 2019 & 2020 champion Oti Mabuse is creating a show like no other in 2021. \nPrepare for a night of electrifying choreography as the star of The Greatest Dancer and two time reigning Strictly Come Dancing champion Oti Mabuse is joined by some of the world’s greatest dancers and the West End’s finest singers and musicians. \nOti Mabuse – I Am Here is a whirlwind celebration of the influences and inspirations that took her on a journey from growing up in South Africa to following her dream.\nFrom mesmerising Jives and pumping Sambas to South Africa’s exhilarating Kwaito\, this is an explosive night of dance and music that will set your heart racing.
URL:https://www.discovernorthampton.co.uk/event/oti-mabuse-i-am-here/
LOCATION:Royal and Derngate Theatre\, 19-21 Guildhall Road\, Northampton\, Northamptonshire\, NN1 1DP
CATEGORIES:Royal and Derngate
ATTACH;FMTTYPE=image/jpeg:https://www.discovernorthampton.co.uk/wp-content/uploads/2022/04/Oti-website-1140x476-1.jpg
ORGANIZER;CN="Royal and Derngate":MAILTO:BoxOffice@royalandderngate.co.uk
END:VEVENT
END:VCALENDAR