BEGIN:VCALENDAR
VERSION:2.0
PRODID:-//Northampton BID - ECPv6.2.4//NONSGML v1.0//EN
CALSCALE:GREGORIAN
METHOD:PUBLISH
X-ORIGINAL-URL:https://www.discovernorthampton.co.uk
X-WR-CALDESC:Events for Northampton BID
REFRESH-INTERVAL;VALUE=DURATION:PT1H
X-Robots-Tag:noindex
X-PUBLISHED-TTL:PT1H
BEGIN:VTIMEZONE
TZID:Europe/London
BEGIN:DAYLIGHT
TZOFFSETFROM:+0000
TZOFFSETTO:+0100
TZNAME:BST
DTSTART:20220327T010000
END:DAYLIGHT
BEGIN:STANDARD
TZOFFSETFROM:+0100
TZOFFSETTO:+0000
TZNAME:GMT
DTSTART:20221030T010000
END:STANDARD
END:VTIMEZONE
BEGIN:VEVENT
DTSTART;TZID=Europe/London:20220715T190000
DTEND;TZID=Europe/London:20220715T220000
DTSTAMP:20260424T062300
CREATED:20220621T082747Z
LAST-MODIFIED:20220621T082747Z
UID:109050-1657911600-1657922400@www.discovernorthampton.co.uk
SUMMARY:BINGO LOCO - The Roadmender
DESCRIPTION:
URL:https://www.discovernorthampton.co.uk/event/bingo-loco-the-roadmender/
LOCATION:Roadmender\, 1 Lady's Ln\, Northampton\, Northamptonshire\, NN1 3AH\, United Kingdom
CATEGORIES:Concert
ATTACH;FMTTYPE=image/png:https://www.discovernorthampton.co.uk/wp-content/uploads/2022/06/insta-2022-05-09T111728.577-540x540-1.png
END:VEVENT
BEGIN:VEVENT
DTSTART;TZID=Europe/London:20220715T193000
DTEND;TZID=Europe/London:20220715T213000
DTSTAMP:20260424T062300
CREATED:20220510T131851Z
LAST-MODIFIED:20220510T131851Z
UID:108598-1657913400-1657920600@www.discovernorthampton.co.uk
SUMMARY:The Caucasian Chalk Circle
DESCRIPTION:Our very own The Actors Company takes on one of the giants of modern classic theatre\, directed by Scott Bradley. Bertolt Brecht’s epic play is vast in its scope\, yet human at its heart\, setting the grotesque against the hilarious\, with a backdrop of war and revolution. \nFeaturing live and looped soundscapes using the incredible skills of spoken word poet and musician David Bowden (Word Guerrilla) this exciting and dynamic production explores themes of justice\, motherhood and social corruption through the medium of a distant fairy tale\, the ‘play within the play’.
URL:https://www.discovernorthampton.co.uk/event/the-caucasian-chalk-circle/2022-07-15/
LOCATION:Royal and Derngate Theatre\, 19-21 Guildhall Road\, Northampton\, Northamptonshire\, NN1 1DP
CATEGORIES:Royal and Derngate
ATTACH;FMTTYPE=image/png:https://www.discovernorthampton.co.uk/wp-content/uploads/2022/05/CCC-Website-Banner-Whats-On.png
ORGANIZER;CN="Royal and Derngate":MAILTO:BoxOffice@royalandderngate.co.uk
END:VEVENT
BEGIN:VEVENT
DTSTART;TZID=Europe/London:20220715T200000
DTEND;TZID=Europe/London:20220715T220000
DTSTAMP:20260424T062300
CREATED:20220627T095126Z
LAST-MODIFIED:20220627T095126Z
UID:109126-1657915200-1657922400@www.discovernorthampton.co.uk
SUMMARY:Sweet\, Soulful music with DJ Jazzvibes - Saints Coffee
DESCRIPTION:Sweet\, Soulful music with DJ Jazzvibes â€“ Saints Coffee
URL:https://www.discovernorthampton.co.uk/event/sweet-soulful-music-with-dj-jazzvibes-saints-coffee/
LOCATION:Saints Coffee\, 62 St Giles' St\, Northampton\, Northamptonshire\, NN1 1JW\, United Kingdom
CATEGORIES:Event
ATTACH;FMTTYPE=image/jpeg:https://www.discovernorthampton.co.uk/wp-content/uploads/2022/04/2021-02-01_19-36-01_1612208205.jpg
END:VEVENT
BEGIN:VEVENT
DTSTART;TZID=Europe/London:20220715T200000
DTEND;TZID=Europe/London:20220715T220000
DTSTAMP:20260424T062300
CREATED:20220715T114854Z
LAST-MODIFIED:20220715T114854Z
UID:109469-1657915200-1657922400@www.discovernorthampton.co.uk
SUMMARY:DJ Andy
DESCRIPTION:DJ Andy playing your requests from Friday 8pm
URL:https://www.discovernorthampton.co.uk/event/dj-andy/
LOCATION:The Wig And Pen\, 19 St Giles' St\, northampton\, Northamptonshire\, NN1 1JA\, United Kingdom
CATEGORIES:DJ
ATTACH;FMTTYPE=image/jpeg:https://www.discovernorthampton.co.uk/wp-content/uploads/2022/07/293621926_5662843693739851_3248514353386457290_n.jpg
END:VEVENT
BEGIN:VEVENT
DTSTART;TZID=Europe/London:20220715T220000
DTEND;TZID=Europe/London:20220715T233000
DTSTAMP:20260424T062300
CREATED:20220715T104642Z
LAST-MODIFIED:20220715T104642Z
UID:109461-1657922400-1657927800@www.discovernorthampton.co.uk
SUMMARY:Feel Good Friday
DESCRIPTION:Throwback R&B\, hip hop\, house\, basement with djmervinb \nfree entry \n2-4-1 cocktails \n10pm â€“ late
URL:https://www.discovernorthampton.co.uk/event/feel-good-friday/
LOCATION:the Wedgewood\, 79-81 Abington St\, northampton\, Northamptonshire\, NN1 2BH\, United Kingdom
CATEGORIES:Club,Night Out
ATTACH;FMTTYPE=image/jpeg:https://www.discovernorthampton.co.uk/wp-content/uploads/2022/07/wedg.jpg
END:VEVENT
END:VCALENDAR