BEGIN:VCALENDAR
VERSION:2.0
PRODID:-//Northampton BID - ECPv6.2.4//NONSGML v1.0//EN
CALSCALE:GREGORIAN
METHOD:PUBLISH
X-ORIGINAL-URL:https://www.discovernorthampton.co.uk
X-WR-CALDESC:Events for Northampton BID
REFRESH-INTERVAL;VALUE=DURATION:PT1H
X-Robots-Tag:noindex
X-PUBLISHED-TTL:PT1H
BEGIN:VTIMEZONE
TZID:Europe/London
BEGIN:DAYLIGHT
TZOFFSETFROM:+0000
TZOFFSETTO:+0100
TZNAME:BST
DTSTART:20220327T010000
END:DAYLIGHT
BEGIN:STANDARD
TZOFFSETFROM:+0100
TZOFFSETTO:+0000
TZNAME:GMT
DTSTART:20221030T010000
END:STANDARD
END:VTIMEZONE
BEGIN:VEVENT
DTSTART;VALUE=DATE:20220828
DTEND;VALUE=DATE:20220829
DTSTAMP:20260423T062345
CREATED:20220803T085025Z
LAST-MODIFIED:20220803T151820Z
UID:109846-1661644800-1661731199@www.discovernorthampton.co.uk
SUMMARY:Screen Northants 48hr Film Challenge
DESCRIPTION:Weâ€™ll be ending the month on a high with the return of screen northants and their 48hr film challenge
URL:https://www.discovernorthampton.co.uk/event/screen-northants-48hr-film-challenge/
LOCATION:VnB\, 10 St Giles' Square\, Northampton\, Northamptonshire\, NN1 1DA\, United Kingdom
CATEGORIES:Event
ATTACH;FMTTYPE=image/jpeg:https://www.discovernorthampton.co.uk/wp-content/uploads/2022/08/regsrdg.jpg
END:VEVENT
BEGIN:VEVENT
DTSTART;TZID=Europe/London:20220828T110000
DTEND;TZID=Europe/London:20220828T130000
DTSTAMP:20260423T062345
CREATED:20220804T083944Z
LAST-MODIFIED:20220804T083944Z
UID:109877-1661684400-1661691600@www.discovernorthampton.co.uk
SUMMARY:Women's Walk And Talk
DESCRIPTION:Womenâ€™s Walk and Talk with @feellovedbysalma
URL:https://www.discovernorthampton.co.uk/event/womens-walk-and-talk-2/
LOCATION:Saints Coffee\, 62 St Giles' St\, Northampton\, Northamptonshire\, NN1 1JW\, United Kingdom
CATEGORIES:Event
ATTACH;FMTTYPE=image/jpeg:https://www.discovernorthampton.co.uk/wp-content/uploads/2022/08/2021-02-01_19-36-01_1612208205.jpg
END:VEVENT
BEGIN:VEVENT
DTSTART;TZID=Europe/London:20220828T190000
DTEND;TZID=Europe/London:20220828T230000
DTSTAMP:20260423T062345
CREATED:20220817T082645Z
LAST-MODIFIED:20220817T082645Z
UID:110131-1661713200-1661727600@www.discovernorthampton.co.uk
SUMMARY:WALL GAMES AFTER PARTY – The Roadmender
DESCRIPTION:
URL:https://www.discovernorthampton.co.uk/event/wall-games-after-party-the-roadmender/
LOCATION:Roadmender\, 1 Lady's Ln\, Northampton\, Northamptonshire\, NN1 3AH\, United Kingdom
CATEGORIES:Concert
ATTACH;FMTTYPE=image/jpeg:https://www.discovernorthampton.co.uk/wp-content/uploads/2022/08/WallGamesAfterParty-Flyer.jpg
END:VEVENT
END:VCALENDAR