BEGIN:VCALENDAR
VERSION:2.0
PRODID:-//Northampton BID - ECPv6.2.4//NONSGML v1.0//EN
CALSCALE:GREGORIAN
METHOD:PUBLISH
X-WR-CALNAME:Northampton BID
X-ORIGINAL-URL:https://www.discovernorthampton.co.uk
X-WR-CALDESC:Events for Northampton BID
REFRESH-INTERVAL;VALUE=DURATION:PT1H
X-Robots-Tag:noindex
X-PUBLISHED-TTL:PT1H
BEGIN:VTIMEZONE
TZID:Europe/London
BEGIN:DAYLIGHT
TZOFFSETFROM:+0000
TZOFFSETTO:+0100
TZNAME:BST
DTSTART:20230326T010000
END:DAYLIGHT
BEGIN:STANDARD
TZOFFSETFROM:+0100
TZOFFSETTO:+0000
TZNAME:GMT
DTSTART:20231029T010000
END:STANDARD
END:VTIMEZONE
BEGIN:VEVENT
DTSTART;TZID=Europe/London:20230127T193000
DTEND;TZID=Europe/London:20230127T213000
DTSTAMP:20260421T001204
CREATED:20230104T104529Z
LAST-MODIFIED:20230104T104529Z
UID:111944-1674847800-1674855000@www.discovernorthampton.co.uk
SUMMARY:NC Jazz Present The Alan Barnes Octet
DESCRIPTION:Like the Dickens classic itself\, Alan Barnes‘ “Copperfield” has something for everyone. A great night out that is also a treat for the jazz connoisseur; it will delight anyone who loves music or literature – or just being entertained! \nThis new suite of pieces\, touring for the first time this year\, takes the audience through the characters and scenes of ‘David Copperfield”. Readings from the original Dickens tell the story\, and after each scene eight virtuoso musicians bring the characters and scenes to life\, switching audiences from hilarity to pathos with a skill that would have done credit to Dickens himself!
URL:https://www.discovernorthampton.co.uk/event/nc-jazz-present-the-alan-barnes-octet/
LOCATION:Royal and Derngate Theatre\, 19-21 Guildhall Road\, Northampton\, Northamptonshire\, NN1 1DP
CATEGORIES:Royal and Derngate
ATTACH;FMTTYPE=image/jpeg:https://www.discovernorthampton.co.uk/wp-content/uploads/2023/01/Alan-barnes-octet-saxophonist-1.jpg
ORGANIZER;CN="Royal and Derngate":MAILTO:BoxOffice@royalandderngate.co.uk
END:VEVENT
BEGIN:VEVENT
DTSTART;TZID=Europe/London:20230127T193000
DTEND;TZID=Europe/London:20230127T213000
DTSTAMP:20260421T001204
CREATED:20230104T105249Z
LAST-MODIFIED:20230104T105249Z
UID:111947-1674847800-1674855000@www.discovernorthampton.co.uk
SUMMARY:The Greatest Hits Of Motown
DESCRIPTION:This stunning 100% live show combines first class music with the slickest choreography and an amazing band\, to deliver truly outstanding performances for the best Motown experience you will ever have! \nThis show will have you Dancing On The Ceiling\, with songs from legendary artistes such as Lionel Richie\, The Temptations\, Stevie Wonder\, The Four Tops\, Smokey Robinson\, Marvin Gaye\, The Jackson Five\, The Isley Brothers\, Edwin Starr and many\, many more.
URL:https://www.discovernorthampton.co.uk/event/the-greatest-hits-of-motown-2/
LOCATION:Royal and Derngate Theatre\, 19-21 Guildhall Road\, Northampton\, Northamptonshire\, NN1 1DP
CATEGORIES:Royal and Derngate
ATTACH;FMTTYPE=image/jpeg:https://www.discovernorthampton.co.uk/wp-content/uploads/2023/01/how-sweet-it-is-12-1170x476-1.jpg
ORGANIZER;CN="Royal and Derngate":MAILTO:BoxOffice@royalandderngate.co.uk
END:VEVENT
BEGIN:VEVENT
DTSTART;TZID=Europe/London:20230127T194500
DTEND;TZID=Europe/London:20230127T213000
DTSTAMP:20260421T001204
CREATED:20230104T105640Z
LAST-MODIFIED:20230104T105640Z
UID:111950-1674848700-1674855000@www.discovernorthampton.co.uk
SUMMARY:Screaming Blue Murder Comedy Club
DESCRIPTION:Don’t miss our comedy club in the Underground Studio with compere Dan Evans. \nThis season features many of comedy’s rising stars.
URL:https://www.discovernorthampton.co.uk/event/screaming-blue-murder-comedy-club-3/2023-01-27/
LOCATION:Royal and Derngate Theatre\, 19-21 Guildhall Road\, Northampton\, Northamptonshire\, NN1 1DP
CATEGORIES:Royal and Derngate
ATTACH;FMTTYPE=image/jpeg:https://www.discovernorthampton.co.uk/wp-content/uploads/2023/01/Screaming-Blue-Murder.jpg
ORGANIZER;CN="Royal and Derngate":MAILTO:BoxOffice@royalandderngate.co.uk
END:VEVENT
BEGIN:VEVENT
DTSTART;TZID=Europe/London:20230127T210000
DTEND;TZID=Europe/London:20230127T230000
DTSTAMP:20260421T001204
CREATED:20230112T085549Z
LAST-MODIFIED:20230112T085549Z
UID:112117-1674853200-1674860400@www.discovernorthampton.co.uk
SUMMARY:The Scoundrals
DESCRIPTION:
URL:https://www.discovernorthampton.co.uk/event/the-scoundrals/
LOCATION:The Wig And Pen\, 19 St Giles' St\, northampton\, Northamptonshire\, NN1 1JA\, United Kingdom
CATEGORIES:Event
ATTACH;FMTTYPE=image/jpeg:https://www.discovernorthampton.co.uk/wp-content/uploads/2023/01/9babc7f6-a23a-4088-b567-f1454e52e1e4.jpg
END:VEVENT
END:VCALENDAR