BEGIN:VCALENDAR
VERSION:2.0
PRODID:-//Northampton BID - ECPv6.2.4//NONSGML v1.0//EN
CALSCALE:GREGORIAN
METHOD:PUBLISH
X-WR-CALNAME:Northampton BID
X-ORIGINAL-URL:https://www.discovernorthampton.co.uk
X-WR-CALDESC:Events for Northampton BID
REFRESH-INTERVAL;VALUE=DURATION:PT1H
X-Robots-Tag:noindex
X-PUBLISHED-TTL:PT1H
BEGIN:VTIMEZONE
TZID:Europe/London
BEGIN:DAYLIGHT
TZOFFSETFROM:+0000
TZOFFSETTO:+0100
TZNAME:BST
DTSTART:20230326T010000
END:DAYLIGHT
BEGIN:STANDARD
TZOFFSETFROM:+0100
TZOFFSETTO:+0000
TZNAME:GMT
DTSTART:20231029T010000
END:STANDARD
END:VTIMEZONE
BEGIN:VEVENT
DTSTART;VALUE=DATE:20230715
DTEND;VALUE=DATE:20230716
DTSTAMP:20260421T012938
CREATED:20230608T103310Z
LAST-MODIFIED:20230608T103310Z
UID:114561-1689379200-1689465599@www.discovernorthampton.co.uk
SUMMARY:Around the world in 80 pictures
DESCRIPTION:Take a journey around the world with Northampton Museum and Art Galley’s art collection. Including works from Europe\, Africa\, Asia and the Americas. Visit Cornish coasts\, Scottish Highlands\, Welsh valleys\, Venetian vistas\, Parisian street scenes\, Norwegian fjords\, Swiss mountains\, Portuguese gardens and Jamaican harbours.
URL:https://www.discovernorthampton.co.uk/event/around-the-world-in-80-pictures/2023-07-15/
LOCATION:Northampton Museum And Art Gallery\, 4-6 Guildhall Rd\,\, Northampton\, Northamptonshire\, NN1 1DP\, United Kingdom
ATTACH;FMTTYPE=image/jpeg:https://www.discovernorthampton.co.uk/wp-content/uploads/2023/06/Round_the_World_in_80_Entrance_To_Grand_Canal__Venice_by_Franceso_Guardi_2010.19__1_.jpg
END:VEVENT
BEGIN:VEVENT
DTSTART;TZID=Europe/London:20230715T153000
DTEND;TZID=Europe/London:20230715T173000
DTSTAMP:20260421T012938
CREATED:20230626T125941Z
LAST-MODIFIED:20230626T125941Z
UID:114720-1689435000-1689442200@www.discovernorthampton.co.uk
SUMMARY:Open Stage “Any Way We Want It!”
DESCRIPTION:Open Stage Performing Arts Company is excited to return to the Derngate stage with their entire performing arts school of children and adults\, plus special guests for their latest production. Their show will feature Ballet\, Tap\, Modern\, Classical Greek and Jazz Dance\, Acrobatic Arts and Musical Theatre. It is the highlight of their year! \nOpen Stage Performing Arts is a professional theatre school for ages 2+. They also deliver community arts sessions across a wide variety of genres including the Open Stage Choir that will also feature in this show!
URL:https://www.discovernorthampton.co.uk/event/open-stage-any-way-we-want-it/
LOCATION:Royal and Derngate Theatre\, 19-21 Guildhall Road\, Northampton\, Northamptonshire\, NN1 1DP
ATTACH;FMTTYPE=image/jpeg:https://www.discovernorthampton.co.uk/wp-content/uploads/2023/06/354e2aa6-7b1d-4823-92f5-c70f06823f92-1024x476-1.jpg
ORGANIZER;CN="Royal and Derngate":MAILTO:BoxOffice@royalandderngate.co.uk
END:VEVENT
BEGIN:VEVENT
DTSTART;TZID=Europe/London:20230715T180000
DTEND;TZID=Europe/London:20230715T220000
DTSTAMP:20260421T012938
CREATED:20230630T093836Z
LAST-MODIFIED:20230630T093836Z
UID:114834-1689444000-1689458400@www.discovernorthampton.co.uk
SUMMARY:Apero DJ
DESCRIPTION:get set for a Saturday night of electro\, soul\, jazz and disco on the front in the sun. some great music great wine\, and why not a cheeky cheeseboard?
URL:https://www.discovernorthampton.co.uk/event/apero-dj-7/
LOCATION:VnB\, 10 St Giles' Square\, Northampton\, Northamptonshire\, NN1 1DA\, United Kingdom
ATTACH;FMTTYPE=image/png:https://www.discovernorthampton.co.uk/wp-content/uploads/2023/06/download-1.png
END:VEVENT
BEGIN:VEVENT
DTSTART;TZID=Europe/London:20230715T210000
DTEND;TZID=Europe/London:20230715T230000
DTSTAMP:20260421T012938
CREATED:20230629T095727Z
LAST-MODIFIED:20230629T095727Z
UID:114783-1689454800-1689462000@www.discovernorthampton.co.uk
SUMMARY:Soul D
DESCRIPTION:
URL:https://www.discovernorthampton.co.uk/event/soul-d-2/
LOCATION:The Wig And Pen\, 19 St Giles' St\, northampton\, Northamptonshire\, NN1 1JA\, United Kingdom
ATTACH;FMTTYPE=image/jpeg:https://www.discovernorthampton.co.uk/wp-content/uploads/2023/06/7b0ea702-e673-4e30-9830-6404dbbdb877.jpg
END:VEVENT
END:VCALENDAR