BEGIN:VCALENDAR
VERSION:2.0
PRODID:-//Northampton BID - ECPv6.2.4//NONSGML v1.0//EN
CALSCALE:GREGORIAN
METHOD:PUBLISH
X-ORIGINAL-URL:https://www.discovernorthampton.co.uk
X-WR-CALDESC:Events for Northampton BID
REFRESH-INTERVAL;VALUE=DURATION:PT1H
X-Robots-Tag:noindex
X-PUBLISHED-TTL:PT1H
BEGIN:VTIMEZONE
TZID:Europe/London
BEGIN:DAYLIGHT
TZOFFSETFROM:+0000
TZOFFSETTO:+0100
TZNAME:BST
DTSTART:20230326T010000
END:DAYLIGHT
BEGIN:STANDARD
TZOFFSETFROM:+0100
TZOFFSETTO:+0000
TZNAME:GMT
DTSTART:20231029T010000
END:STANDARD
END:VTIMEZONE
BEGIN:VEVENT
DTSTART;VALUE=DATE:20230722
DTEND;VALUE=DATE:20230723
DTSTAMP:20260423T150443
CREATED:20230720T084029Z
LAST-MODIFIED:20230720T084029Z
UID:114920-1689984000-1690070399@www.discovernorthampton.co.uk
SUMMARY:Mini Golf @ The Market
DESCRIPTION:Families are invited to take part in this fun but challenging activity. Mini-golf runs alongside the beach event from 11am to 3pm on the following days throughout the summer: \n\nSaturday 22 July\nSaturday 19 August\nSaturday 26 August\nSaturday 2 September
URL:https://www.discovernorthampton.co.uk/event/mini-golf-the-market/2023-07-22/
LOCATION:Temp Market Square\, Commercial Street\, northampton\, Northamptonshire\, NN1 1PJ\, United Kingdom
ATTACH;FMTTYPE=image/png:https://www.discovernorthampton.co.uk/wp-content/uploads/2023/07/Market-events-web-image.png
END:VEVENT
BEGIN:VEVENT
DTSTART;VALUE=DATE:20230722
DTEND;VALUE=DATE:20230723
DTSTAMP:20260423T150443
CREATED:20230720T090637Z
LAST-MODIFIED:20230720T090637Z
UID:114932-1689984000-1690070399@www.discovernorthampton.co.uk
SUMMARY:Beach at the Market
DESCRIPTION:Relax on one of our deckchairs while little ones play in the sand. Open every day from 11am to 3pm.
URL:https://www.discovernorthampton.co.uk/event/beach-at-the-market/2023-07-22/
LOCATION:Temp Market Square\, Commercial Street\, northampton\, Northamptonshire\, NN1 1PJ\, United Kingdom
ATTACH;FMTTYPE=image/png:https://www.discovernorthampton.co.uk/wp-content/uploads/2023/07/Market-events-web-image.png
END:VEVENT
BEGIN:VEVENT
DTSTART;TZID=Europe/London:20230722T080000
DTEND;TZID=Europe/London:20230722T170000
DTSTAMP:20260423T150443
CREATED:20230722T095048Z
LAST-MODIFIED:20230722T095048Z
UID:115042-1690012800-1690045200@www.discovernorthampton.co.uk
SUMMARY:BINGO LOCO
DESCRIPTION:
URL:https://www.discovernorthampton.co.uk/event/bingo-loco-4/
LOCATION:Roadmender\, 1 Lady's Ln\, Northampton\, Northamptonshire\, NN1 3AH\, United Kingdom
ATTACH;FMTTYPE=image/jpeg:https://www.discovernorthampton.co.uk/wp-content/uploads/2023/07/Ad-Concept-insta-540x540-1.jpg
END:VEVENT
BEGIN:VEVENT
DTSTART;TZID=Europe/London:20230722T140000
DTEND;TZID=Europe/London:20230722T220000
DTSTAMP:20260423T150443
CREATED:20230720T093222Z
LAST-MODIFIED:20230720T093222Z
UID:114980-1690034400-1690063200@www.discovernorthampton.co.uk
SUMMARY:Groov'nn
DESCRIPTION:Brace yourself for an electrifying experience as the hottest new brand in town\, Groovâ€™nn\, invites you to join us for a night like no other at the highly anticipated First-Ever Party at The Wedgewood on July 22nd!
URL:https://www.discovernorthampton.co.uk/event/groovnn/
LOCATION:the Wedgewood\, 79-81 Abington St\, northampton\, Northamptonshire\, NN1 2BH\, United Kingdom
ATTACH;FMTTYPE=image/png:https://www.discovernorthampton.co.uk/wp-content/uploads/2023/07/1592638_0_groovnn_400.png
END:VEVENT
BEGIN:VEVENT
DTSTART;TZID=Europe/London:20230722T143000
DTEND;TZID=Europe/London:20230722T163000
DTSTAMP:20260423T150443
CREATED:20230626T132252Z
LAST-MODIFIED:20230626T132252Z
UID:114732-1690036200-1690043400@www.discovernorthampton.co.uk
SUMMARY:RDCC: Send Me The Pillow – Celebrating Windrush 75
DESCRIPTION:From Our Community \nIt’s been 75 years since HM Empire Windrush arrived at Tilbury Docks and Royal & Derngate invite you to join us for this vibrant and poignant new piece that will reflect and celebrate the positive impact of Windrush here in Northamptonshire and nationally. \nPart verbatim\, part theatre and part musical\, join the wonderful multicultural Royal & Derngate Community Choir\, joined by additional singers and actors from the local community\, in this brand new show with a collection of songs including original works inspired by local people. Directed by Sharon De Leonardis (Spectacularts) and created with Musical Director Gareth Fuller and artist Weekes Baptiste\, this will be a significant opportunity for all members of the community to celebrate\, discuss and reflect together.
URL:https://www.discovernorthampton.co.uk/event/rdcc-send-me-the-pillow-celebrating-windrush-75/2023-07-22/
LOCATION:Royal and Derngate Theatre\, 19-21 Guildhall Road\, Northampton\, Northamptonshire\, NN1 1DP
ATTACH;FMTTYPE=image/png:https://www.discovernorthampton.co.uk/wp-content/uploads/2023/06/Send-Me-The-Pillow-Cover-1-1170x476-1.png
ORGANIZER;CN="Royal and Derngate":MAILTO:BoxOffice@royalandderngate.co.uk
END:VEVENT
BEGIN:VEVENT
DTSTART;TZID=Europe/London:20230722T180000
DTEND;TZID=Europe/London:20230722T220000
DTSTAMP:20260423T150443
CREATED:20230630T095244Z
LAST-MODIFIED:20230630T095244Z
UID:114838-1690048800-1690063200@www.discovernorthampton.co.uk
SUMMARY:Apero DJ
DESCRIPTION:
URL:https://www.discovernorthampton.co.uk/event/apero-dj-8/
LOCATION:VnB\, 10 St Giles' Square\, Northampton\, Northamptonshire\, NN1 1DA\, United Kingdom
ATTACH;FMTTYPE=image/png:https://www.discovernorthampton.co.uk/wp-content/uploads/2023/06/download-1.png
END:VEVENT
BEGIN:VEVENT
DTSTART;TZID=Europe/London:20230722T200000
DTEND;TZID=Europe/London:20230722T223000
DTSTAMP:20260423T150443
CREATED:20230518T093037Z
LAST-MODIFIED:20230518T093037Z
UID:114100-1690056000-1690065000@www.discovernorthampton.co.uk
SUMMARY:Paul Sinha & Jo Caulfield - Comedy Festival
DESCRIPTION:
URL:https://www.discovernorthampton.co.uk/event/paul-sinha-jo-caulfield-comedy-festival/
LOCATION:Park Inn\, Silver St\, Northampton\, Northants\, NN1 2TA\, United Kingdom
ATTACH;FMTTYPE=image/jpeg:https://www.discovernorthampton.co.uk/wp-content/uploads/2023/05/Park-inn-Previews-Sinha-Caulfield.jpg
END:VEVENT
BEGIN:VEVENT
DTSTART;TZID=Europe/London:20230722T210000
DTEND;TZID=Europe/London:20230722T230000
DTSTAMP:20260423T150443
CREATED:20230629T100234Z
LAST-MODIFIED:20230629T100234Z
UID:114790-1690059600-1690066800@www.discovernorthampton.co.uk
SUMMARY:Jet Black
DESCRIPTION:
URL:https://www.discovernorthampton.co.uk/event/jet-black-2/
LOCATION:The Wig And Pen\, 19 St Giles' St\, northampton\, Northamptonshire\, NN1 1JA\, United Kingdom
ATTACH;FMTTYPE=image/jpeg:https://www.discovernorthampton.co.uk/wp-content/uploads/2023/06/7cf41647-cce3-436d-b6f1-b3aa8fc33b4c.jpg
END:VEVENT
END:VCALENDAR