BEGIN:VCALENDAR
VERSION:2.0
PRODID:-//Northampton BID - ECPv6.2.4//NONSGML v1.0//EN
CALSCALE:GREGORIAN
METHOD:PUBLISH
X-WR-CALNAME:Northampton BID
X-ORIGINAL-URL:https://www.discovernorthampton.co.uk
X-WR-CALDESC:Events for Northampton BID
REFRESH-INTERVAL;VALUE=DURATION:PT1H
X-Robots-Tag:noindex
X-PUBLISHED-TTL:PT1H
BEGIN:VTIMEZONE
TZID:Europe/London
BEGIN:DAYLIGHT
TZOFFSETFROM:+0000
TZOFFSETTO:+0100
TZNAME:BST
DTSTART:20240331T010000
END:DAYLIGHT
BEGIN:STANDARD
TZOFFSETFROM:+0100
TZOFFSETTO:+0000
TZNAME:GMT
DTSTART:20241027T010000
END:STANDARD
END:VTIMEZONE
BEGIN:VEVENT
DTSTART;TZID=Europe/London:20240414T110000
DTEND;TZID=Europe/London:20240414T130000
DTSTAMP:20260420T103451
CREATED:20240326T145938Z
LAST-MODIFIED:20240326T145938Z
UID:119192-1713092400-1713099600@www.discovernorthampton.co.uk
SUMMARY:Women's Wellness Walk
DESCRIPTION:
URL:https://www.discovernorthampton.co.uk/event/womens-wellness-walk-22/
LOCATION:Saints Coffee\, 62 St Giles' St\, Northampton\, Northamptonshire\, NN1 1JW\, United Kingdom
ATTACH;FMTTYPE=image/webp:https://www.discovernorthampton.co.uk/wp-content/uploads/2024/03/2021-02-01_19-36-01_1612208205.webp
END:VEVENT
BEGIN:VEVENT
DTSTART;TZID=Europe/London:20240414T153000
DTEND;TZID=Europe/London:20240414T170000
DTSTAMP:20260420T103451
CREATED:20240326T130354Z
LAST-MODIFIED:20240326T130354Z
UID:119170-1713108600-1713114000@www.discovernorthampton.co.uk
SUMMARY:Mark Jones in On Your Marks!
DESCRIPTION:HE’S BACK! \nIf you’ve seen Mark in any of the last three Christmas pantomimes here at The Deco\, or in his last Comedy for Kids show back in October\, then you’ll know to expect the unexpected!
URL:https://www.discovernorthampton.co.uk/event/mark-jones-in-on-your-marks/
LOCATION:The Old Savoy â€“ The home of The Deco Theatre\, Abington Square\, Northampton\, Northamptonshire\, NN1 4AE
ATTACH;FMTTYPE=image/jpeg:https://www.discovernorthampton.co.uk/wp-content/uploads/2024/03/A5-Front-Mark-Jones-2024-v3-233x300-1.jpg
ORGANIZER;CN="The Deco":MAILTO:Toni@stage-right.co.uk
END:VEVENT
BEGIN:VEVENT
DTSTART;TZID=Europe/London:20240414T160000
DTEND;TZID=Europe/London:20240414T180000
DTSTAMP:20260420T103451
CREATED:20240326T104215Z
LAST-MODIFIED:20240326T104215Z
UID:119123-1713110400-1713117600@www.discovernorthampton.co.uk
SUMMARY:40 Watt?
DESCRIPTION:
URL:https://www.discovernorthampton.co.uk/event/40-watt-3/
LOCATION:The Wig And Pen\, 19 St Giles' St\, northampton\, Northamptonshire\, NN1 1JA\, United Kingdom
ATTACH;FMTTYPE=image/jpeg:https://www.discovernorthampton.co.uk/wp-content/uploads/2024/03/19-st-giles-st-northampton.jpg
END:VEVENT
BEGIN:VEVENT
DTSTART;TZID=Europe/London:20240414T193000
DTEND;TZID=Europe/London:20240414T213000
DTSTAMP:20260420T103451
CREATED:20240320T115137Z
LAST-MODIFIED:20240320T115137Z
UID:119030-1713123000-1713130200@www.discovernorthampton.co.uk
SUMMARY:The Billy Joel Songbook
DESCRIPTION:The greatest love letter ever to the genius that is Billy Joel is returning in 2024! \nThe hugely acclaimed singer-songwriter and pianist Elio Pace  and his incredible band are set to thrill UK audiences once more with the smash-hit award-winning show The Billy Joel Songbook after a sell out tour in 2022. \nThis exciting live show pays homage to one of the most iconic musicians\, singer-songwriters and composers of the 20th Century\, transporting the audience through a catalogue of Joel’s music.  Elio and his band will perform more than 30 hits\, including The Longest Time\, She’s Always A Woman\, An Innocent Man\, Uptown Girl\, Tell Her About It\, The River of Dreams\, We Didn’t Start The Fire and Piano Man.
URL:https://www.discovernorthampton.co.uk/event/the-billy-joel-songbook/
LOCATION:Royal and Derngate Theatre\, 19-21 Guildhall Road\, Northampton\, Northamptonshire\, NN1 1DP
ATTACH;FMTTYPE=image/jpeg:https://www.discovernorthampton.co.uk/wp-content/uploads/2024/03/BJSB_2340x1750_Safe1740x952-1170x476-1.jpg
ORGANIZER;CN="Royal and Derngate":MAILTO:BoxOffice@royalandderngate.co.uk
END:VEVENT
END:VCALENDAR