BEGIN:VCALENDAR
VERSION:2.0
PRODID:-//Northampton BID - ECPv6.2.4//NONSGML v1.0//EN
CALSCALE:GREGORIAN
METHOD:PUBLISH
X-ORIGINAL-URL:https://www.discovernorthampton.co.uk
X-WR-CALDESC:Events for Northampton BID
REFRESH-INTERVAL;VALUE=DURATION:PT1H
X-Robots-Tag:noindex
X-PUBLISHED-TTL:PT1H
BEGIN:VTIMEZONE
TZID:Europe/London
BEGIN:DAYLIGHT
TZOFFSETFROM:+0000
TZOFFSETTO:+0100
TZNAME:BST
DTSTART:20250330T010000
END:DAYLIGHT
BEGIN:STANDARD
TZOFFSETFROM:+0100
TZOFFSETTO:+0000
TZNAME:GMT
DTSTART:20251026T010000
END:STANDARD
END:VTIMEZONE
BEGIN:VEVENT
DTSTART;TZID=Europe/London:20250923T100000
DTEND;TZID=Europe/London:20250923T163000
DTSTAMP:20260426T022738
CREATED:20250904T165728Z
LAST-MODIFIED:20250904T165728Z
UID:130094-1758621600-1758645000@www.discovernorthampton.co.uk
SUMMARY:Nine Creatives @ 78 Derngate
DESCRIPTION:Nine creatives from the very popular\, ever-expanding Open Studios are displaying their diverse range of work and techniques across the galleries\, shop and gardens until Sunday October 5th.  Including glassware\, paintings\, photography\, jewellery\, woodwork and ceramics\, there is something for everyone to appreciate. Free entry and all products for sale.  Open Tuesday to Sunday 10am – 4.30pm
URL:https://www.discovernorthampton.co.uk/event/nine-creatives-78-derngate/2025-09-23/
LOCATION:78 Derngate\, Northampton\, Northamptonshire\, NN1 1UH
CATEGORIES:Cultural
ATTACH;FMTTYPE=image/jpeg:https://www.discovernorthampton.co.uk/wp-content/uploads/2025/09/nine-creatives-as-jpg.jpg
END:VEVENT
BEGIN:VEVENT
DTSTART;TZID=Europe/London:20250923T100000
DTEND;TZID=Europe/London:20250923T170000
DTSTAMP:20260426T022738
CREATED:20250612T095752Z
LAST-MODIFIED:20250612T095752Z
UID:127748-1758621600-1758646800@www.discovernorthampton.co.uk
SUMMARY:From the Collection: Landscapes
DESCRIPTION:For centuries\, landscape was considered an unworthy subject for serious artistic exploration. \nNorthampton Museum & Art Gallery \nUntil Sunday 4 October \nWhen landscape did appear in paintings\, it was often relegated to the background—merely a setting for religious or historical scenes. \nThis perception began to shift in the 17th century with the work of Nicolas Poussin and Claude Lorrain. These pioneering artists crafted idealised rural vistas to illustrate the myths of Ancient Greece and Rome\, imbuing natural elements with metaphorical meaning. Through their romantic and structured visions of the countryside\, landscape painting began to gain recognition as a meaningful art form. \nIt was not until the 19th century\, however\, that landscape truly came into its own. Artists such as J.M.W. Turner and John Constable redefined the genre\, capturing the drama\, emotion\, and grandeur of the natural world. Their work affirmed landscape as a powerful subject in its own right—one that continues to inspire artists to this day. \nDrawing from the museum collections\, this exhibition explores the evolution of landscape painting\, where nature takes centre stage. \nÂ 
URL:https://www.discovernorthampton.co.uk/event/from-the-collection-landscapes/2025-09-23/
LOCATION:Northampton Museum And Art Gallery\, 4-6 Guildhall Rd\,\, Northampton\, Northamptonshire\, NN1 1DP\, United Kingdom
CATEGORIES:Museum
ATTACH;FMTTYPE=image/jpeg:https://www.discovernorthampton.co.uk/wp-content/uploads/2025/06/dmas_fa1992_9_d01_960.jpg
END:VEVENT
BEGIN:VEVENT
DTSTART;TZID=Europe/London:20250923T100000
DTEND;TZID=Europe/London:20250923T170000
DTSTAMP:20260426T022738
CREATED:20250820T111248Z
LAST-MODIFIED:20250820T111248Z
UID:129386-1758621600-1758646800@www.discovernorthampton.co.uk
SUMMARY:Scrum: Women in Rugby
DESCRIPTION:Celebrate the Women’s Rugby World Cup 2025 at Northampton Museum! \n\nNorthampton Museum & Art Gallery \n\nSaturday 16 August â€“ Sunday 2 November 2025 \n\nJoin us at Northampton Museum as we proudly mark Northampton’s role as a host city for the Women’s Rugby World Cup 2025. \nExplore a dynamic exhibition that delves into the rich history of women’s rugby and its growing popularity across Northamptonshire. Discover powerful images from local photographers\, capturing the energy and dedication of players\, coaches\, and club staff\, both on and off the pitch. \nFrom grassroots heroes to elite teams like Loughborough Lightning and the Red Roses\, this exhibition showcases the heart and passion behind the game. \nDon’t miss this exciting celebration of sport\, community\, and women’s rugby in action! \n\nÂ 
URL:https://www.discovernorthampton.co.uk/event/scrum-women-in-rugby/2025-09-23/
LOCATION:Northampton Museum And Art Gallery\, 4-6 Guildhall Rd\,\, Northampton\, Northamptonshire\, NN1 1DP\, United Kingdom
CATEGORIES:Rugby,Women's Rugby World Cup,Womens' Rugby World Cup
ATTACH;FMTTYPE=image/png:https://www.discovernorthampton.co.uk/wp-content/uploads/2025/08/Scrum_Lead_image_960_x_640.png
END:VEVENT
BEGIN:VEVENT
DTSTART;TZID=Europe/London:20250923T100000
DTEND;TZID=Europe/London:20250923T170000
DTSTAMP:20260426T022738
CREATED:20250918T080814Z
LAST-MODIFIED:20251224T112011Z
UID:130423-1758621600-1758646800@www.discovernorthampton.co.uk
SUMMARY:A History of Northamptonshire in 100 Objects
DESCRIPTION:Journey through 150 million years of Northamptonshireâ€™s past. From prehistoric treasures to modern marvels\, 100 remarkable objects reveal the people\, events\, and industries that shaped the county\, each telling a unique story of its cultural\, social\, and economic heritage. Northampton Museum & Art Gallery Saturday 20 September â€“ Sunday 22 February 2026 This exhibition has been shaped by an extraordinary network of 51 guest curators from across the county\, each bringing their own expertise and local knowledge to the project. These dedicated individuals\, from historians and collectors to community groups\, have worked alongside the museum team to select objects and craft narratives. Their collaborative efforts ensure this exhibition truly reflects the breadth of Northamptonshireâ€™s heritage\, guided by those who know their communities best.
URL:https://www.discovernorthampton.co.uk/event/a-history-of-northamptonshire-in-100-objects/2025-09-23/
LOCATION:Northampton Museum And Art Gallery\, 4-6 Guildhall Rd\,\, Northampton\, Northamptonshire\, NN1 1DP\, United Kingdom
CATEGORIES:Museum
ATTACH;FMTTYPE=image/jpeg:https://www.discovernorthampton.co.uk/wp-content/uploads/2025/09/1_960x640.jpg
END:VEVENT
BEGIN:VEVENT
DTSTART;TZID=Europe/London:20250923T100000
DTEND;TZID=Europe/London:20250923T170000
DTSTAMP:20260426T022738
CREATED:20251002T102838Z
LAST-MODIFIED:20251002T102838Z
UID:131001-1758621600-1758646800@www.discovernorthampton.co.uk
SUMMARY:From Ashes to Restoration: The Great Fire that Reshaped Northampton
DESCRIPTION:Â  \n\n\n\n\n\nAn animated film to mark the 350th anniversary of the Great Fire of Northampton. \n\n\nNorthampton Museum & Art Gallery \nSaturday 20 September â€“ Sunday 5 October \n\n(Please note: the film will not be available on the afternoons of Friday 26 & Saturday 27 September) \nSaturday 20 September marks the 350th anniversary of the Great Fire of Northampton – a devastating event that tore through the town\, destroying 700 of 850 buildings in the centre and claiming 11 lives. \nExperience a digital 270° surround animated film that brings to life the events of that fateful day and the remarkable story of recovery that followed. \n\n\n\n\n\n\nÂ 
URL:https://www.discovernorthampton.co.uk/event/from-ashes-to-restoration-the-great-fire-that-reshaped-northampton/2025-09-23/
LOCATION:Northampton Museum And Art Gallery\, 4-6 Guildhall Rd\,\, Northampton\, Northamptonshire\, NN1 1DP\, United Kingdom
CATEGORIES:Great Fire of Northampton 350,Museum,The Great Fire of Northampton
ATTACH;FMTTYPE=image/jpeg:https://www.discovernorthampton.co.uk/wp-content/uploads/2025/10/Great_Fire_NMAG_Website_Image_960x640.jpg
END:VEVENT
BEGIN:VEVENT
DTSTART;TZID=Europe/London:20250923T100000
DTEND;TZID=Europe/London:20250923T170000
DTSTAMP:20260426T022738
CREATED:20251002T103121Z
LAST-MODIFIED:20251002T103121Z
UID:131017-1758621600-1758646800@www.discovernorthampton.co.uk
SUMMARY:12 Artists\, Two Venues\, Limitless Creativity
DESCRIPTION:12 artists coming together at both Northampton Museum and Art Gallery and Abington Park Museum \n\nNorthampton Museum & Art Gallery & Abington Park Museum \nSaturday 13 September â€“ Sunday 9 November 2025 \nA mix of mediums including ceramics\, sculpture\, paintings\, glass\, woodwork\, printing\, papercut illustrations\, drawing\, felted art and mixed media art. \nPart of Northampton and Rutland Open Studios\n\n\n\nÂ 
URL:https://www.discovernorthampton.co.uk/event/12-artists-two-venues-limitless-creativity/2025-09-23/
LOCATION:Northampton Museum And Art Gallery\, 4-6 Guildhall Rd\,\, Northampton\, Northamptonshire\, NN1 1DP\, United Kingdom
CATEGORIES:Museum
ATTACH;FMTTYPE=image/jpeg:https://www.discovernorthampton.co.uk/wp-content/uploads/2025/10/NMAG_POSTER_A4_NROS_PROOF_V4_CROP_NO_TEXT_960x640.jpg
END:VEVENT
BEGIN:VEVENT
DTSTART;TZID=Europe/London:20250923T183000
DTEND;TZID=Europe/London:20250923T203000
DTSTAMP:20260426T022738
CREATED:20250327T110051Z
LAST-MODIFIED:20250327T110051Z
UID:125101-1758652200-1758659400@www.discovernorthampton.co.uk
SUMMARY:Evening Business Networking
DESCRIPTION:Elevate Your Evenings with Evening Business Networking in Northampton! \nLooking to make the most of your evenings as a business professional in Northampton? Join the BusComm Northampton Evening Business Networking group and unlock a world of opportunities while building lasting connections. \nWhy Choose the BusComm Evening Business Networking meeting in Northampton? \n\nOptimal Timing for Busy Professionals: We understand the demands of daytime schedules\, so we bring networking events to your evenings. Now\, you can expand your network without compromising your daytime commitments.\nEffective Networking Environment: Our evening events are designed to create a relaxed yet productive networking environment. Connect with like-minded professionals in a setting that fosters meaningful conversations.\nDiverse Network Connections: Expand your network beyond your immediate industry by connecting with professionals from various sectors. Discover new opportunities and potential collaborations.\nExpand Your Reach: BusComm Northampton Evening Business Networking offers you the chance to extend your reach and connect with professionals from various industries\, opening new doors for collaboration and growth\nAfter-Hours Convenience: No need to rush to networking events during the day. Our evening events are conveniently scheduled\, allowing you to attend with ease and focus on building valuable connections.\n\nMake your evenings count â€“ join the BusComm Northampton Evening Business Networking meeting now! \nThese meetings are held on the 4th Tuesday of the month (except for December â€“ when the meeting is pulled forward by a week and it is a Xmas party instead of the normal meeting). \nPlus\, as confidence is high that you will find the meeting of value; even on your first visit -  there is a Money-Back Guarantee. If you didnâ€™t find the experience valuable then your investment will be refunded. satisfaction. \nAbout the group \nMark Coster\, Pixooma\, is the co-leader of the group\, along with Wendy Tate\, Bean Counters\, â€“ keeping things running smoothly\, welcoming regulars and new visitors alike which contributes to an engaging and interactive meeting. Some more information about them is at the footer of this page. \nThe number of attendees vary from meeting to meeting; as there is no obligation to attend each meeting. The minimum for any networking group is 12\, the maximum is 28; this group averages around 13 attendees. \nSome useful pages to explore to find out more about the groups: \n\nWhat to expect\nWho attends\nHow to make the most of your visit\n\nBook a meeting now
URL:https://www.discovernorthampton.co.uk/event/evening-business-networking/2025-09-23/
LOCATION:Cheyne Walk Club\, 2 Cheyne Walk\, northampton\, Northamptonshire\, NN1 5PU\, United Kingdom
CATEGORIES:Networking
ATTACH;FMTTYPE=image/png:https://www.discovernorthampton.co.uk/wp-content/uploads/2025/03/Triptych-Side-13.png
END:VEVENT
BEGIN:VEVENT
DTSTART;TZID=Europe/London:20250923T193000
DTEND;TZID=Europe/London:20250923T193000
DTSTAMP:20260426T022738
CREATED:20250619T085539Z
LAST-MODIFIED:20250619T085539Z
UID:127837-1758655800-1758655800@www.discovernorthampton.co.uk
SUMMARY:Uncanny: Fear of the Dark
DESCRIPTION:From the team behind the sell-out show Uncanny: I Know What I Saw \nUncanny: Fear Of The Dark \nThe first Uncanny live stage show I Know What I Saw was one of the best-selling paranormal shows in theatre history. \nNow\, Danny Robins and his team of experts are back with a brand-new show for 2025\, with even more terrifying real-life stories and witness accounts that will have you gripped from the very beginning. \nThis is not an ordinary podcast show. This is story-telling and paranormal investigation at its peak. Using a unique mix of sound\, projection and stagecraft\, recollections of hauntings\, apparitions and events that seem to defy logical explanation are examined by Danny\, Ciarán O’Keeffe and Evelyn Hollow\, with input from you\, the audience\, as you get the chance to share your theories and your own experiences. \nAs always\, whether you are team sceptic\, team believer or somewhere in between\, everyone is welcome. \nThe only question to ask before you come is; do you have a fear of the dark? \n\nPre-Show Meet & Greet Opportunity available to add at checkout. Places are limited.
URL:https://www.discovernorthampton.co.uk/event/uncanny-fear-of-the-dark/
LOCATION:Royal and Derngate Theatre\, 19-21 Guildhall Road\, Northampton\, Northamptonshire\, NN1 1DP
CATEGORIES:Royal and Derngate,Theatre
ATTACH;FMTTYPE=image/png:https://www.discovernorthampton.co.uk/wp-content/uploads/2025/06/Untitled-design-16-1170x476-1.png
ORGANIZER;CN="Royal and Derngate":MAILTO:BoxOffice@royalandderngate.co.uk
END:VEVENT
BEGIN:VEVENT
DTSTART;TZID=Europe/London:20250923T193000
DTEND;TZID=Europe/London:20250923T193000
DTSTAMP:20260426T022738
CREATED:20250918T160248Z
LAST-MODIFIED:20250918T160318Z
UID:130786-1758655800-1758655800@www.discovernorthampton.co.uk
SUMMARY:Breaking The Code
DESCRIPTION:“It’s not breaking a code that matters\, it’s where you go from there” \nMastermind. Code breaker. Maverick. Arguably one of the most important and inquisitive minds of the twentieth century.  Alan Turing is famed for cracking the Enigma code at Bletchley Park\, effectively securing victory for the Allied forces in WWII. \nFrom triumph to tragedy\, get to know a human being who loved\, lost and never stopped asking questions in a quest for truth and understanding in this new production of Hugh Whitemore’s Breaking The Code. \nFor the first time\, taking into consideration his recent Royal pardon and the development of Turing’s law\, the original play will feature a new epilogue by Neil Bartlett that speaks to Turing’s lasting legacy on modern Britain. \nStay after the audio described performance on Wed 24 September for an exclusive Post-Show Q&A with director Jesse Jones and the cast of Breaking The Code. Dive deeper into the story\, the production\, and the creative process in this engaging discussion\, which will be audio described for accessibility. \nA ROYAL & DERNGATE\, NORTHAMPTON\, LANDMARK THEATRES AND OXFORD PLAYHOUSE CO-PRODUCTION IN ASSOCIATION WITH LIVERPOOL EVERYMAN & PLAYHOUSE AND HOME \nDOWNLOAD FREE DIGITAL PROGRAMME \nDOWNLOAD VENUE AND SHOW VISUAL STORY
URL:https://www.discovernorthampton.co.uk/event/breaking-the-code/2025-09-23/
LOCATION:Royal and Derngate Theatre\, 19-21 Guildhall Road\, Northampton\, Northamptonshire\, NN1 1DP
CATEGORIES:Theatre
ATTACH;FMTTYPE=image/jpeg:https://www.discovernorthampton.co.uk/wp-content/uploads/2025/09/BTC_website_2340-x-978-px-aw-NO-LOGO-NO-BILLING-copy-1170x476-1.jpg
ORGANIZER;CN="Royal and Derngate":MAILTO:BoxOffice@royalandderngate.co.uk
END:VEVENT
BEGIN:VEVENT
DTSTART;TZID=Europe/London:20250923T200000
DTEND;TZID=Europe/London:20250923T230000
DTSTAMP:20260426T022738
CREATED:20251001T162037Z
LAST-MODIFIED:20251001T162037Z
UID:130979-1758657600-1758668400@www.discovernorthampton.co.uk
SUMMARY:Navratri Celebrations 2025
DESCRIPTION:Please join us for Navratri Celebrations\nAt University of Northampton (Waterside Campus)\nIn The Learning Hub (The Market)\nNew South Bridge Road. NN4 8RR\n///what3words ///hurls.repair.chew (link for entrance to car park 4) \nFrom Monday\, 22nd September To Wednesday\, 1st October\nAnd Sharad Purnima on Monday\, 6th October\nFrom 8:00 pm till Late \nDJ Music\nOPEN TO ALL \nPayment for Parking is CASHLESS [Pay by Card or Via RINGO App ONLY]\nWeekday Evenings (5pm – Midnight) = 50p\nSaturday or Sunday (7am – Midnight) = Ł1
URL:https://www.discovernorthampton.co.uk/event/navratri-celebrations-2025/2025-09-23/
LOCATION:University of Northampton\, Waterside Campus\, University Dr\, northampton\, Northamptonshire\, NN1 5PH\, United Kingdom
ATTACH;FMTTYPE=image/jpeg:https://www.discovernorthampton.co.uk/wp-content/uploads/2025/10/IHWO-Navratri-2025-1.jpg
END:VEVENT
END:VCALENDAR