BEGIN:VCALENDAR
VERSION:2.0
PRODID:-//Northampton BID - ECPv6.2.4//NONSGML v1.0//EN
CALSCALE:GREGORIAN
METHOD:PUBLISH
X-ORIGINAL-URL:https://www.discovernorthampton.co.uk
X-WR-CALDESC:Events for Northampton BID
REFRESH-INTERVAL;VALUE=DURATION:PT1H
X-Robots-Tag:noindex
X-PUBLISHED-TTL:PT1H
BEGIN:VTIMEZONE
TZID:Europe/London
BEGIN:DAYLIGHT
TZOFFSETFROM:+0000
TZOFFSETTO:+0100
TZNAME:BST
DTSTART:20250330T010000
END:DAYLIGHT
BEGIN:STANDARD
TZOFFSETFROM:+0100
TZOFFSETTO:+0000
TZNAME:GMT
DTSTART:20251026T010000
END:STANDARD
END:VTIMEZONE
BEGIN:VEVENT
DTSTART;TZID=Europe/London:20251013T110000
DTEND;TZID=Europe/London:20251013T130000
DTSTAMP:20260425T184027
CREATED:20251009T151029Z
LAST-MODIFIED:20251009T151029Z
UID:131193-1760353200-1760360400@www.discovernorthampton.co.uk
SUMMARY:CURATION
DESCRIPTION:EXPLORING THE SOCIETY’S COLLECTIONS. The society has important collections including butterflies\, shells\, eggs\, sands\, microscope slides\, rocks\, minerals and Northamptonshire fossils. This is a great opportunity to look at our extensive collections\, to draw\, study them or just appreciate their beauty. Also\, if you wish to assist us conserving or documenting you would be welcome.
URL:https://www.discovernorthampton.co.uk/event/curation-15/
LOCATION:Northamptonshire Natural History Society\, The Humfrey Rooms\, 10 Castilian Terrace\, Northampton\, Northampton\, Northamptonshire\, NN1 1LD\, United Kingdom
CATEGORIES:Natural History
ATTACH;FMTTYPE=image/png:https://www.discovernorthampton.co.uk/wp-content/uploads/2024/07/Northamptonshire-Natural-History-Society.png
END:VEVENT
BEGIN:VEVENT
DTSTART;TZID=Europe/London:20251013T193000
DTEND;TZID=Europe/London:20251013T213000
DTSTAMP:20260425T184027
CREATED:20251009T151125Z
LAST-MODIFIED:20251009T151125Z
UID:131195-1760383800-1760391000@www.discovernorthampton.co.uk
SUMMARY:ASTRONOMY
DESCRIPTION:TELESCOPIC TOPICS A meeting comprising member contributions on various astronomy themes. Your chance to show the section observations you have made\, equipment you are using or anything else that has interested you enough to share it with the section. If you have a special interest and would like to participate as a speaker please let the secretary know beforehand. Guests are very welcome.
URL:https://www.discovernorthampton.co.uk/event/astronomy-12/
LOCATION:Northamptonshire Natural History Society\, The Humfrey Rooms\, 10 Castilian Terrace\, Northampton\, Northampton\, Northamptonshire\, NN1 1LD\, United Kingdom
CATEGORIES:Natural History
ATTACH;FMTTYPE=image/png:https://www.discovernorthampton.co.uk/wp-content/uploads/2024/07/Northamptonshire-Natural-History-Society.png
END:VEVENT
END:VCALENDAR