BEGIN:VCALENDAR
VERSION:2.0
PRODID:-//Northampton BID - ECPv6.2.4//NONSGML v1.0//EN
CALSCALE:GREGORIAN
METHOD:PUBLISH
X-WR-CALNAME:Northampton BID
X-ORIGINAL-URL:https://www.discovernorthampton.co.uk
X-WR-CALDESC:Events for Northampton BID
REFRESH-INTERVAL;VALUE=DURATION:PT1H
X-Robots-Tag:noindex
X-PUBLISHED-TTL:PT1H
BEGIN:VTIMEZONE
TZID:Europe/London
BEGIN:DAYLIGHT
TZOFFSETFROM:+0000
TZOFFSETTO:+0100
TZNAME:BST
DTSTART:20260329T010000
END:DAYLIGHT
BEGIN:STANDARD
TZOFFSETFROM:+0100
TZOFFSETTO:+0000
TZNAME:GMT
DTSTART:20261025T010000
END:STANDARD
END:VTIMEZONE
BEGIN:VEVENT
DTSTART;TZID=Europe/London:20260410T090000
DTEND;TZID=Europe/London:20260410T170000
DTSTAMP:20260420T083851
CREATED:20260326T093205Z
LAST-MODIFIED:20260402T151305Z
UID:135369-1775811600-1775840400@www.discovernorthampton.co.uk
SUMMARY:Iconic Easter Rabbit Trail
DESCRIPTION:Complete a trail of town centre shops and track down 14 iconic rabbits on display in Northampton town centre this Easter.\nParticipants will given a map of the town with 15 locations. You will need to visit each location\, where you will find a wooden figure of a well-known rabbit from the world of film\, TV or books.\nEach rabbit will be holding an Easter egg featuring a letter. You will need to find all 14 letters and unscramble them to come up with a popular Easter phrase.\nWhen you have completed the entry form by spelling out the phrase\, you can exchange it for a chocolate treat from Market Square News.\nYou will then be entered into a prize draw\, with two winners each receiving a £50 voucher to spend in a town centre business of your choice.\nThe trail starts on Saturday\, 28 March and will end on Sunday\, 12 April.\n\nFor full details visit: http://www.discovernorthampton.co.uk/iconic-easter…/
URL:https://www.discovernorthampton.co.uk/event/iconic-easter-rabbit-trail/2026-04-10/
LOCATION:Northampton Town Centre
CATEGORIES:Easter
ATTACH;FMTTYPE=image/jpeg:https://www.discovernorthampton.co.uk/wp-content/uploads/2026/03/653890345_1524706632998556_4067493598038194585_n.jpg
END:VEVENT
BEGIN:VEVENT
DTSTART;TZID=Europe/London:20260410T100000
DTEND;TZID=Europe/London:20260410T160000
DTSTAMP:20260420T083851
CREATED:20260324T170718Z
LAST-MODIFIED:20260324T170718Z
UID:135221-1775815200-1775836800@www.discovernorthampton.co.uk
SUMMARY:Sabari Sen: A Journey in Clay and Colour
DESCRIPTION:From 2nd April to 2nd May in the Mezzanine Space. \nEntry to all exhibitions is free
URL:https://www.discovernorthampton.co.uk/event/sabari-sen-a-journey-in-clay-and-colour/2026-04-10/
LOCATION:78 Derngate\, Northampton\, Northamptonshire\, NN1 1UH
CATEGORIES:Exhibition
ATTACH;FMTTYPE=image/jpeg:https://www.discovernorthampton.co.uk/wp-content/uploads/2026/03/SS-ART-AND-CERAMICS-78-DERNGATE-March-2026-JLD01-JPG-scaled.jpg
END:VEVENT
BEGIN:VEVENT
DTSTART;TZID=Europe/London:20260410T100000
DTEND;TZID=Europe/London:20260410T160000
DTSTAMP:20260420T083851
CREATED:20260324T171034Z
LAST-MODIFIED:20260324T171034Z
UID:135258-1775815200-1775836800@www.discovernorthampton.co.uk
SUMMARY:Barry Roberts: Glimpses through the Archive
DESCRIPTION:Photography from around the world; including a prize drawer to win a framed print of your choice! Ends May
URL:https://www.discovernorthampton.co.uk/event/barry-roberts-glimpses-through-the-archive/2026-04-10/
LOCATION:78 Derngate\, Northampton\, Northamptonshire\, NN1 1UH
CATEGORIES:Exhibition
ATTACH;FMTTYPE=image/jpeg:https://www.discovernorthampton.co.uk/wp-content/uploads/2026/03/IMG_3058.jpeg
END:VEVENT
BEGIN:VEVENT
DTSTART;TZID=Europe/London:20260410T100000
DTEND;TZID=Europe/London:20260410T163000
DTSTAMP:20260420T083851
CREATED:20260319T104240Z
LAST-MODIFIED:20260319T104240Z
UID:135109-1775815200-1775838600@www.discovernorthampton.co.uk
SUMMARY:Architectural Heads/Flower Heads
DESCRIPTION:We are delighted to host two much-travelled contemporary artists\, Piero Serra & Simington who will be displaying their work in the Barwell Room from Tuesday March 10 th to the end of May. \nWith very different styles and techniques\, the two friends chose to collaborate on this exhibition entitled ‘Architectural Heads/Flower Heads’. \nSerra\, who trained as an architect\, was born in Northampton. He shows us his extraordinary drawings which were partially inspired by architectural forms soon after he moved to Berlin\, where he still lives. Serra who trained as an architect\, was born in Northampton. \nSimington’s work shows us constructed composite images\, which can be made up of multiple layers\, to create worlds which take on a life of their own. Liam was born in Scotland\, has lived in both Japan and Egypt and now resides in Northamptonshire. \nHouse and Galleries are open Tuesday to Sunday 10am – 4.30pm. A small entrance fee applies for visits to the heritage house but entry to all exhibitions is free.
URL:https://www.discovernorthampton.co.uk/event/architectural-heads-flower-heads/2026-04-10/
LOCATION:78 Derngate\, Northampton\, Northamptonshire\, NN1 1UH
CATEGORIES:78 Derngate
ATTACH;FMTTYPE=image/jpeg:https://www.discovernorthampton.co.uk/wp-content/uploads/2026/03/69aaf9c6c8e1df8a1200c937_architectural-heads-flower-heads-1.jpeg
END:VEVENT
BEGIN:VEVENT
DTSTART;TZID=Europe/London:20260410T100000
DTEND;TZID=Europe/London:20260410T170000
DTSTAMP:20260420T083851
CREATED:20251120T095408Z
LAST-MODIFIED:20260108T155603Z
UID:132117-1775815200-1775840400@www.discovernorthampton.co.uk
SUMMARY:From the Collection: Women Artists
DESCRIPTION:An exhibition of artworks from NMAG’s collection celebrates the variety of genres\, methods and media used by women artists\, from the eighteenth to the twenty-first century. Northampton Museum & Art Gallery Saturday 11 November – Sunday 12 April 2026 Throughout history\, both men and women have created art\, yet only a select few have been remembered within Western art history. Art by men was historically valued more highly than art by women\, reflecting broader beliefs that only men could possess artistic or creative genius. Certain genres and mediums were also considered more prestigious\, while work made in the domestic sphere was dismissed as craft or decoration rather than recognised as fine art. Women were barred from studying nude figures a crucial part of classical art training until the late 1800s. Second-wave feminism in the twentieth century\, and wider social changes in the twenty-first\, have challenged these hierarchies. Today\, women are at the forefront of artistic production\, with artists such as Tracey Emin\, Maggi Hambling\, Rachel Whiteread and Jasleen Kaur recognised as leading voices in contemporary art.
URL:https://www.discovernorthampton.co.uk/event/from-the-collection-women-artists/2026-04-10/
LOCATION:Northampton Museum And Art Gallery\, 4-6 Guildhall Rd\,\, Northampton\, Northamptonshire\, NN1 1DP\, United Kingdom
CATEGORIES:Exhibition,Museum
ATTACH;FMTTYPE=image/jpeg:https://www.discovernorthampton.co.uk/wp-content/uploads/2025/11/Lecture_2__Dorothea_Sharp_____The_Sands_960_x_640.jpg
END:VEVENT
BEGIN:VEVENT
DTSTART;TZID=Europe/London:20260410T100000
DTEND;TZID=Europe/London:20260410T170000
DTSTAMP:20260420T083851
CREATED:20260204T150815Z
LAST-MODIFIED:20260204T150815Z
UID:134372-1775815200-1775840400@www.discovernorthampton.co.uk
SUMMARY:Carboniferous Monsters: 100 million years before the Dinosaurs
DESCRIPTION:Step back to the Carboniferous period\, 100 million years before the dinosaurs. \nNorthampton Museum & Art Gallery \n\n\n\n\n\nSaturday 21 February – Sunday 7 June 2026\n\n\n\n\n\nVisit tropical forests and swamps teeming with bizarre and ferocious ancient monsters\, some of which had larger teeth than T. rex. Meet the dinosaurs’ distant ancestors\, the very first reptiles\, the largest creepy-crawlies ever to live\, and prehistoric animals unlike anything you’ve ever seen before! \nA must-see for prehistoric monster fans of all ages!
URL:https://www.discovernorthampton.co.uk/event/carboniferous-monsters-100-million-years-before-the-dinosaurs/2026-04-10/
LOCATION:Northampton Museum And Art Gallery\, 4-6 Guildhall Rd\,\, Northampton\, Northamptonshire\, NN1 1DP\, United Kingdom
CATEGORIES:Museum
ATTACH;FMTTYPE=image/jpeg:https://www.discovernorthampton.co.uk/wp-content/uploads/2026/02/Carboniferous_Monsters_Website_Image_960x640.jpg
END:VEVENT
BEGIN:VEVENT
DTSTART;TZID=Europe/London:20260410T100000
DTEND;TZID=Europe/London:20260410T170000
DTSTAMP:20260420T083851
CREATED:20260407T155710Z
LAST-MODIFIED:20260407T155710Z
UID:135850-1775815200-1775840400@www.discovernorthampton.co.uk
SUMMARY:Art and Comics Unwrapped: Exploring the Line Between Comics and Fine Art
DESCRIPTION:This Exhibition explores the similarities between fine art and comics and how they are produced. It will explain the process of how comics are created and examine the common elements from fine art; the drawing\, the painting and the poetry. It will also exhibit a story of epic proportions without superheroes\, just ordinary people.
URL:https://www.discovernorthampton.co.uk/event/art-and-comics-unwrapped-exploring-the-line-between-comics-and-fine-art/2026-04-10/
LOCATION:Northampton Museum And Art Gallery\, 4-6 Guildhall Rd\,\, Northampton\, Northamptonshire\, NN1 1DP\, United Kingdom
CATEGORIES:Exhibition,Museum
ATTACH;FMTTYPE=image/jpeg:https://www.discovernorthampton.co.uk/wp-content/uploads/2026/04/Comics-Unwrapped-Poster-image-1280x1967-1.jpg
END:VEVENT
BEGIN:VEVENT
DTSTART;TZID=Europe/London:20260410T123000
DTEND;TZID=Europe/London:20260410T140000
DTSTAMP:20260420T083851
CREATED:20260319T102427Z
LAST-MODIFIED:20260319T102427Z
UID:135010-1775824200-1775829600@www.discovernorthampton.co.uk
SUMMARY:Craft and chatter
DESCRIPTION:If you’re looking for a way to unwind after a busy week or just want to make some new crafting friends\, come along with your chosen craft to these friendly informal sessions. \nThey take place every Friday lunchtime in the Northampton Museum & Art Gallery lower café area. \nDrop in – no booking required but please purchase a drink or something to eat from the cafe.
URL:https://www.discovernorthampton.co.uk/event/craft-and-chatter-5/2026-04-10/
LOCATION:Northampton Museum And Art Gallery\, 4-6 Guildhall Rd\,\, Northampton\, Northamptonshire\, NN1 1DP\, United Kingdom
CATEGORIES:Museum
ATTACH;FMTTYPE=image/jpeg:https://www.discovernorthampton.co.uk/wp-content/uploads/2026/03/Knit_and_Natter-768x512-1.jpg
END:VEVENT
BEGIN:VEVENT
DTSTART;TZID=Europe/London:20260410T134500
DTEND;TZID=Europe/London:20260410T154500
DTSTAMP:20260420T083851
CREATED:20260409T133115Z
LAST-MODIFIED:20260409T133115Z
UID:136050-1775828700-1775835900@www.discovernorthampton.co.uk
SUMMARY:Northants History Network Meeting
DESCRIPTION:You’re warmly invited to join us for the next Northants History Network gathering — a chance for local historians\, archivists\, heritage groups\, and anyone passionate about Northamptonshire’s rich past to connect\, share\, and collaborate.\nWhether you’re part of a history group\, researching family/local history\, or simply interested in preserving our county’s stories\, you’re very welcome!
URL:https://www.discovernorthampton.co.uk/event/northants-history-network-meeting/
LOCATION:Northampton Central Library\, Abington Street\, Northampton\, Northamptonshire\, NN1 2BA\, United Kingdom
ATTACH;FMTTYPE=image/jpeg:https://www.discovernorthampton.co.uk/wp-content/uploads/2026/04/658223397_950069067775729_8886222717953367884_n.jpg
END:VEVENT
BEGIN:VEVENT
DTSTART;TZID=Europe/London:20260410T180000
DTEND;TZID=Europe/London:20260410T223000
DTSTAMP:20260420T083851
CREATED:20260109T094744Z
LAST-MODIFIED:20260109T094744Z
UID:133737-1775844000-1775860200@www.discovernorthampton.co.uk
SUMMARY:THE BLACK CHERADE- FELL OUT BOY-DOOKIE & METEORA – THE ROADMENDER
DESCRIPTION:Selling out shows up and down the country this night\, one of the biggest Emo & Nu-Metal Celebrations\, with full headline shows from the Black charade and Fell Out Boy plus greatest hits from Meteora and Dookie.
URL:https://www.discovernorthampton.co.uk/event/the-black-cherade-fell-out-boy-dookie-meteora-the-roadmender/
LOCATION:Roadmender\, 1 Lady's Ln\, Northampton\, Northamptonshire\, NN1 3AH\, United Kingdom
CATEGORIES:MUSIC
ATTACH;FMTTYPE=image/png:https://www.discovernorthampton.co.uk/wp-content/uploads/2026/01/Screenshot-2026-01-09-094522.png
END:VEVENT
BEGIN:VEVENT
DTSTART;TZID=Europe/London:20260410T193000
DTEND;TZID=Europe/London:20260410T193000
DTSTAMP:20260420T083851
CREATED:20260401T153304Z
LAST-MODIFIED:20260401T153304Z
UID:135410-1775849400-1775849400@www.discovernorthampton.co.uk
SUMMARY:Party Season
DESCRIPTION:PAY WHAT YOU CAN: Join us for the Relaxed performance on Saturday 11 April at 2.30pm. A great option for parents\, with babes in arms welcome\, and a more informal atmosphere designed to help audiences feel comfortable. Relaxed performances are open to everyone. \n\n \nThree parties. One weekend. The invitations have been sent and there’s no going back…it’s Party Season! \nXander is back in town\, and this weekend he’s on parenting duty. The kids are in the ball pit; the Entertainer is blowing bubbles; the adults gobble Perelló olives and pretend to like each other. As ancient grudges rear their heads\, the tension rises like a helium balloon. Caught between who he was and who he’s supposed to be\, Xander must decide whether he’s going to grow up or just pass the parcel. \nFrom the multi-award-winning creators of Education\, Education\, Education and The Last Of The Pelican Daughters comes a sugar-fuelled\, bobbin-winding fever dream where class identities collide\, social niceties unravel\, and underslept parents do their best to hold it all together. \nParty Season is a razor-sharp new comedy about privilege\, party rings and the pressures of being a parent. RSVP! \nA Royal & Derngate\, Northampton\, Wardrobe Ensemble and Lowry co-production \nAudience Notices: This production contains Strong Language\, Use of Haze\, Flashing Lights (no strobes) and Loud Noises throughout.
URL:https://www.discovernorthampton.co.uk/event/party-season/2026-04-10/
LOCATION:Royal and Derngate Theatre\, 19-21 Guildhall Road\, Northampton\, Northamptonshire\, NN1 1DP
CATEGORIES:Royal and Derngate,Theatre
ATTACH;FMTTYPE=image/jpeg:https://www.discovernorthampton.co.uk/wp-content/uploads/2026/03/Party-Season-portrait-scaled.jpg
ORGANIZER;CN="Royal and Derngate":MAILTO:BoxOffice@royalandderngate.co.uk
END:VEVENT
BEGIN:VEVENT
DTSTART;TZID=Europe/London:20260410T193000
DTEND;TZID=Europe/London:20260410T193000
DTSTAMP:20260420T083851
CREATED:20260401T154344Z
LAST-MODIFIED:20260401T154344Z
UID:135425-1775849400-1775849400@www.discovernorthampton.co.uk
SUMMARY:Fisherman’s Friends
DESCRIPTION:In celebration of performing together for over 30 years on stages across the world\, Fisherman’s Friends are proud to announce their new UK tour. \nHaving sold out every venue on their last tour including the Royal Albert Hall\, the band look forward to performing old songs and new at Royal & Derngate. \nThey have two feature films to their name\, ten album releases\, a musical inspired by their story\, a BBC Folk Award\, a best-selling book\, TV documentary and prestigious performances from The Queen’s Diamond Jubilee celebrations to Hyde Park Proms in the Park\, the Pyramid Stage at Glastonbury and 80\,000 rugby fans at Twickenham…and even a performance on Strictly Come Dancing. \nAll the above and more has been achieved while holding down their day jobs. The Fisherman’s Friends are lobster fisherman Jeremy Brown\, author and shopkeeper Jon Cleave\, smallholder and engineer John ‘Lefty’ Lethbridge\, builder John McDonnell (a Yorkshireman who visited Port Isaac more than 30 years ago and never left)\, Padstow fisherman Jason Nicholas\, filmmaker Toby Lobb\, electrician Simon Biddick and two very talented musicians Marcus Bonfanti and Simon Johnson.
URL:https://www.discovernorthampton.co.uk/event/fishermans-friends-2/
LOCATION:Royal and Derngate Theatre\, 19-21 Guildhall Road\, Northampton\, Northamptonshire\, NN1 1DP
CATEGORIES:Royal and Derngate,Theatre
ATTACH;FMTTYPE=image/jpeg:https://www.discovernorthampton.co.uk/wp-content/uploads/2026/04/FF_2340x978_Northampton-1170x476-1.jpg
ORGANIZER;CN="Royal and Derngate":MAILTO:BoxOffice@royalandderngate.co.uk
END:VEVENT
BEGIN:VEVENT
DTSTART;TZID=Europe/London:20260410T194500
DTEND;TZID=Europe/London:20260410T194500
DTSTAMP:20260420T083851
CREATED:20260401T154711Z
LAST-MODIFIED:20260401T154732Z
UID:135428-1775850300-1775850300@www.discovernorthampton.co.uk
SUMMARY:Screaming Blue Murder Comedy Club
DESCRIPTION:Don’t miss our comedy club with compere Dan Evans. \nThis season features many of comedy’s rising stars. \nDoors 7.45pm Show 8pm. \n\nFri 10 April \nJustin Panks\nJon LongLouise Leigh \nThis show will take place in the Underground \n\nSat 30 May \nAlistair BarrieAlex Bertulis-FernandesRoss Smith \nThis show will take place in the Underground \n\nLine up may be subject to change\, advance booking is recommended. Recommended for ages 16 and above.
URL:https://www.discovernorthampton.co.uk/event/screaming-blue-murder-comedy-club-13/2026-04-10/
LOCATION:Royal and Derngate Theatre\, 19-21 Guildhall Road\, Northampton\, Northamptonshire\, NN1 1DP
CATEGORIES:Comedy Night,Royal and Derngate,Theatre
ATTACH;FMTTYPE=image/png:https://www.discovernorthampton.co.uk/wp-content/uploads/2026/04/sbm-1170x476-1.png
ORGANIZER;CN="Royal and Derngate":MAILTO:BoxOffice@royalandderngate.co.uk
END:VEVENT
BEGIN:VEVENT
DTSTART;TZID=Europe/London:20260410T210000
DTEND;TZID=Europe/London:20260410T210000
DTSTAMP:20260420T083851
CREATED:20260217T104038Z
LAST-MODIFIED:20260217T104038Z
UID:134685-1775854800-1775854800@www.discovernorthampton.co.uk
SUMMARY:NIGHTSHIFT
DESCRIPTION:Featuring hits from Eminem\, Bruce Springsteen\, Guns N’ Roses\, Phil Collins\, Bon Jovi and many more !
URL:https://www.discovernorthampton.co.uk/event/nightshift-9/
LOCATION:The King Billy Music Bar\, 2 Commercial Street\, Northampton\, NN1 1PJ\, United Kingdom
CATEGORIES:MUSIC
ATTACH;FMTTYPE=image/png:https://www.discovernorthampton.co.uk/wp-content/uploads/2026/02/Screenshot-2026-02-17-103827.png
END:VEVENT
END:VCALENDAR