BEGIN:VCALENDAR
VERSION:2.0
PRODID:-//Northampton BID - ECPv6.2.4//NONSGML v1.0//EN
CALSCALE:GREGORIAN
METHOD:PUBLISH
X-WR-CALNAME:Northampton BID
X-ORIGINAL-URL:https://www.discovernorthampton.co.uk
X-WR-CALDESC:Events for Northampton BID
REFRESH-INTERVAL;VALUE=DURATION:PT1H
X-Robots-Tag:noindex
X-PUBLISHED-TTL:PT1H
BEGIN:VTIMEZONE
TZID:Europe/London
BEGIN:DAYLIGHT
TZOFFSETFROM:+0000
TZOFFSETTO:+0100
TZNAME:BST
DTSTART:20250330T010000
END:DAYLIGHT
BEGIN:STANDARD
TZOFFSETFROM:+0100
TZOFFSETTO:+0000
TZNAME:GMT
DTSTART:20251026T010000
END:STANDARD
END:VTIMEZONE
BEGIN:VEVENT
DTSTART;TZID=Europe/London:20251006T180000
DTEND;TZID=Europe/London:20251006T200000
DTSTAMP:20260421T072936
CREATED:20251001T161147Z
LAST-MODIFIED:20251001T163124Z
UID:130967-1759773600-1759780800@www.discovernorthampton.co.uk
SUMMARY:Architecture Week October 6th - 10th
DESCRIPTION:Now in its second year\, Architecture Week celebrates architecture\, community\, heritage and sustainability through a series of talks\, workshops and exhibitions. Sponsored by RIBA East Midlands\, The Northampton Society of Architects and EH Smith\, and hosted by local MWK Architects\, it promotes understanding and appreciation of the role of architecture within a community\, historic preservation and sustainable design. Held at 78 Derngate from Monday October 6th to Friday October 10th from 18:00 to 20:00 it is designed to focus on many aspects of architecture and the topics given by leading experts in their field are as follows: \n\nEveryone’s Design\nRoots Revival: Heritage & Community\nYour Home Retrofit\nBiophilic Design\nLearning to Love Drawing Buildings\nFuture Architects – Where to Begin\n\nBooking is essential as spaces are limited. More information and how to buy your tickets – which will include light refreshments â€“ can be found using the QR code (below). RIBA members are free with code RIBA2025
URL:https://www.discovernorthampton.co.uk/event/architecture-week-october-6th-10th/2025-10-06/
LOCATION:78 Derngate\, Northampton\, Northamptonshire\, NN1 1UH
CATEGORIES:78 Derngate
ATTACH;FMTTYPE=image/jpeg:https://www.discovernorthampton.co.uk/wp-content/uploads/2025/10/AW25-POSTER-scaled.jpg
END:VEVENT
BEGIN:VEVENT
DTSTART;TZID=Europe/London:20251007T180000
DTEND;TZID=Europe/London:20251007T200000
DTSTAMP:20260421T072936
CREATED:20251001T161147Z
LAST-MODIFIED:20251001T161147Z
UID:130988-1759860000-1759867200@www.discovernorthampton.co.uk
SUMMARY:Architecture Week October 6th - 10th
DESCRIPTION:Now in its second year\, Architecture Week celebrates architecture\, community\, heritage and sustainability through a series of talks\, workshops and exhibitions. Sponsored by RIBA East Midlands\, The Northampton Society of Architects and EH Smith\, and hosted by local MWK Architects\, it promotes understanding and appreciation of the role of architecture within a community\, historic preservation and sustainable design. Held at 78 Derngate from Monday October 6th to Friday October 10th from 18:00 to 20:00 it is designed to focus on many aspects of architecture and the topics given by leading experts in their field are as follows: \n\nEveryone’s Design\nRoots Revival: Heritage & Community\nYour Home Retrofit\nBiophilic Design\nLearning to Love Drawing Buildings\nFuture Architects – Where to Begin\n\nBooking is essential as spaces are limited. More information and how to buy your tickets – which will include light refreshments â€“ can be found using the QR code (below). RIBA members are free with code RIBA2025
URL:https://www.discovernorthampton.co.uk/event/architecture-week-october-6th-10th/2025-10-07/
LOCATION:78 Derngate\, Northampton\, Northamptonshire\, NN1 1UH
CATEGORIES:78 Derngate
ATTACH;FMTTYPE=image/jpeg:https://www.discovernorthampton.co.uk/wp-content/uploads/2025/10/AW25-POSTER-scaled.jpg
END:VEVENT
BEGIN:VEVENT
DTSTART;TZID=Europe/London:20251008T180000
DTEND;TZID=Europe/London:20251008T200000
DTSTAMP:20260421T072936
CREATED:20251001T161147Z
LAST-MODIFIED:20251001T161147Z
UID:130989-1759946400-1759953600@www.discovernorthampton.co.uk
SUMMARY:Architecture Week October 6th - 10th
DESCRIPTION:Now in its second year\, Architecture Week celebrates architecture\, community\, heritage and sustainability through a series of talks\, workshops and exhibitions. Sponsored by RIBA East Midlands\, The Northampton Society of Architects and EH Smith\, and hosted by local MWK Architects\, it promotes understanding and appreciation of the role of architecture within a community\, historic preservation and sustainable design. Held at 78 Derngate from Monday October 6th to Friday October 10th from 18:00 to 20:00 it is designed to focus on many aspects of architecture and the topics given by leading experts in their field are as follows: \n\nEveryone’s Design\nRoots Revival: Heritage & Community\nYour Home Retrofit\nBiophilic Design\nLearning to Love Drawing Buildings\nFuture Architects – Where to Begin\n\nBooking is essential as spaces are limited. More information and how to buy your tickets – which will include light refreshments â€“ can be found using the QR code (below). RIBA members are free with code RIBA2025
URL:https://www.discovernorthampton.co.uk/event/architecture-week-october-6th-10th/2025-10-08/
LOCATION:78 Derngate\, Northampton\, Northamptonshire\, NN1 1UH
CATEGORIES:78 Derngate
ATTACH;FMTTYPE=image/jpeg:https://www.discovernorthampton.co.uk/wp-content/uploads/2025/10/AW25-POSTER-scaled.jpg
END:VEVENT
BEGIN:VEVENT
DTSTART;TZID=Europe/London:20251009T180000
DTEND;TZID=Europe/London:20251009T200000
DTSTAMP:20260421T072936
CREATED:20251001T161147Z
LAST-MODIFIED:20251001T161147Z
UID:130990-1760032800-1760040000@www.discovernorthampton.co.uk
SUMMARY:Architecture Week October 6th - 10th
DESCRIPTION:Now in its second year\, Architecture Week celebrates architecture\, community\, heritage and sustainability through a series of talks\, workshops and exhibitions. Sponsored by RIBA East Midlands\, The Northampton Society of Architects and EH Smith\, and hosted by local MWK Architects\, it promotes understanding and appreciation of the role of architecture within a community\, historic preservation and sustainable design. Held at 78 Derngate from Monday October 6th to Friday October 10th from 18:00 to 20:00 it is designed to focus on many aspects of architecture and the topics given by leading experts in their field are as follows: \n\nEveryone’s Design\nRoots Revival: Heritage & Community\nYour Home Retrofit\nBiophilic Design\nLearning to Love Drawing Buildings\nFuture Architects – Where to Begin\n\nBooking is essential as spaces are limited. More information and how to buy your tickets – which will include light refreshments â€“ can be found using the QR code (below). RIBA members are free with code RIBA2025
URL:https://www.discovernorthampton.co.uk/event/architecture-week-october-6th-10th/2025-10-09/
LOCATION:78 Derngate\, Northampton\, Northamptonshire\, NN1 1UH
CATEGORIES:78 Derngate
ATTACH;FMTTYPE=image/jpeg:https://www.discovernorthampton.co.uk/wp-content/uploads/2025/10/AW25-POSTER-scaled.jpg
END:VEVENT
BEGIN:VEVENT
DTSTART;TZID=Europe/London:20251010T180000
DTEND;TZID=Europe/London:20251010T200000
DTSTAMP:20260421T072936
CREATED:20251001T161147Z
LAST-MODIFIED:20251001T161147Z
UID:130991-1760119200-1760126400@www.discovernorthampton.co.uk
SUMMARY:Architecture Week October 6th - 10th
DESCRIPTION:Now in its second year\, Architecture Week celebrates architecture\, community\, heritage and sustainability through a series of talks\, workshops and exhibitions. Sponsored by RIBA East Midlands\, The Northampton Society of Architects and EH Smith\, and hosted by local MWK Architects\, it promotes understanding and appreciation of the role of architecture within a community\, historic preservation and sustainable design. Held at 78 Derngate from Monday October 6th to Friday October 10th from 18:00 to 20:00 it is designed to focus on many aspects of architecture and the topics given by leading experts in their field are as follows: \n\nEveryone’s Design\nRoots Revival: Heritage & Community\nYour Home Retrofit\nBiophilic Design\nLearning to Love Drawing Buildings\nFuture Architects – Where to Begin\n\nBooking is essential as spaces are limited. More information and how to buy your tickets – which will include light refreshments â€“ can be found using the QR code (below). RIBA members are free with code RIBA2025
URL:https://www.discovernorthampton.co.uk/event/architecture-week-october-6th-10th/2025-10-10/
LOCATION:78 Derngate\, Northampton\, Northamptonshire\, NN1 1UH
CATEGORIES:78 Derngate
ATTACH;FMTTYPE=image/jpeg:https://www.discovernorthampton.co.uk/wp-content/uploads/2025/10/AW25-POSTER-scaled.jpg
END:VEVENT
END:VCALENDAR