BEGIN:VCALENDAR
VERSION:2.0
PRODID:-//Northampton BID - ECPv6.2.4//NONSGML v1.0//EN
CALSCALE:GREGORIAN
METHOD:PUBLISH
X-WR-CALNAME:Northampton BID
X-ORIGINAL-URL:https://www.discovernorthampton.co.uk
X-WR-CALDESC:Events for Northampton BID
REFRESH-INTERVAL;VALUE=DURATION:PT1H
X-Robots-Tag:noindex
X-PUBLISHED-TTL:PT1H
BEGIN:VTIMEZONE
TZID:Europe/London
BEGIN:DAYLIGHT
TZOFFSETFROM:+0000
TZOFFSETTO:+0100
TZNAME:BST
DTSTART:20250330T010000
END:DAYLIGHT
BEGIN:STANDARD
TZOFFSETFROM:+0100
TZOFFSETTO:+0000
TZNAME:GMT
DTSTART:20251026T010000
END:STANDARD
END:VTIMEZONE
BEGIN:VEVENT
DTSTART;TZID=Europe/London:20251110T130000
DTEND;TZID=Europe/London:20251110T130000
DTSTAMP:20260421T035810
CREATED:20251106T103704Z
LAST-MODIFIED:20251106T103704Z
UID:131779-1762779600-1762779600@www.discovernorthampton.co.uk
SUMMARY:Colin Sell at 78 Derngate
DESCRIPTION:On Monday November 10th – an exclusive Talk will be given by Colin Sell – pianist from the much-loved Radio 4 programme\, I’m Sorry I Haven’t a Clue.  Tickets just £10 each from 78 Reception – the talk starts at 13:00
URL:https://www.discovernorthampton.co.uk/event/colin-sell-at-78-derngate/
LOCATION:78 Derngate\, Northampton\, Northamptonshire\, NN1 1UH
CATEGORIES:78 Derngate
ATTACH;FMTTYPE=image/jpeg:https://www.discovernorthampton.co.uk/wp-content/uploads/2025/11/COLIN-SELL-scaled.jpeg
END:VEVENT
END:VCALENDAR