BEGIN:VCALENDAR
VERSION:2.0
PRODID:-//Northampton BID - ECPv6.2.4//NONSGML v1.0//EN
CALSCALE:GREGORIAN
METHOD:PUBLISH
X-WR-CALNAME:Northampton BID
X-ORIGINAL-URL:https://www.discovernorthampton.co.uk
X-WR-CALDESC:Events for Northampton BID
REFRESH-INTERVAL;VALUE=DURATION:PT1H
X-Robots-Tag:noindex
X-PUBLISHED-TTL:PT1H
BEGIN:VTIMEZONE
TZID:Europe/London
BEGIN:DAYLIGHT
TZOFFSETFROM:+0000
TZOFFSETTO:+0100
TZNAME:BST
DTSTART:20260329T010000
END:DAYLIGHT
BEGIN:STANDARD
TZOFFSETFROM:+0100
TZOFFSETTO:+0000
TZNAME:GMT
DTSTART:20261025T010000
END:STANDARD
END:VTIMEZONE
BEGIN:VEVENT
DTSTART;TZID=Europe/London:20260210T100000
DTEND;TZID=Europe/London:20260210T163000
DTSTAMP:20260425T122707
CREATED:20260204T142420Z
LAST-MODIFIED:20260204T142420Z
UID:134489-1770717600-1770741000@www.discovernorthampton.co.uk
SUMMARY:Tom Osborne Robinson: Celebrating his life and work
DESCRIPTION:Retrospective – The Gallery \nAn exhibition celebrating Tom Osborne Robinson’s passion for the Charles Rennie Mackintosh House and his association with both Bassett-Lowke and the Royal Theatre\, Northampton. \nThe Mayor of Northampton will officially launch the exhibition at 2pm on Sunday February 1st \nFrom Sunday February 1st – to Sunday March 8th \nIn The Barwell Room \n10.00am – 4.30pm
URL:https://www.discovernorthampton.co.uk/event/retrospective-the-gallery/2026-02-10/
LOCATION:78 Derngate\, Northampton\, Northamptonshire\, NN1 1UH
CATEGORIES:78 Derngate,Exhibition
ATTACH;FMTTYPE=image/jpeg:https://www.discovernorthampton.co.uk/wp-content/uploads/2026/02/Tom-Osborne-Robinson-Exhibition.jpeg
END:VEVENT
BEGIN:VEVENT
DTSTART;TZID=Europe/London:20260210T100000
DTEND;TZID=Europe/London:20260210T163000
DTSTAMP:20260425T122707
CREATED:20260204T143157Z
LAST-MODIFIED:20260204T143157Z
UID:134229-1770717600-1770741000@www.discovernorthampton.co.uk
SUMMARY:78 Derngate: A Retrospective
DESCRIPTION:A-level students in Art & Textiles from Northampton High School display an abundance of young talent in the Mezzanine areas. \nFree of charge.
URL:https://www.discovernorthampton.co.uk/event/78-derngate-a-retrospective/2026-02-10/
LOCATION:78 Derngate\, Northampton\, Northamptonshire\, NN1 1UH
CATEGORIES:78 Derngate,Exhibition
ATTACH;FMTTYPE=image/jpeg:https://www.discovernorthampton.co.uk/wp-content/uploads/2026/02/Northampton-High-School-Exhibition-scaled.jpeg
END:VEVENT
BEGIN:VEVENT
DTSTART;TZID=Europe/London:20260210T100000
DTEND;TZID=Europe/London:20260210T163000
DTSTAMP:20260425T122707
CREATED:20260319T103853Z
LAST-MODIFIED:20260319T103853Z
UID:135049-1770717600-1770741000@www.discovernorthampton.co.uk
SUMMARY:A Level Art & Textiles Students from Northampton High School-The Atrium
DESCRIPTION:We are delighted to host this exhibition of astounding work from A Level students of the class of 2025 who are showcasing their work in the atrium areas of the galleries. Come and see this abundance of young talent for yourselves – artists and designers of the future! Galleries are free entry and open from 10.00am to 4.30pm
URL:https://www.discovernorthampton.co.uk/event/a-level-art-textiles-students-from-northampton-high-school-the-atrium/2026-02-10/
LOCATION:78 Derngate\, Northampton\, Northamptonshire\, NN1 1UH
CATEGORIES:78 Derngate,Exhibition
ATTACH;FMTTYPE=image/jpeg:https://www.discovernorthampton.co.uk/wp-content/uploads/2026/03/698370268a110fe6dac703e5_IMG_3071-scaled.jpeg
END:VEVENT
BEGIN:VEVENT
DTSTART;TZID=Europe/London:20260211T100000
DTEND;TZID=Europe/London:20260211T163000
DTSTAMP:20260425T122707
CREATED:20260204T142420Z
LAST-MODIFIED:20260204T142420Z
UID:134490-1770804000-1770827400@www.discovernorthampton.co.uk
SUMMARY:Tom Osborne Robinson: Celebrating his life and work
DESCRIPTION:Retrospective – The Gallery \nAn exhibition celebrating Tom Osborne Robinson’s passion for the Charles Rennie Mackintosh House and his association with both Bassett-Lowke and the Royal Theatre\, Northampton. \nThe Mayor of Northampton will officially launch the exhibition at 2pm on Sunday February 1st \nFrom Sunday February 1st – to Sunday March 8th \nIn The Barwell Room \n10.00am – 4.30pm
URL:https://www.discovernorthampton.co.uk/event/retrospective-the-gallery/2026-02-11/
LOCATION:78 Derngate\, Northampton\, Northamptonshire\, NN1 1UH
CATEGORIES:78 Derngate,Exhibition
ATTACH;FMTTYPE=image/jpeg:https://www.discovernorthampton.co.uk/wp-content/uploads/2026/02/Tom-Osborne-Robinson-Exhibition.jpeg
END:VEVENT
BEGIN:VEVENT
DTSTART;TZID=Europe/London:20260211T100000
DTEND;TZID=Europe/London:20260211T163000
DTSTAMP:20260425T122707
CREATED:20260204T143157Z
LAST-MODIFIED:20260204T143157Z
UID:134230-1770804000-1770827400@www.discovernorthampton.co.uk
SUMMARY:78 Derngate: A Retrospective
DESCRIPTION:A-level students in Art & Textiles from Northampton High School display an abundance of young talent in the Mezzanine areas. \nFree of charge.
URL:https://www.discovernorthampton.co.uk/event/78-derngate-a-retrospective/2026-02-11/
LOCATION:78 Derngate\, Northampton\, Northamptonshire\, NN1 1UH
CATEGORIES:78 Derngate,Exhibition
ATTACH;FMTTYPE=image/jpeg:https://www.discovernorthampton.co.uk/wp-content/uploads/2026/02/Northampton-High-School-Exhibition-scaled.jpeg
END:VEVENT
BEGIN:VEVENT
DTSTART;TZID=Europe/London:20260211T100000
DTEND;TZID=Europe/London:20260211T163000
DTSTAMP:20260425T122707
CREATED:20260319T103853Z
LAST-MODIFIED:20260319T103853Z
UID:135050-1770804000-1770827400@www.discovernorthampton.co.uk
SUMMARY:A Level Art & Textiles Students from Northampton High School-The Atrium
DESCRIPTION:We are delighted to host this exhibition of astounding work from A Level students of the class of 2025 who are showcasing their work in the atrium areas of the galleries. Come and see this abundance of young talent for yourselves – artists and designers of the future! Galleries are free entry and open from 10.00am to 4.30pm
URL:https://www.discovernorthampton.co.uk/event/a-level-art-textiles-students-from-northampton-high-school-the-atrium/2026-02-11/
LOCATION:78 Derngate\, Northampton\, Northamptonshire\, NN1 1UH
CATEGORIES:78 Derngate,Exhibition
ATTACH;FMTTYPE=image/jpeg:https://www.discovernorthampton.co.uk/wp-content/uploads/2026/03/698370268a110fe6dac703e5_IMG_3071-scaled.jpeg
END:VEVENT
BEGIN:VEVENT
DTSTART;TZID=Europe/London:20260212T100000
DTEND;TZID=Europe/London:20260212T163000
DTSTAMP:20260425T122707
CREATED:20260204T142420Z
LAST-MODIFIED:20260204T142420Z
UID:134491-1770890400-1770913800@www.discovernorthampton.co.uk
SUMMARY:Tom Osborne Robinson: Celebrating his life and work
DESCRIPTION:Retrospective – The Gallery \nAn exhibition celebrating Tom Osborne Robinson’s passion for the Charles Rennie Mackintosh House and his association with both Bassett-Lowke and the Royal Theatre\, Northampton. \nThe Mayor of Northampton will officially launch the exhibition at 2pm on Sunday February 1st \nFrom Sunday February 1st – to Sunday March 8th \nIn The Barwell Room \n10.00am – 4.30pm
URL:https://www.discovernorthampton.co.uk/event/retrospective-the-gallery/2026-02-12/
LOCATION:78 Derngate\, Northampton\, Northamptonshire\, NN1 1UH
CATEGORIES:78 Derngate,Exhibition
ATTACH;FMTTYPE=image/jpeg:https://www.discovernorthampton.co.uk/wp-content/uploads/2026/02/Tom-Osborne-Robinson-Exhibition.jpeg
END:VEVENT
BEGIN:VEVENT
DTSTART;TZID=Europe/London:20260212T100000
DTEND;TZID=Europe/London:20260212T163000
DTSTAMP:20260425T122707
CREATED:20260204T143157Z
LAST-MODIFIED:20260204T143157Z
UID:134231-1770890400-1770913800@www.discovernorthampton.co.uk
SUMMARY:78 Derngate: A Retrospective
DESCRIPTION:A-level students in Art & Textiles from Northampton High School display an abundance of young talent in the Mezzanine areas. \nFree of charge.
URL:https://www.discovernorthampton.co.uk/event/78-derngate-a-retrospective/2026-02-12/
LOCATION:78 Derngate\, Northampton\, Northamptonshire\, NN1 1UH
CATEGORIES:78 Derngate,Exhibition
ATTACH;FMTTYPE=image/jpeg:https://www.discovernorthampton.co.uk/wp-content/uploads/2026/02/Northampton-High-School-Exhibition-scaled.jpeg
END:VEVENT
BEGIN:VEVENT
DTSTART;TZID=Europe/London:20260212T100000
DTEND;TZID=Europe/London:20260212T163000
DTSTAMP:20260425T122707
CREATED:20260319T103853Z
LAST-MODIFIED:20260319T103853Z
UID:135051-1770890400-1770913800@www.discovernorthampton.co.uk
SUMMARY:A Level Art & Textiles Students from Northampton High School-The Atrium
DESCRIPTION:We are delighted to host this exhibition of astounding work from A Level students of the class of 2025 who are showcasing their work in the atrium areas of the galleries. Come and see this abundance of young talent for yourselves – artists and designers of the future! Galleries are free entry and open from 10.00am to 4.30pm
URL:https://www.discovernorthampton.co.uk/event/a-level-art-textiles-students-from-northampton-high-school-the-atrium/2026-02-12/
LOCATION:78 Derngate\, Northampton\, Northamptonshire\, NN1 1UH
CATEGORIES:78 Derngate,Exhibition
ATTACH;FMTTYPE=image/jpeg:https://www.discovernorthampton.co.uk/wp-content/uploads/2026/03/698370268a110fe6dac703e5_IMG_3071-scaled.jpeg
END:VEVENT
BEGIN:VEVENT
DTSTART;TZID=Europe/London:20260213T100000
DTEND;TZID=Europe/London:20260213T163000
DTSTAMP:20260425T122707
CREATED:20260204T142420Z
LAST-MODIFIED:20260204T142420Z
UID:134492-1770976800-1771000200@www.discovernorthampton.co.uk
SUMMARY:Tom Osborne Robinson: Celebrating his life and work
DESCRIPTION:Retrospective – The Gallery \nAn exhibition celebrating Tom Osborne Robinson’s passion for the Charles Rennie Mackintosh House and his association with both Bassett-Lowke and the Royal Theatre\, Northampton. \nThe Mayor of Northampton will officially launch the exhibition at 2pm on Sunday February 1st \nFrom Sunday February 1st – to Sunday March 8th \nIn The Barwell Room \n10.00am – 4.30pm
URL:https://www.discovernorthampton.co.uk/event/retrospective-the-gallery/2026-02-13/
LOCATION:78 Derngate\, Northampton\, Northamptonshire\, NN1 1UH
CATEGORIES:78 Derngate,Exhibition
ATTACH;FMTTYPE=image/jpeg:https://www.discovernorthampton.co.uk/wp-content/uploads/2026/02/Tom-Osborne-Robinson-Exhibition.jpeg
END:VEVENT
BEGIN:VEVENT
DTSTART;TZID=Europe/London:20260213T100000
DTEND;TZID=Europe/London:20260213T163000
DTSTAMP:20260425T122707
CREATED:20260204T143157Z
LAST-MODIFIED:20260204T143157Z
UID:134232-1770976800-1771000200@www.discovernorthampton.co.uk
SUMMARY:78 Derngate: A Retrospective
DESCRIPTION:A-level students in Art & Textiles from Northampton High School display an abundance of young talent in the Mezzanine areas. \nFree of charge.
URL:https://www.discovernorthampton.co.uk/event/78-derngate-a-retrospective/2026-02-13/
LOCATION:78 Derngate\, Northampton\, Northamptonshire\, NN1 1UH
CATEGORIES:78 Derngate,Exhibition
ATTACH;FMTTYPE=image/jpeg:https://www.discovernorthampton.co.uk/wp-content/uploads/2026/02/Northampton-High-School-Exhibition-scaled.jpeg
END:VEVENT
BEGIN:VEVENT
DTSTART;TZID=Europe/London:20260213T100000
DTEND;TZID=Europe/London:20260213T163000
DTSTAMP:20260425T122707
CREATED:20260319T103853Z
LAST-MODIFIED:20260319T103853Z
UID:135052-1770976800-1771000200@www.discovernorthampton.co.uk
SUMMARY:A Level Art & Textiles Students from Northampton High School-The Atrium
DESCRIPTION:We are delighted to host this exhibition of astounding work from A Level students of the class of 2025 who are showcasing their work in the atrium areas of the galleries. Come and see this abundance of young talent for yourselves – artists and designers of the future! Galleries are free entry and open from 10.00am to 4.30pm
URL:https://www.discovernorthampton.co.uk/event/a-level-art-textiles-students-from-northampton-high-school-the-atrium/2026-02-13/
LOCATION:78 Derngate\, Northampton\, Northamptonshire\, NN1 1UH
CATEGORIES:78 Derngate,Exhibition
ATTACH;FMTTYPE=image/jpeg:https://www.discovernorthampton.co.uk/wp-content/uploads/2026/03/698370268a110fe6dac703e5_IMG_3071-scaled.jpeg
END:VEVENT
BEGIN:VEVENT
DTSTART;TZID=Europe/London:20260214T100000
DTEND;TZID=Europe/London:20260214T163000
DTSTAMP:20260425T122707
CREATED:20260204T142420Z
LAST-MODIFIED:20260204T142420Z
UID:134493-1771063200-1771086600@www.discovernorthampton.co.uk
SUMMARY:Tom Osborne Robinson: Celebrating his life and work
DESCRIPTION:Retrospective – The Gallery \nAn exhibition celebrating Tom Osborne Robinson’s passion for the Charles Rennie Mackintosh House and his association with both Bassett-Lowke and the Royal Theatre\, Northampton. \nThe Mayor of Northampton will officially launch the exhibition at 2pm on Sunday February 1st \nFrom Sunday February 1st – to Sunday March 8th \nIn The Barwell Room \n10.00am – 4.30pm
URL:https://www.discovernorthampton.co.uk/event/retrospective-the-gallery/2026-02-14/
LOCATION:78 Derngate\, Northampton\, Northamptonshire\, NN1 1UH
CATEGORIES:78 Derngate,Exhibition
ATTACH;FMTTYPE=image/jpeg:https://www.discovernorthampton.co.uk/wp-content/uploads/2026/02/Tom-Osborne-Robinson-Exhibition.jpeg
END:VEVENT
BEGIN:VEVENT
DTSTART;TZID=Europe/London:20260214T100000
DTEND;TZID=Europe/London:20260214T163000
DTSTAMP:20260425T122707
CREATED:20260204T143157Z
LAST-MODIFIED:20260204T143157Z
UID:134233-1771063200-1771086600@www.discovernorthampton.co.uk
SUMMARY:78 Derngate: A Retrospective
DESCRIPTION:A-level students in Art & Textiles from Northampton High School display an abundance of young talent in the Mezzanine areas. \nFree of charge.
URL:https://www.discovernorthampton.co.uk/event/78-derngate-a-retrospective/2026-02-14/
LOCATION:78 Derngate\, Northampton\, Northamptonshire\, NN1 1UH
CATEGORIES:78 Derngate,Exhibition
ATTACH;FMTTYPE=image/jpeg:https://www.discovernorthampton.co.uk/wp-content/uploads/2026/02/Northampton-High-School-Exhibition-scaled.jpeg
END:VEVENT
BEGIN:VEVENT
DTSTART;TZID=Europe/London:20260214T100000
DTEND;TZID=Europe/London:20260214T163000
DTSTAMP:20260425T122707
CREATED:20260319T103853Z
LAST-MODIFIED:20260319T103853Z
UID:135053-1771063200-1771086600@www.discovernorthampton.co.uk
SUMMARY:A Level Art & Textiles Students from Northampton High School-The Atrium
DESCRIPTION:We are delighted to host this exhibition of astounding work from A Level students of the class of 2025 who are showcasing their work in the atrium areas of the galleries. Come and see this abundance of young talent for yourselves – artists and designers of the future! Galleries are free entry and open from 10.00am to 4.30pm
URL:https://www.discovernorthampton.co.uk/event/a-level-art-textiles-students-from-northampton-high-school-the-atrium/2026-02-14/
LOCATION:78 Derngate\, Northampton\, Northamptonshire\, NN1 1UH
CATEGORIES:78 Derngate,Exhibition
ATTACH;FMTTYPE=image/jpeg:https://www.discovernorthampton.co.uk/wp-content/uploads/2026/03/698370268a110fe6dac703e5_IMG_3071-scaled.jpeg
END:VEVENT
BEGIN:VEVENT
DTSTART;TZID=Europe/London:20260215T100000
DTEND;TZID=Europe/London:20260215T163000
DTSTAMP:20260425T122707
CREATED:20260204T142420Z
LAST-MODIFIED:20260204T142420Z
UID:134494-1771149600-1771173000@www.discovernorthampton.co.uk
SUMMARY:Tom Osborne Robinson: Celebrating his life and work
DESCRIPTION:Retrospective – The Gallery \nAn exhibition celebrating Tom Osborne Robinson’s passion for the Charles Rennie Mackintosh House and his association with both Bassett-Lowke and the Royal Theatre\, Northampton. \nThe Mayor of Northampton will officially launch the exhibition at 2pm on Sunday February 1st \nFrom Sunday February 1st – to Sunday March 8th \nIn The Barwell Room \n10.00am – 4.30pm
URL:https://www.discovernorthampton.co.uk/event/retrospective-the-gallery/2026-02-15/
LOCATION:78 Derngate\, Northampton\, Northamptonshire\, NN1 1UH
CATEGORIES:78 Derngate,Exhibition
ATTACH;FMTTYPE=image/jpeg:https://www.discovernorthampton.co.uk/wp-content/uploads/2026/02/Tom-Osborne-Robinson-Exhibition.jpeg
END:VEVENT
BEGIN:VEVENT
DTSTART;TZID=Europe/London:20260215T100000
DTEND;TZID=Europe/London:20260215T163000
DTSTAMP:20260425T122707
CREATED:20260204T143157Z
LAST-MODIFIED:20260204T143157Z
UID:134234-1771149600-1771173000@www.discovernorthampton.co.uk
SUMMARY:78 Derngate: A Retrospective
DESCRIPTION:A-level students in Art & Textiles from Northampton High School display an abundance of young talent in the Mezzanine areas. \nFree of charge.
URL:https://www.discovernorthampton.co.uk/event/78-derngate-a-retrospective/2026-02-15/
LOCATION:78 Derngate\, Northampton\, Northamptonshire\, NN1 1UH
CATEGORIES:78 Derngate,Exhibition
ATTACH;FMTTYPE=image/jpeg:https://www.discovernorthampton.co.uk/wp-content/uploads/2026/02/Northampton-High-School-Exhibition-scaled.jpeg
END:VEVENT
END:VCALENDAR