BEGIN:VCALENDAR
VERSION:2.0
PRODID:-//Northampton BID - ECPv6.2.4//NONSGML v1.0//EN
CALSCALE:GREGORIAN
METHOD:PUBLISH
X-WR-CALNAME:Northampton BID
X-ORIGINAL-URL:https://www.discovernorthampton.co.uk
X-WR-CALDESC:Events for Northampton BID
REFRESH-INTERVAL;VALUE=DURATION:PT1H
X-Robots-Tag:noindex
X-PUBLISHED-TTL:PT1H
BEGIN:VTIMEZONE
TZID:Europe/London
BEGIN:DAYLIGHT
TZOFFSETFROM:+0000
TZOFFSETTO:+0100
TZNAME:BST
DTSTART:20260329T010000
END:DAYLIGHT
BEGIN:STANDARD
TZOFFSETFROM:+0100
TZOFFSETTO:+0000
TZNAME:GMT
DTSTART:20261025T010000
END:STANDARD
END:VTIMEZONE
BEGIN:VEVENT
DTSTART;TZID=Europe/London:20260217T100000
DTEND;TZID=Europe/London:20260217T163000
DTSTAMP:20260421T005923
CREATED:20260204T142420Z
LAST-MODIFIED:20260204T142420Z
UID:134495-1771322400-1771345800@www.discovernorthampton.co.uk
SUMMARY:Tom Osborne Robinson: Celebrating his life and work
DESCRIPTION:Retrospective – The Gallery \nAn exhibition celebrating Tom Osborne Robinson’s passion for the Charles Rennie Mackintosh House and his association with both Bassett-Lowke and the Royal Theatre\, Northampton. \nThe Mayor of Northampton will officially launch the exhibition at 2pm on Sunday February 1st \nFrom Sunday February 1st – to Sunday March 8th \nIn The Barwell Room \n10.00am – 4.30pm
URL:https://www.discovernorthampton.co.uk/event/retrospective-the-gallery/2026-02-17/
LOCATION:78 Derngate\, Northampton\, Northamptonshire\, NN1 1UH
CATEGORIES:78 Derngate,Exhibition
ATTACH;FMTTYPE=image/jpeg:https://www.discovernorthampton.co.uk/wp-content/uploads/2026/02/Tom-Osborne-Robinson-Exhibition.jpeg
END:VEVENT
BEGIN:VEVENT
DTSTART;TZID=Europe/London:20260217T100000
DTEND;TZID=Europe/London:20260217T163000
DTSTAMP:20260421T005923
CREATED:20260204T143157Z
LAST-MODIFIED:20260204T143157Z
UID:134235-1771322400-1771345800@www.discovernorthampton.co.uk
SUMMARY:78 Derngate: A Retrospective
DESCRIPTION:A-level students in Art & Textiles from Northampton High School display an abundance of young talent in the Mezzanine areas. \nFree of charge.
URL:https://www.discovernorthampton.co.uk/event/78-derngate-a-retrospective/2026-02-17/
LOCATION:78 Derngate\, Northampton\, Northamptonshire\, NN1 1UH
CATEGORIES:78 Derngate,Exhibition
ATTACH;FMTTYPE=image/jpeg:https://www.discovernorthampton.co.uk/wp-content/uploads/2026/02/Northampton-High-School-Exhibition-scaled.jpeg
END:VEVENT
BEGIN:VEVENT
DTSTART;TZID=Europe/London:20260217T100000
DTEND;TZID=Europe/London:20260217T163000
DTSTAMP:20260421T005923
CREATED:20260319T103853Z
LAST-MODIFIED:20260319T103853Z
UID:135054-1771322400-1771345800@www.discovernorthampton.co.uk
SUMMARY:A Level Art & Textiles Students from Northampton High School-The Atrium
DESCRIPTION:We are delighted to host this exhibition of astounding work from A Level students of the class of 2025 who are showcasing their work in the atrium areas of the galleries. Come and see this abundance of young talent for yourselves – artists and designers of the future! Galleries are free entry and open from 10.00am to 4.30pm
URL:https://www.discovernorthampton.co.uk/event/a-level-art-textiles-students-from-northampton-high-school-the-atrium/2026-02-17/
LOCATION:78 Derngate\, Northampton\, Northamptonshire\, NN1 1UH
CATEGORIES:78 Derngate,Exhibition
ATTACH;FMTTYPE=image/jpeg:https://www.discovernorthampton.co.uk/wp-content/uploads/2026/03/698370268a110fe6dac703e5_IMG_3071-scaled.jpeg
END:VEVENT
BEGIN:VEVENT
DTSTART;TZID=Europe/London:20260218T100000
DTEND;TZID=Europe/London:20260218T163000
DTSTAMP:20260421T005924
CREATED:20260204T142420Z
LAST-MODIFIED:20260204T142420Z
UID:134496-1771408800-1771432200@www.discovernorthampton.co.uk
SUMMARY:Tom Osborne Robinson: Celebrating his life and work
DESCRIPTION:Retrospective – The Gallery \nAn exhibition celebrating Tom Osborne Robinson’s passion for the Charles Rennie Mackintosh House and his association with both Bassett-Lowke and the Royal Theatre\, Northampton. \nThe Mayor of Northampton will officially launch the exhibition at 2pm on Sunday February 1st \nFrom Sunday February 1st – to Sunday March 8th \nIn The Barwell Room \n10.00am – 4.30pm
URL:https://www.discovernorthampton.co.uk/event/retrospective-the-gallery/2026-02-18/
LOCATION:78 Derngate\, Northampton\, Northamptonshire\, NN1 1UH
CATEGORIES:78 Derngate,Exhibition
ATTACH;FMTTYPE=image/jpeg:https://www.discovernorthampton.co.uk/wp-content/uploads/2026/02/Tom-Osborne-Robinson-Exhibition.jpeg
END:VEVENT
BEGIN:VEVENT
DTSTART;TZID=Europe/London:20260218T100000
DTEND;TZID=Europe/London:20260218T163000
DTSTAMP:20260421T005924
CREATED:20260204T143157Z
LAST-MODIFIED:20260204T143157Z
UID:134236-1771408800-1771432200@www.discovernorthampton.co.uk
SUMMARY:78 Derngate: A Retrospective
DESCRIPTION:A-level students in Art & Textiles from Northampton High School display an abundance of young talent in the Mezzanine areas. \nFree of charge.
URL:https://www.discovernorthampton.co.uk/event/78-derngate-a-retrospective/2026-02-18/
LOCATION:78 Derngate\, Northampton\, Northamptonshire\, NN1 1UH
CATEGORIES:78 Derngate,Exhibition
ATTACH;FMTTYPE=image/jpeg:https://www.discovernorthampton.co.uk/wp-content/uploads/2026/02/Northampton-High-School-Exhibition-scaled.jpeg
END:VEVENT
BEGIN:VEVENT
DTSTART;TZID=Europe/London:20260218T100000
DTEND;TZID=Europe/London:20260218T163000
DTSTAMP:20260421T005924
CREATED:20260319T103853Z
LAST-MODIFIED:20260319T103853Z
UID:135055-1771408800-1771432200@www.discovernorthampton.co.uk
SUMMARY:A Level Art & Textiles Students from Northampton High School-The Atrium
DESCRIPTION:We are delighted to host this exhibition of astounding work from A Level students of the class of 2025 who are showcasing their work in the atrium areas of the galleries. Come and see this abundance of young talent for yourselves – artists and designers of the future! Galleries are free entry and open from 10.00am to 4.30pm
URL:https://www.discovernorthampton.co.uk/event/a-level-art-textiles-students-from-northampton-high-school-the-atrium/2026-02-18/
LOCATION:78 Derngate\, Northampton\, Northamptonshire\, NN1 1UH
CATEGORIES:78 Derngate,Exhibition
ATTACH;FMTTYPE=image/jpeg:https://www.discovernorthampton.co.uk/wp-content/uploads/2026/03/698370268a110fe6dac703e5_IMG_3071-scaled.jpeg
END:VEVENT
BEGIN:VEVENT
DTSTART;TZID=Europe/London:20260219T100000
DTEND;TZID=Europe/London:20260219T163000
DTSTAMP:20260421T005924
CREATED:20260204T142420Z
LAST-MODIFIED:20260204T142420Z
UID:134497-1771495200-1771518600@www.discovernorthampton.co.uk
SUMMARY:Tom Osborne Robinson: Celebrating his life and work
DESCRIPTION:Retrospective – The Gallery \nAn exhibition celebrating Tom Osborne Robinson’s passion for the Charles Rennie Mackintosh House and his association with both Bassett-Lowke and the Royal Theatre\, Northampton. \nThe Mayor of Northampton will officially launch the exhibition at 2pm on Sunday February 1st \nFrom Sunday February 1st – to Sunday March 8th \nIn The Barwell Room \n10.00am – 4.30pm
URL:https://www.discovernorthampton.co.uk/event/retrospective-the-gallery/2026-02-19/
LOCATION:78 Derngate\, Northampton\, Northamptonshire\, NN1 1UH
CATEGORIES:78 Derngate,Exhibition
ATTACH;FMTTYPE=image/jpeg:https://www.discovernorthampton.co.uk/wp-content/uploads/2026/02/Tom-Osborne-Robinson-Exhibition.jpeg
END:VEVENT
BEGIN:VEVENT
DTSTART;TZID=Europe/London:20260219T100000
DTEND;TZID=Europe/London:20260219T163000
DTSTAMP:20260421T005924
CREATED:20260204T143157Z
LAST-MODIFIED:20260204T143157Z
UID:134237-1771495200-1771518600@www.discovernorthampton.co.uk
SUMMARY:78 Derngate: A Retrospective
DESCRIPTION:A-level students in Art & Textiles from Northampton High School display an abundance of young talent in the Mezzanine areas. \nFree of charge.
URL:https://www.discovernorthampton.co.uk/event/78-derngate-a-retrospective/2026-02-19/
LOCATION:78 Derngate\, Northampton\, Northamptonshire\, NN1 1UH
CATEGORIES:78 Derngate,Exhibition
ATTACH;FMTTYPE=image/jpeg:https://www.discovernorthampton.co.uk/wp-content/uploads/2026/02/Northampton-High-School-Exhibition-scaled.jpeg
END:VEVENT
BEGIN:VEVENT
DTSTART;TZID=Europe/London:20260219T100000
DTEND;TZID=Europe/London:20260219T163000
DTSTAMP:20260421T005924
CREATED:20260319T103853Z
LAST-MODIFIED:20260319T103853Z
UID:135056-1771495200-1771518600@www.discovernorthampton.co.uk
SUMMARY:A Level Art & Textiles Students from Northampton High School-The Atrium
DESCRIPTION:We are delighted to host this exhibition of astounding work from A Level students of the class of 2025 who are showcasing their work in the atrium areas of the galleries. Come and see this abundance of young talent for yourselves – artists and designers of the future! Galleries are free entry and open from 10.00am to 4.30pm
URL:https://www.discovernorthampton.co.uk/event/a-level-art-textiles-students-from-northampton-high-school-the-atrium/2026-02-19/
LOCATION:78 Derngate\, Northampton\, Northamptonshire\, NN1 1UH
CATEGORIES:78 Derngate,Exhibition
ATTACH;FMTTYPE=image/jpeg:https://www.discovernorthampton.co.uk/wp-content/uploads/2026/03/698370268a110fe6dac703e5_IMG_3071-scaled.jpeg
END:VEVENT
BEGIN:VEVENT
DTSTART;TZID=Europe/London:20260220T100000
DTEND;TZID=Europe/London:20260220T163000
DTSTAMP:20260421T005924
CREATED:20260204T142420Z
LAST-MODIFIED:20260204T142420Z
UID:134498-1771581600-1771605000@www.discovernorthampton.co.uk
SUMMARY:Tom Osborne Robinson: Celebrating his life and work
DESCRIPTION:Retrospective – The Gallery \nAn exhibition celebrating Tom Osborne Robinson’s passion for the Charles Rennie Mackintosh House and his association with both Bassett-Lowke and the Royal Theatre\, Northampton. \nThe Mayor of Northampton will officially launch the exhibition at 2pm on Sunday February 1st \nFrom Sunday February 1st – to Sunday March 8th \nIn The Barwell Room \n10.00am – 4.30pm
URL:https://www.discovernorthampton.co.uk/event/retrospective-the-gallery/2026-02-20/
LOCATION:78 Derngate\, Northampton\, Northamptonshire\, NN1 1UH
CATEGORIES:78 Derngate,Exhibition
ATTACH;FMTTYPE=image/jpeg:https://www.discovernorthampton.co.uk/wp-content/uploads/2026/02/Tom-Osborne-Robinson-Exhibition.jpeg
END:VEVENT
BEGIN:VEVENT
DTSTART;TZID=Europe/London:20260220T100000
DTEND;TZID=Europe/London:20260220T163000
DTSTAMP:20260421T005924
CREATED:20260204T143157Z
LAST-MODIFIED:20260204T143157Z
UID:134238-1771581600-1771605000@www.discovernorthampton.co.uk
SUMMARY:78 Derngate: A Retrospective
DESCRIPTION:A-level students in Art & Textiles from Northampton High School display an abundance of young talent in the Mezzanine areas. \nFree of charge.
URL:https://www.discovernorthampton.co.uk/event/78-derngate-a-retrospective/2026-02-20/
LOCATION:78 Derngate\, Northampton\, Northamptonshire\, NN1 1UH
CATEGORIES:78 Derngate,Exhibition
ATTACH;FMTTYPE=image/jpeg:https://www.discovernorthampton.co.uk/wp-content/uploads/2026/02/Northampton-High-School-Exhibition-scaled.jpeg
END:VEVENT
BEGIN:VEVENT
DTSTART;TZID=Europe/London:20260220T100000
DTEND;TZID=Europe/London:20260220T163000
DTSTAMP:20260421T005924
CREATED:20260319T103853Z
LAST-MODIFIED:20260319T103853Z
UID:135057-1771581600-1771605000@www.discovernorthampton.co.uk
SUMMARY:A Level Art & Textiles Students from Northampton High School-The Atrium
DESCRIPTION:We are delighted to host this exhibition of astounding work from A Level students of the class of 2025 who are showcasing their work in the atrium areas of the galleries. Come and see this abundance of young talent for yourselves – artists and designers of the future! Galleries are free entry and open from 10.00am to 4.30pm
URL:https://www.discovernorthampton.co.uk/event/a-level-art-textiles-students-from-northampton-high-school-the-atrium/2026-02-20/
LOCATION:78 Derngate\, Northampton\, Northamptonshire\, NN1 1UH
CATEGORIES:78 Derngate,Exhibition
ATTACH;FMTTYPE=image/jpeg:https://www.discovernorthampton.co.uk/wp-content/uploads/2026/03/698370268a110fe6dac703e5_IMG_3071-scaled.jpeg
END:VEVENT
BEGIN:VEVENT
DTSTART;TZID=Europe/London:20260221T100000
DTEND;TZID=Europe/London:20260221T163000
DTSTAMP:20260421T005924
CREATED:20260204T142420Z
LAST-MODIFIED:20260204T142420Z
UID:134499-1771668000-1771691400@www.discovernorthampton.co.uk
SUMMARY:Tom Osborne Robinson: Celebrating his life and work
DESCRIPTION:Retrospective – The Gallery \nAn exhibition celebrating Tom Osborne Robinson’s passion for the Charles Rennie Mackintosh House and his association with both Bassett-Lowke and the Royal Theatre\, Northampton. \nThe Mayor of Northampton will officially launch the exhibition at 2pm on Sunday February 1st \nFrom Sunday February 1st – to Sunday March 8th \nIn The Barwell Room \n10.00am – 4.30pm
URL:https://www.discovernorthampton.co.uk/event/retrospective-the-gallery/2026-02-21/
LOCATION:78 Derngate\, Northampton\, Northamptonshire\, NN1 1UH
CATEGORIES:78 Derngate,Exhibition
ATTACH;FMTTYPE=image/jpeg:https://www.discovernorthampton.co.uk/wp-content/uploads/2026/02/Tom-Osborne-Robinson-Exhibition.jpeg
END:VEVENT
BEGIN:VEVENT
DTSTART;TZID=Europe/London:20260221T100000
DTEND;TZID=Europe/London:20260221T163000
DTSTAMP:20260421T005924
CREATED:20260204T143157Z
LAST-MODIFIED:20260204T143157Z
UID:134239-1771668000-1771691400@www.discovernorthampton.co.uk
SUMMARY:78 Derngate: A Retrospective
DESCRIPTION:A-level students in Art & Textiles from Northampton High School display an abundance of young talent in the Mezzanine areas. \nFree of charge.
URL:https://www.discovernorthampton.co.uk/event/78-derngate-a-retrospective/2026-02-21/
LOCATION:78 Derngate\, Northampton\, Northamptonshire\, NN1 1UH
CATEGORIES:78 Derngate,Exhibition
ATTACH;FMTTYPE=image/jpeg:https://www.discovernorthampton.co.uk/wp-content/uploads/2026/02/Northampton-High-School-Exhibition-scaled.jpeg
END:VEVENT
BEGIN:VEVENT
DTSTART;TZID=Europe/London:20260221T100000
DTEND;TZID=Europe/London:20260221T163000
DTSTAMP:20260421T005924
CREATED:20260319T103853Z
LAST-MODIFIED:20260319T103853Z
UID:135058-1771668000-1771691400@www.discovernorthampton.co.uk
SUMMARY:A Level Art & Textiles Students from Northampton High School-The Atrium
DESCRIPTION:We are delighted to host this exhibition of astounding work from A Level students of the class of 2025 who are showcasing their work in the atrium areas of the galleries. Come and see this abundance of young talent for yourselves – artists and designers of the future! Galleries are free entry and open from 10.00am to 4.30pm
URL:https://www.discovernorthampton.co.uk/event/a-level-art-textiles-students-from-northampton-high-school-the-atrium/2026-02-21/
LOCATION:78 Derngate\, Northampton\, Northamptonshire\, NN1 1UH
CATEGORIES:78 Derngate,Exhibition
ATTACH;FMTTYPE=image/jpeg:https://www.discovernorthampton.co.uk/wp-content/uploads/2026/03/698370268a110fe6dac703e5_IMG_3071-scaled.jpeg
END:VEVENT
BEGIN:VEVENT
DTSTART;TZID=Europe/London:20260222T100000
DTEND;TZID=Europe/London:20260222T163000
DTSTAMP:20260421T005924
CREATED:20260204T142420Z
LAST-MODIFIED:20260204T142420Z
UID:134500-1771754400-1771777800@www.discovernorthampton.co.uk
SUMMARY:Tom Osborne Robinson: Celebrating his life and work
DESCRIPTION:Retrospective – The Gallery \nAn exhibition celebrating Tom Osborne Robinson’s passion for the Charles Rennie Mackintosh House and his association with both Bassett-Lowke and the Royal Theatre\, Northampton. \nThe Mayor of Northampton will officially launch the exhibition at 2pm on Sunday February 1st \nFrom Sunday February 1st – to Sunday March 8th \nIn The Barwell Room \n10.00am – 4.30pm
URL:https://www.discovernorthampton.co.uk/event/retrospective-the-gallery/2026-02-22/
LOCATION:78 Derngate\, Northampton\, Northamptonshire\, NN1 1UH
CATEGORIES:78 Derngate,Exhibition
ATTACH;FMTTYPE=image/jpeg:https://www.discovernorthampton.co.uk/wp-content/uploads/2026/02/Tom-Osborne-Robinson-Exhibition.jpeg
END:VEVENT
BEGIN:VEVENT
DTSTART;TZID=Europe/London:20260222T100000
DTEND;TZID=Europe/London:20260222T163000
DTSTAMP:20260421T005924
CREATED:20260204T143157Z
LAST-MODIFIED:20260204T143157Z
UID:134240-1771754400-1771777800@www.discovernorthampton.co.uk
SUMMARY:78 Derngate: A Retrospective
DESCRIPTION:A-level students in Art & Textiles from Northampton High School display an abundance of young talent in the Mezzanine areas. \nFree of charge.
URL:https://www.discovernorthampton.co.uk/event/78-derngate-a-retrospective/2026-02-22/
LOCATION:78 Derngate\, Northampton\, Northamptonshire\, NN1 1UH
CATEGORIES:78 Derngate,Exhibition
ATTACH;FMTTYPE=image/jpeg:https://www.discovernorthampton.co.uk/wp-content/uploads/2026/02/Northampton-High-School-Exhibition-scaled.jpeg
END:VEVENT
END:VCALENDAR