BEGIN:VCALENDAR
VERSION:2.0
PRODID:-//Northampton BID - ECPv6.2.4//NONSGML v1.0//EN
CALSCALE:GREGORIAN
METHOD:PUBLISH
X-WR-CALNAME:Northampton BID
X-ORIGINAL-URL:https://www.discovernorthampton.co.uk
X-WR-CALDESC:Events for Northampton BID
REFRESH-INTERVAL;VALUE=DURATION:PT1H
X-Robots-Tag:noindex
X-PUBLISHED-TTL:PT1H
BEGIN:VTIMEZONE
TZID:Europe/London
BEGIN:DAYLIGHT
TZOFFSETFROM:+0000
TZOFFSETTO:+0100
TZNAME:BST
DTSTART:20250330T010000
END:DAYLIGHT
BEGIN:STANDARD
TZOFFSETFROM:+0100
TZOFFSETTO:+0000
TZNAME:GMT
DTSTART:20251026T010000
END:STANDARD
END:VTIMEZONE
BEGIN:VEVENT
DTSTART;TZID=Europe/London:20250808T120000
DTEND;TZID=Europe/London:20250808T140000
DTSTAMP:20260423T203215
CREATED:20250729T134556Z
LAST-MODIFIED:20250729T134556Z
UID:128865-1754654400-1754661600@www.discovernorthampton.co.uk
SUMMARY:Fairy House Door Decorating Afternoon Tea
DESCRIPTION:Who says you canâ€™t craft while you munch? \n\n\n\nJoin us for a whimsical two-course afternoon tea\, where each guest gets to decorate their very own miniature fairy house door. This perfect for sparking young imaginations and for keeping little (and big) hands busy. Weâ€™ll provide all the materials\, just bring your inner fairy! \nWe will supply all the sweet treats and giggles you can imagine. Step inside our little wonderland for inspiration. \n• Kids – £20.95\n• Adults – £24.95 \nA non-refundable deposit of £10 per person is required to confirm your booking. Booking is essential\, so please call us to save your seat at the table.
URL:https://www.discovernorthampton.co.uk/event/fairy-house-door-decorating-afternoon-tea/
LOCATION:The Eccentric Englishman\, 21 St Giles' Street\, northampton\, Northamptonshire\, NN1 1JA\, United Kingdom
CATEGORIES:Afternoon Tea,Event
ATTACH;FMTTYPE=image/png:https://www.discovernorthampton.co.uk/wp-content/uploads/2025/07/Screenshot-2025-07-29-144315.png
END:VEVENT
BEGIN:VEVENT
DTSTART;TZID=Europe/London:20250821T123000
DTEND;TZID=Europe/London:20250821T123000
DTSTAMP:20260423T203215
CREATED:20250603T105015Z
LAST-MODIFIED:20250603T105015Z
UID:127361-1755779400-1755779400@www.discovernorthampton.co.uk
SUMMARY:Sandwiches at The Old Savoy- Bites of History
DESCRIPTION:Step back in time with Afternoon Tea at The Old Savoy \nJoin us for a delightful afternoon filled with light entertainment\, a delicious afternoon tea\, and a captivating virtual history tour of The Old Savoy Theatre. \nFor just £10 per person\, your afternoon includes:\n– A selection of freshly prepared sandwiches –\n– Scones served with jam and cream –\n– A pot of tea – \n\nThe experience begins at 12:30 PM\, and we’re pleased to offer multiple dates: \nThursday 19th June\nThursday 31st July\nThursday 21st August\nThursday 25th September \nSpaces are limited\, so book early to secure your place for an afternoon of charm\, nostalgia\, and delicious treats.
URL:https://www.discovernorthampton.co.uk/event/sandwiches-at-the-old-savoy-bites-of-history/2025-08-21/
LOCATION:The Old Savoy â€“ The home of The Deco Theatre\, Abington Square\, Northampton\, Northamptonshire\, NN1 4AE
CATEGORIES:Afternoon Tea,The Deco
ATTACH;FMTTYPE=image/jpeg:https://www.discovernorthampton.co.uk/wp-content/uploads/2025/06/sandwiches-at-the-old-savoy-768x764-1.jpg
ORGANIZER;CN="The Deco":MAILTO:Toni@stage-right.co.uk
END:VEVENT
END:VCALENDAR