BEGIN:VCALENDAR
VERSION:2.0
PRODID:-//Northampton BID - ECPv6.2.4//NONSGML v1.0//EN
CALSCALE:GREGORIAN
METHOD:PUBLISH
X-ORIGINAL-URL:https://www.discovernorthampton.co.uk
X-WR-CALDESC:Events for Northampton BID
REFRESH-INTERVAL;VALUE=DURATION:PT1H
X-Robots-Tag:noindex
X-PUBLISHED-TTL:PT1H
BEGIN:VTIMEZONE
TZID:Europe/London
BEGIN:DAYLIGHT
TZOFFSETFROM:+0000
TZOFFSETTO:+0100
TZNAME:BST
DTSTART:20250330T010000
END:DAYLIGHT
BEGIN:STANDARD
TZOFFSETFROM:+0100
TZOFFSETTO:+0000
TZNAME:GMT
DTSTART:20251026T010000
END:STANDARD
END:VTIMEZONE
BEGIN:VEVENT
DTSTART;TZID=Europe/London:20250913T120000
DTEND;TZID=Europe/London:20250913T140000
DTSTAMP:20260426T033456
CREATED:20250730T121620Z
LAST-MODIFIED:20250730T121620Z
UID:128882-1757764800-1757772000@www.discovernorthampton.co.uk
SUMMARY:Harry Potter Afternoon Tea
DESCRIPTION:Join us for a spellbinding themed afternoon tea\, perfect for witches\, wizards\, and Muggles of all ages. Expect magical décor\, three enchanted courses\, and a feast worthy of the Great Hall\, with dietary needs happily catered for. \nAnd yes\, thereâ€™s a themed teapot cocktail for those embracing the dark (rum) arts… \nPrices:\n• Children – £25.00 each\n• Adults (Prohibition â€“ Alcohol free) – £30.00 each\n• Adults (Tiddley Tea\, with a themed teapot cocktail) – £40.00 each \nA non-refundable deposit of £10 per person is required to confirm your places. Booking is essential\, so please call us to save your seat at the table. Please advise any dietary requirements when you call. \nPlease note: If a member of your party can’t attend\, please let us know at least 24 hours in advance or we’ll need to charge the full amount (Polyjuice Potion or not).
URL:https://www.discovernorthampton.co.uk/event/harry-potter-afternoon-tea/
LOCATION:The Eccentric Englishman\, 21 St Giles' Street\, northampton\, Northamptonshire\, NN1 1JA\, United Kingdom
CATEGORIES:Afternoon Tea
ATTACH;FMTTYPE=image/png:https://www.discovernorthampton.co.uk/wp-content/uploads/2025/07/Screenshot-2025-07-30-131357.png
END:VEVENT
BEGIN:VEVENT
DTSTART;TZID=Europe/London:20250920T120000
DTEND;TZID=Europe/London:20250920T140000
DTSTAMP:20260426T033456
CREATED:20250813T130331Z
LAST-MODIFIED:20250813T130331Z
UID:129074-1758369600-1758376800@www.discovernorthampton.co.uk
SUMMARY:The Lion King Afternoon Tea
DESCRIPTION:Step into the Circle of Life for an afternoon to remember! \noin us for a magical Lion King–themed afternoon tea\, complete with beautifully decorated tables\, themed treats\, and even special cocktails for the grown-ups. Enjoy a three-course feast fit for a king – one savoury course followed by two rounds of sweet delights. \nPerfect for families and fans of all ages\, this is your chance to Hakuna Matata the afternoon away in true Eccentric Englishman style. \nWe offer one sitting: 12pm – 2pm \nFor children the price is £25.00 each and\, for an Adults Prohibition Tea\, the price per person is £30.00 while our famous Tiddley Tea is priced at £40.00 per adult. \nWe do require a non-refundable deposit of £15 per person to confirm your places. Booking is essential\, so please call us to book. \nÂ 
URL:https://www.discovernorthampton.co.uk/event/the-lion-king-afternoon-tea/
LOCATION:The Eccentric Englishman\, 21 St Giles' Street\, northampton\, Northamptonshire\, NN1 1JA\, United Kingdom
CATEGORIES:Afternoon Tea
ATTACH;FMTTYPE=image/png:https://www.discovernorthampton.co.uk/wp-content/uploads/2025/08/Screenshot-2025-08-13-140309.png
END:VEVENT
BEGIN:VEVENT
DTSTART;TZID=Europe/London:20250925T123000
DTEND;TZID=Europe/London:20250925T123000
DTSTAMP:20260426T033456
CREATED:20250603T105015Z
LAST-MODIFIED:20250603T105015Z
UID:127362-1758803400-1758803400@www.discovernorthampton.co.uk
SUMMARY:Sandwiches at The Old Savoy- Bites of History
DESCRIPTION:Step back in time with Afternoon Tea at The Old Savoy \nJoin us for a delightful afternoon filled with light entertainment\, a delicious afternoon tea\, and a captivating virtual history tour of The Old Savoy Theatre. \nFor just £10 per person\, your afternoon includes:\n– A selection of freshly prepared sandwiches –\n– Scones served with jam and cream –\n– A pot of tea – \n\nThe experience begins at 12:30 PM\, and we’re pleased to offer multiple dates: \nThursday 19th June\nThursday 31st July\nThursday 21st August\nThursday 25th September \nSpaces are limited\, so book early to secure your place for an afternoon of charm\, nostalgia\, and delicious treats.
URL:https://www.discovernorthampton.co.uk/event/sandwiches-at-the-old-savoy-bites-of-history/2025-09-25/
LOCATION:The Old Savoy â€“ The home of The Deco Theatre\, Abington Square\, Northampton\, Northamptonshire\, NN1 4AE
CATEGORIES:Afternoon Tea,The Deco
ATTACH;FMTTYPE=image/jpeg:https://www.discovernorthampton.co.uk/wp-content/uploads/2025/06/sandwiches-at-the-old-savoy-768x764-1.jpg
ORGANIZER;CN="The Deco":MAILTO:Toni@stage-right.co.uk
END:VEVENT
END:VCALENDAR