BEGIN:VCALENDAR
VERSION:2.0
PRODID:-//Northampton BID - ECPv6.2.4//NONSGML v1.0//EN
CALSCALE:GREGORIAN
METHOD:PUBLISH
X-WR-CALNAME:Northampton BID
X-ORIGINAL-URL:https://www.discovernorthampton.co.uk
X-WR-CALDESC:Events for Northampton BID
REFRESH-INTERVAL;VALUE=DURATION:PT1H
X-Robots-Tag:noindex
X-PUBLISHED-TTL:PT1H
BEGIN:VTIMEZONE
TZID:Europe/London
BEGIN:DAYLIGHT
TZOFFSETFROM:+0000
TZOFFSETTO:+0100
TZNAME:BST
DTSTART:20250330T010000
END:DAYLIGHT
BEGIN:STANDARD
TZOFFSETFROM:+0100
TZOFFSETTO:+0000
TZNAME:GMT
DTSTART:20251026T010000
END:STANDARD
END:VTIMEZONE
BEGIN:VEVENT
DTSTART;TZID=Europe/London:20251101T140000
DTEND;TZID=Europe/London:20251101T160000
DTSTAMP:20260425T152812
CREATED:20251006T125325Z
LAST-MODIFIED:20251006T125325Z
UID:131106-1762005600-1762012800@www.discovernorthampton.co.uk
SUMMARY:Horror Bottomless Brunch
DESCRIPTION:Who needs an excuse to dress up? Certainly not us! This Halloween\, we’re mixing a little fright with a lot of fun for our Horror Bottomless Brunch. \nEnjoy two hours of bottomless themed cocktails or Prosecco while tucking into a spooky sharing board filled with delicious treats. You’ll also receive a horror-movie trivia quiz to test your knowledge of all things scary â€“ just for fun\, of course! \nAnd don’t forget to dress to distress… there’s a prize for the scariest costume. \nThe price is Ł45.00 per person (no discount for non-drinkers)\nDeposit: Ł15.00 per person (non-refundable)\nPlease let us know of any dietary requirements when booking. Cancellations made less than 24 hours before the event or no-shows will be charged in full. \nCall 01604 626977 to book your place or use the Contact Us form to provide details of your party â€“ if you dare.
URL:https://www.discovernorthampton.co.uk/event/horror-bottomless-brunch/
LOCATION:The Eccentric Englishman\, 21 St Giles' Street\, northampton\, Northamptonshire\, NN1 1JA\, United Kingdom
CATEGORIES:Afternoon Tea
ATTACH;FMTTYPE=image/png:https://www.discovernorthampton.co.uk/wp-content/uploads/2025/10/Screenshot-2025-10-06-135116.png
END:VEVENT
BEGIN:VEVENT
DTSTART;TZID=Europe/London:20251115T120000
DTEND;TZID=Europe/London:20251115T140000
DTSTAMP:20260425T152812
CREATED:20251007T065658Z
LAST-MODIFIED:20251007T065658Z
UID:131112-1763208000-1763215200@www.discovernorthampton.co.uk
SUMMARY:K Pop Demon Hunters Afternoon Tea
DESCRIPTION:Join us for an action-packed\, music-filled afternoon inspired by the animated movie K-Pop Demon Hunters\, \n\nFollow the adventures of Huntr/x\, the all-female K-pop group who secretly act as guardians of the world\, as you enjoy a three-course themed afternoon tea: one savoury course followed by two indulgent courses of sweet treats.\n\n\n\n\n\nWith decorated tables\, themed cocktails\, and plenty of fun\, this event is perfect for fans of all ages. Whether you’re a K-pop enthusiast or just love a lively\, imaginative afternoon\, there’s something here for everyone. \nWe have one sitting: 12pm – 2pm \nPrices:\nŁ25.00 per child\nŁ30.00 per adult for our non-alcoholic Prohibition tea\nŁ40.00 per adult for our famous â€śTiddleyâ€ť tea. \nA Ł15.00 per person non-refundable deposit is required at the time of booking. If anyone in your party cannot attend\, please let us know at least 24 hours in advance\, otherwise the full charge will apply. \nCall us to book or contact us via the website Contact Us page\, with details of your requirements.
URL:https://www.discovernorthampton.co.uk/event/k-pop-demon-hunters-afternoon-tea/
LOCATION:The Eccentric Englishman\, 21 St Giles' Street\, northampton\, Northamptonshire\, NN1 1JA\, United Kingdom
CATEGORIES:Afternoon Tea
ATTACH;FMTTYPE=image/png:https://www.discovernorthampton.co.uk/wp-content/uploads/2025/10/Screenshot-2025-10-07-075340.png
END:VEVENT
BEGIN:VEVENT
DTSTART;TZID=Europe/London:20251122T120000
DTEND;TZID=Europe/London:20251122T170000
DTSTAMP:20260425T152812
CREATED:20251007T102559Z
LAST-MODIFIED:20251007T102559Z
UID:131118-1763812800-1763830800@www.discovernorthampton.co.uk
SUMMARY:"Wicked for Good" Afternoon Tea
DESCRIPTION:Due to popular demand\, we’ve added an extra sitting from 3pm to 5pm \n\nBefore we give you the details of this event\, weâ€™re sorry to say that our 12pm – 2pm session is already sold out!\n\n\n\n\n\nHowever\, celebrate the release of the magical new film â€śWicked for Goodâ€ť\, which comes out on November 21st\, with a truly unique Christmas Afternoon Tea experience. \nEnjoy three courses of homemade treats\, festive music\, themed decorations\, and cocktails\, plus a few special extras to take home. All guests will also receive a complimentary drink on arrival. \nPrices:\nChildren – Ł25.00\nAdults â€“ Ł35.00 for our non-alcoholic Prohibition Tea\nAdults â€“ Ł45.00 for our famous â€śTiddleyâ€ť Tea \nA Ł15.00 per person non-refundable deposit is required at the time of booking. Please let us know of any cancellations at least 24 hours in advance\, otherwise full charges will apply. \nCall us today to reserve your place\, or use the Contact form on the website to provide your requirements\, and join the festive fun — no one does this event like we do!
URL:https://www.discovernorthampton.co.uk/event/wicked-for-good-afternoon-tea/
LOCATION:The Eccentric Englishman\, 21 St Giles' Street\, northampton\, Northamptonshire\, NN1 1JA\, United Kingdom
CATEGORIES:Afternoon Tea
ATTACH;FMTTYPE=image/png:https://www.discovernorthampton.co.uk/wp-content/uploads/2025/10/Screenshot-2025-10-07-112331.png
END:VEVENT
END:VCALENDAR