BEGIN:VCALENDAR
VERSION:2.0
PRODID:-//Northampton BID - ECPv6.2.4//NONSGML v1.0//EN
CALSCALE:GREGORIAN
METHOD:PUBLISH
X-WR-CALNAME:Northampton BID
X-ORIGINAL-URL:https://www.discovernorthampton.co.uk
X-WR-CALDESC:Events for Northampton BID
REFRESH-INTERVAL;VALUE=DURATION:PT1H
X-Robots-Tag:noindex
X-PUBLISHED-TTL:PT1H
BEGIN:VTIMEZONE
TZID:Europe/London
BEGIN:DAYLIGHT
TZOFFSETFROM:+0000
TZOFFSETTO:+0100
TZNAME:BST
DTSTART:20250330T010000
END:DAYLIGHT
BEGIN:STANDARD
TZOFFSETFROM:+0100
TZOFFSETTO:+0000
TZNAME:GMT
DTSTART:20251026T010000
END:STANDARD
END:VTIMEZONE
BEGIN:VEVENT
DTSTART;TZID=Europe/London:20251101T140000
DTEND;TZID=Europe/London:20251101T160000
DTSTAMP:20260425T203949
CREATED:20251006T125325Z
LAST-MODIFIED:20251006T125325Z
UID:131106-1762005600-1762012800@www.discovernorthampton.co.uk
SUMMARY:Horror Bottomless Brunch
DESCRIPTION:Who needs an excuse to dress up? Certainly not us! This Halloween\, we’re mixing a little fright with a lot of fun for our Horror Bottomless Brunch. \nEnjoy two hours of bottomless themed cocktails or Prosecco while tucking into a spooky sharing board filled with delicious treats. You’ll also receive a horror-movie trivia quiz to test your knowledge of all things scary â€“ just for fun\, of course! \nAnd don’t forget to dress to distress… there’s a prize for the scariest costume. \nThe price is £45.00 per person (no discount for non-drinkers)\nDeposit: £15.00 per person (non-refundable)\nPlease let us know of any dietary requirements when booking. Cancellations made less than 24 hours before the event or no-shows will be charged in full. \nCall 01604 626977 to book your place or use the Contact Us form to provide details of your party â€“ if you dare.
URL:https://www.discovernorthampton.co.uk/event/horror-bottomless-brunch/
LOCATION:The Eccentric Englishman\, 21 St Giles' Street\, northampton\, Northamptonshire\, NN1 1JA\, United Kingdom
CATEGORIES:Afternoon Tea
ATTACH;FMTTYPE=image/png:https://www.discovernorthampton.co.uk/wp-content/uploads/2025/10/Screenshot-2025-10-06-135116.png
END:VEVENT
END:VCALENDAR