BEGIN:VCALENDAR
VERSION:2.0
PRODID:-//Northampton BID - ECPv6.2.4//NONSGML v1.0//EN
CALSCALE:GREGORIAN
METHOD:PUBLISH
X-WR-CALNAME:Northampton BID
X-ORIGINAL-URL:https://www.discovernorthampton.co.uk
X-WR-CALDESC:Events for Northampton BID
REFRESH-INTERVAL;VALUE=DURATION:PT1H
X-Robots-Tag:noindex
X-PUBLISHED-TTL:PT1H
BEGIN:VTIMEZONE
TZID:Europe/London
BEGIN:DAYLIGHT
TZOFFSETFROM:+0000
TZOFFSETTO:+0100
TZNAME:BST
DTSTART:20220327T010000
END:DAYLIGHT
BEGIN:STANDARD
TZOFFSETFROM:+0100
TZOFFSETTO:+0000
TZNAME:GMT
DTSTART:20221030T010000
END:STANDARD
BEGIN:DAYLIGHT
TZOFFSETFROM:+0000
TZOFFSETTO:+0100
TZNAME:BST
DTSTART:20230326T010000
END:DAYLIGHT
BEGIN:STANDARD
TZOFFSETFROM:+0100
TZOFFSETTO:+0000
TZNAME:GMT
DTSTART:20231029T010000
END:STANDARD
BEGIN:DAYLIGHT
TZOFFSETFROM:+0000
TZOFFSETTO:+0100
TZNAME:BST
DTSTART:20240331T010000
END:DAYLIGHT
BEGIN:STANDARD
TZOFFSETFROM:+0100
TZOFFSETTO:+0000
TZNAME:GMT
DTSTART:20241027T010000
END:STANDARD
BEGIN:DAYLIGHT
TZOFFSETFROM:+0000
TZOFFSETTO:+0100
TZNAME:BST
DTSTART:20250330T010000
END:DAYLIGHT
BEGIN:STANDARD
TZOFFSETFROM:+0100
TZOFFSETTO:+0000
TZNAME:GMT
DTSTART:20251026T010000
END:STANDARD
END:VTIMEZONE
BEGIN:VEVENT
DTSTART;TZID=Europe/London:20251206T150000
DTEND;TZID=Europe/London:20251206T173000
DTSTAMP:20260425T205806
CREATED:20251203T220029Z
LAST-MODIFIED:20251205T155101Z
UID:132386-1765033200-1765042200@www.discovernorthampton.co.uk
SUMMARY:Grinch and Cindy-Lou
DESCRIPTION:Join us from 3 pm for a chance to meet with Grinch and Cindy Lou in the Market Square.
URL:https://www.discovernorthampton.co.uk/event/grinch-characters/
LOCATION:Northampton Market Square
CATEGORIES:BID Event,Christmas
ATTACH;FMTTYPE=image/jpeg:https://www.discovernorthampton.co.uk/wp-content/uploads/2025/12/591762583_1427530349382852_1961963185061029757_n.jpg
END:VEVENT
BEGIN:VEVENT
DTSTART;TZID=Europe/London:20251206T110000
DTEND;TZID=Europe/London:20251206T150000
DTSTAMP:20260425T205806
CREATED:20251203T215721Z
LAST-MODIFIED:20251203T215721Z
UID:132382-1765018800-1765033200@www.discovernorthampton.co.uk
SUMMARY:Grinch themed cupcake decorating workshop
DESCRIPTION:Join us from 11 am to 3 pm for Grinch themed cupcake decorating workshops in the Grosvenor Gatherings unit at Grosvenor Shopping Northampton.
URL:https://www.discovernorthampton.co.uk/event/grinch-themed-cupcake-decorating-workshop/
LOCATION:Grosvenor Shopping Northampton\, Grosvenor Centre\, Union Street\, Northampton\, Northamptonshire\, NN1 2EW
CATEGORIES:BID Event,Christmas
ATTACH;FMTTYPE=image/jpeg:https://www.discovernorthampton.co.uk/wp-content/uploads/2025/12/590711813_1426660442803176_6269903693367372664_n.jpg
END:VEVENT
BEGIN:VEVENT
DTSTART;VALUE=DATE:20251206
DTEND;VALUE=DATE:20251207
DTSTAMP:20260425T205806
CREATED:20251203T220213Z
LAST-MODIFIED:20251203T220213Z
UID:132388-1764979200-1765065599@www.discovernorthampton.co.uk
SUMMARY:Small Business Saturday
DESCRIPTION:Small Business Saturday returns on Saturday\, 6th December\, and we will be using this as an opportunity to champion our wide range of independent town centre businesses. \nNorthampton town centre is set to burst into festive life on Small Business Saturday\, with a packed programme of family-friendly activities\, character appearances and a town-wide competition designed to encourage shoppers to explore and support local businesses. \nThe highlight of the activities on Saturday\, 6 December will be a mischievous â€˜Grinch Takeoverâ€™ in Market Square\, where families can enjoy meet-and-greet sessions with the Grinch every 30 minutes between 3 pm and 5.30 pm. Expect festive fun\, photo opportunities and plenty of seasonal mischief. \nEarlier in the day\, budding bakers can get creative at cupcake decorating workshops in the Grosvenor Gatherings unit at Grosvenor Shopping Northampton. Running from 11 am to 3 pm\, the sessions are free to take part in and perfect for younger visitors looking to add a sweet treat to their Christmas countdown. \nWe are also launching a special Grinch-themed competition. Families are invited to hunt for Grinch puppets\, hand-crocheted by the Northamptonshire Womenâ€™s Institute\, that will be displayed in shops around the town. \nSome puppets will be holding a letter. Collect all the letters\, spell the festive word\, and email your answer\, along with your name and address\, to info@northamptonbid.co.uk for the chance to win a family ticket for four to the spectacular Market Square On Ice rink.
URL:https://www.discovernorthampton.co.uk/event/small-business-saturday-3/
LOCATION:Northampton Town Centre
CATEGORIES:BID Event,Christmas
ATTACH;FMTTYPE=image/jpeg:https://www.discovernorthampton.co.uk/wp-content/uploads/2025/12/Renees.jpg
END:VEVENT
BEGIN:VEVENT
DTSTART;VALUE=DATE:20251206
DTEND;VALUE=DATE:20251207
DTSTAMP:20260425T205806
CREATED:20251203T215833Z
LAST-MODIFIED:20251203T215833Z
UID:132384-1764979200-1765065599@www.discovernorthampton.co.uk
SUMMARY:Grinch Trail
DESCRIPTION:Find the Grinch puppets with the letters\, spelling out a festive word. Email your answer\, along with your name and address\, to info@northamptonbid.co.uk for the chance to win a family ticket for four to the spectacular Market Square On Ice rink.
URL:https://www.discovernorthampton.co.uk/event/grinch-trail/
LOCATION:Northampton Market Square
CATEGORIES:BID Event,Christmas
ATTACH;FMTTYPE=image/jpeg:https://www.discovernorthampton.co.uk/wp-content/uploads/2025/12/Grinch-Trail.jpg
END:VEVENT
BEGIN:VEVENT
DTSTART;TZID=Europe/London:20251025T130000
DTEND;TZID=Europe/London:20251025T190000
DTSTAMP:20260425T205806
CREATED:20251023T122017Z
LAST-MODIFIED:20251023T122017Z
UID:131471-1761397200-1761418800@www.discovernorthampton.co.uk
SUMMARY:The Pumpkin Patch
DESCRIPTION:Meet our friendly scarecrows to collect your Pumpkin Hunt map in the Market Square. \nFollow the trail around the town centre to find all the hidden pumpkins – then return to the Pumpkin Patch to pick a pumpkin from the patch to take home and carve! \nÂ  \nHow it works \nCollect your trail map and pumpkin bag to start your adventure. \nYour map will show you where to go and what to look for. \nFollow the trail \nLook for the Pumpkin Patch stickers in shop windows – each one marks a trail stop! \nAt every stop\, spot a hidden pumpkin and collect a letter! \nReturn to the Patch \nOnce you’ve found them all\, head back to the Pumpkin Patch to collect your pumpkin\, take a photo and enjoy the autumn atmosphere. \nÂ  \nPrize Draw ! \nShare a photo of your carved pumpkin using #NorthamptonshireDay and tag @northamptonbid on Facebook for a chance to win £100* in vouchers! \n* T&C’s apply.
URL:https://www.discovernorthampton.co.uk/event/the-pumpkin-patch/
LOCATION:Northampton Market Square
CATEGORIES:BID Event,Halloween
ATTACH;FMTTYPE=image/png:https://www.discovernorthampton.co.uk/wp-content/uploads/2025/10/Pumpkin-Patch.png
END:VEVENT
BEGIN:VEVENT
DTSTART;TZID=Europe/London:20250430T100000
DTEND;TZID=Europe/London:20250430T120000
DTSTAMP:20260425T205806
CREATED:20250424T100515Z
LAST-MODIFIED:20250424T101752Z
UID:125990-1746007200-1746014400@www.discovernorthampton.co.uk
SUMMARY:Demystifying Cyber Security: Safeguarding Small Businesses In The Digital Age
DESCRIPTION:Cyber security is not only an IT problem. It impacts every high street business\, small independent\, and individual\, as well as banks and big businesses. It’s increasingly important you understand the risks you face\, and how best to prepare and respond. \nNorthampton Town Centre BID is staging a new event aimed at business owners in the town centre – giving YOU the chance to hear first-hand what cyber security means for you and your business. \nThis is an opportunity to hear from experts as they ‘demystify’ the subject of cyber security\, and spell out in simple terms\, what you can do to protect your data and keep you and your business safe. \nWe will be running the event in the Gatherings unit of Grosvenor Shopping Centre\, on Wednesday\, April 30. \n· The morning session will run from 10am to noon \n· The afternoon session will run from 2pm to 4pm. \nBoth sessions contain the same content\, so you only need to attend one session. \nHeather Francis is the Digital and Technology Delivery Manager within the Office of the Northamptonshire Police\, Fire and Crime Commissioner and runs the Northamptonshire Cyber Security Forum\, in conjunction with Northamptonshire Police. \nChris Lambert\, of Datasense Consulting Ltd\, has been running various IT support businesses from Northampton for the past 20 years. He will offer guidance on how to avoid common mistakes and outline the resources available from the East Midlands Cyber Resilience Centre. \nEvelyn Williams\, of In2secure Ltd\, is a NCSC approved Cyber Advisor who works with businesses to improve their cyber security. She will introduce the Government backed Cyber Essentials scheme and provide practical guidance so you can protect both your business\, and yourself\, from cybercrime.
URL:https://www.discovernorthampton.co.uk/event/demystifying-cyber-security-safeguarding-small-businesses-in-the-digital-age/2025-04-30/
LOCATION:Grosvenor Shopping Northampton\, Grosvenor Centre\, Union Street\, Northampton\, Northamptonshire\, NN1 2EW
CATEGORIES:BID Event,Workshop
ATTACH;FMTTYPE=image/jpeg:https://www.discovernorthampton.co.uk/wp-content/uploads/2025/04/udcbjbqckcgh7mzjxryo.jpg
END:VEVENT
BEGIN:VEVENT
DTSTART;VALUE=DATE:20240311
DTEND;VALUE=DATE:20240312
DTSTAMP:20260425T205806
CREATED:20240312T105843Z
LAST-MODIFIED:20240312T105843Z
UID:118942-1710115200-1710201599@www.discovernorthampton.co.uk
SUMMARY:The Great Eggscape - Easter Trail
DESCRIPTION:Monday 11th March â€“ Monday 1st April \nHead into town and visit the 10 brilliant local businesses to help the doggie detectives solve the mystery of the missing bunnies! \nSimply visit one of the host businesses\, scan the QR code on the poster displayed in the window and follow the on-screen instructions. \nComplete the trail to be in with a chance of winning a £100 voucher! \nHave fun! \nFull details\, www.discovernorthampton.co.uk/the-great-egg-scape/
URL:https://www.discovernorthampton.co.uk/event/the-great-eggscape-easter-trail/2024-03-11/
LOCATION:town centre
CATEGORIES:BID Event,Easter
ATTACH;FMTTYPE=image/png:https://www.discovernorthampton.co.uk/wp-content/uploads/2024/03/The-Great-Egg-scape-Facebook-Cover.png
END:VEVENT
BEGIN:VEVENT
DTSTART;VALUE=DATE:20230401
DTEND;VALUE=DATE:20230402
DTSTAMP:20260425T205806
CREATED:20230315T095327Z
LAST-MODIFIED:20230315T095327Z
UID:113252-1680307200-1680393599@www.discovernorthampton.co.uk
SUMMARY:BrickLive Animal Paradise Trail
DESCRIPTION:Some of the most endangered animals in the world will be on show in Northampton this Easter as the town centre hosts an amazing trail of sculptures made entirely from toy bricks. \nThe Animal Paradise trail\, presented and built by BRICKLIVE\, has been commissioned by Northampton Town Centre Business Improvement District (BID) and will feature 15 models of creatures including snow leopards\, tigers\, penguins and orangutans. \nFamilies can get involved in the trail\, which runs from April 1-16 by downloading the LoyalFree app onto their smartphone and scanning QR codes at each host venue to find out more about the model creature on display in the window. All those who complete the trail via the app will be entered into a prize draw to win one of two £100 vouchers.
URL:https://www.discovernorthampton.co.uk/event/bricklive-animal-paradise-trail/2023-04-01/
LOCATION:town centre
CATEGORIES:BID Event
ATTACH;FMTTYPE=image/jpeg:https://www.discovernorthampton.co.uk/wp-content/uploads/2023/03/Bricklive-Trail.jpg
END:VEVENT
BEGIN:VEVENT
DTSTART;TZID=Europe/London:20221107T090000
DTEND;TZID=Europe/London:20221107T130000
DTSTAMP:20260425T205806
CREATED:20220128T114006Z
LAST-MODIFIED:20221103T093146Z
UID:106782-1667811600-1667826000@www.discovernorthampton.co.uk
SUMMARY:BID TIDY DAY
DESCRIPTION:Picking up where we started last year\, we are planning to hold our first 2022 Tidy Day on Monday 4 April.\n \nTo tie in with The Great British Spring Clean\, which this year runs from 25 March to 10 April\, the BID is inviting businesses and the community to join us for a morning of litter picking across the town centre. \nThis is an opportunity to bring businesses and the community together. \nLitter picking equipment will be provided for all who are able to attend and our BID Gazebo will be placed in the market square throughout the event\, allowing volunteers to join us for as much time as they can spare. \nNovember 7th\, 9am – 1pm \nMeet at Market Square \nAnyone interested in getting involved please email info@northamptonbid.co.uk.
URL:https://www.discovernorthampton.co.uk/event/bid-tidy-day/
LOCATION:town centre
CATEGORIES:BID Event
ATTACH;FMTTYPE=image/png:https://www.discovernorthampton.co.uk/wp-content/uploads/2021/09/Untitled-design-55.png
END:VEVENT
BEGIN:VEVENT
DTSTART;TZID=Europe/London:20221021T110000
DTEND;TZID=Europe/London:20221021T150000
DTSTAMP:20260425T205806
CREATED:20221020T095506Z
LAST-MODIFIED:20221020T095506Z
UID:111345-1666350000-1666364400@www.discovernorthampton.co.uk
SUMMARY:Recruitment Fair - NorthamptonBID
DESCRIPTION:opportunity for businesses to showcase any vacancies they have and for the public to check to see what vacancies are available.
URL:https://www.discovernorthampton.co.uk/event/recruitment-fair-northamptonbid/
LOCATION:Grosvenor Shopping Northampton\, Grosvenor Centre\, Union Street\, Northampton\, Northamptonshire\, NN1 2EW
CATEGORIES:BID Event
ATTACH;FMTTYPE=image/png:https://www.discovernorthampton.co.uk/wp-content/uploads/2022/10/BID-Recruitment-Fair-Friday-21st-October-.png
END:VEVENT
BEGIN:VEVENT
DTSTART;TZID=Europe/London:20220924T120000
DTEND;TZID=Europe/London:20220924T200000
DTSTAMP:20260425T205806
CREATED:20220708T091720Z
LAST-MODIFIED:20220921T092914Z
UID:109318-1664020800-1664049600@www.discovernorthampton.co.uk
SUMMARY:60s Celebration
DESCRIPTION:Northampton will be celebrating the swinging Sixties with a Magical Musical Mystery Tour\, live music\, vintage fairs\, exhibitions and activities. Fun for all the family.  \nOne of the UK’s biggest Beatles tribute acts will headline the Sixties Spectacular on Saturday\, September 10 - with a thrilling live performance featuring all the big hits from the Fab Four in the Market Square.
URL:https://www.discovernorthampton.co.uk/event/60s-celebration/
LOCATION:Northampton Market Square
CATEGORIES:BID Event
ATTACH;FMTTYPE=image/jpeg:https://www.discovernorthampton.co.uk/wp-content/uploads/2022/07/60s-Celebration-new-date_Moment.jpg
END:VEVENT
BEGIN:VEVENT
DTSTART;TZID=Europe/London:20220423T110000
DTEND;TZID=Europe/London:20220423T160000
DTSTAMP:20260425T205806
CREATED:20220309T095130Z
LAST-MODIFIED:20220419T090221Z
UID:107956-1650711600-1650729600@www.discovernorthampton.co.uk
SUMMARY:The Dinosaurs are returning to Northampton town centre
DESCRIPTION:THEY ARE BACK â€“ EVEN BIGGER AND BETTER THAN BEFORE\n\nJoin us for another ‘roarsome’ day of free family fun in Northampton town centre as we welcome back our very special dinosaur guests – and they are bringing some exciting new friendsâ€¦\n\nItâ€™s not every day you come face-to-face with a triceratops and a T Rex but shoppers will get up close and personal with the giant beasts as part of a free family fun day being held in Northampton town centre from 11am to 4pm on Saturday\, April 23.\n\nRitchie the Raptor\, Zeus the T Rex and Tank the Triceratops will be appearing in Market Square and Abington Street as the town is transported back to the Jurassic era\, with a host of activities lined up for young adventurers.\n\nOur augmented reality Dino Trail will once again be available through the Explore Northampton app – giving you the chance to hunt down 10 friendly dinosaurs hidden around the town centre.\n\nFind them all and grab a selfie with your favourite!\n\nwww.discovernorthampton.co.uk/the-dinosaurs-are-coming-to-northampton-town-centre/\nwww.facebook.com/events/638181187256600/?active_tab=about
URL:https://www.discovernorthampton.co.uk/event/the-dinosaurs-are-returning-to-northampton-town-centre/
LOCATION:Northampton Market Square
CATEGORIES:BID Event
ATTACH;FMTTYPE=image/png:https://www.discovernorthampton.co.uk/wp-content/uploads/2022/02/The-Dinosaurs-are-returning-to-Northampton-town-centre.png
END:VEVENT
BEGIN:VEVENT
DTSTART;VALUE=DATE:20220312
DTEND;VALUE=DATE:20220328
DTSTAMP:20260425T205806
CREATED:20220311T104403Z
LAST-MODIFIED:20220311T105239Z
UID:107561-1647043200-1648425599@www.discovernorthampton.co.uk
SUMMARY:PAW Patrol Brick Trail
DESCRIPTION:Saturday March 12 to Sunday March 27\nPAW Patrol fans will be able to meet their favourite cartoon characters as Northampton town centre hosts an amazing ‘brick trail’ of sculptures from the hit show. \nThe town centre is set to host up to 21 models including favourite characters and buildings from the hit Nick Jr. show\, presented and built by BRICKLIVE. \nFamilies can join in the search and find the brightly coloured toy brick models with characters including Chase\, Marshall\, Skye and the gang all waiting to be found in and around the town centre. \nDuring the two-week event\, which runs from Saturday\, March 12 to Sunday\, March 27\, visitors can collect a trail-map and answer questions based on each of the models to be in with a chance of winning one of four £50 vouchers to spend in town centre businesses. \nTrail maps and prize draw entry forms can be collected from participating businesses and can also be downloaded from our website here. \nEntries can be posted into a specially designed post box located in Grosvenor Shopping during the two weeks the pups are in town. \nGood Luck! \nÂ 
URL:https://www.discovernorthampton.co.uk/event/paw-patrol-brick-trail/
LOCATION:town centre
CATEGORIES:BID Event
ATTACH;FMTTYPE=image/png:https://www.discovernorthampton.co.uk/wp-content/uploads/2022/03/Car-Park-Banner-Snip.png
END:VEVENT
BEGIN:VEVENT
DTSTART;TZID=Europe/London:20220304T110000
DTEND;TZID=Europe/London:20220304T150000
DTSTAMP:20260425T205806
CREATED:20220128T112927Z
LAST-MODIFIED:20220128T112927Z
UID:106777-1646391600-1646406000@www.discovernorthampton.co.uk
SUMMARY:BID Jobs Fair
DESCRIPTION:The BID will be holding a Jobs Fair in the Grosvenor Gatherings unit on Friday 4 March between 11am-3pm. \nBID Businesses and job seekers will have the opportunity to meet and discuss potential opportunities. \nBusinesses interested in hosting their own should email info@northamptonbid.co.uk with their Business Name\, Contact Name and Contact Details by Friday 11 February.
URL:https://www.discovernorthampton.co.uk/event/bid-jobs-fair/
LOCATION:Grosvenor Shopping Northampton\, Grosvenor Centre\, Union Street\, Northampton\, Northamptonshire\, NN1 2EW
CATEGORIES:BID Event
ATTACH;FMTTYPE=image/png:https://www.discovernorthampton.co.uk/wp-content/uploads/2022/01/Jobs-Fair-March-2022-e1643369310129.png
END:VEVENT
BEGIN:VEVENT
DTSTART;TZID=Europe/London:20220223T110000
DTEND;TZID=Europe/London:20220223T120000
DTSTAMP:20260425T205806
CREATED:20220204T092534Z
LAST-MODIFIED:20220210T100006Z
UID:106893-1645614000-1645617600@www.discovernorthampton.co.uk
SUMMARY:Google Digital Garage: Social Media Strategy
DESCRIPTION:A social media strategy can help you measure the success of your online posts. Join us for a 60 minute course to learn about how you can build a social media strategy into your business plan. \nIn this session you will learn: \n\nHow social media can help you reach new customers online\nThe building blocks of a simple social media strategy\nTools that can help you save time when creating social posts\n\nSIGN UP HERE \nGood to know: This session is run using YouTube and is 60 minutes long. The course assumes no prior knowledge or experience so there is no pre-reading necessary. There will be the opportunity to ask questions during the session.
URL:https://www.discovernorthampton.co.uk/event/google-digital-garage-social-media-strategy/
CATEGORIES:BID Event
ATTACH;FMTTYPE=image/jpeg:https://www.discovernorthampton.co.uk/wp-content/uploads/2021/05/Google-Garage-Logo-.jpg
END:VEVENT
END:VCALENDAR