BEGIN:VCALENDAR
VERSION:2.0
PRODID:-//Northampton BID - ECPv6.2.4//NONSGML v1.0//EN
CALSCALE:GREGORIAN
METHOD:PUBLISH
X-WR-CALNAME:Northampton BID
X-ORIGINAL-URL:https://www.discovernorthampton.co.uk
X-WR-CALDESC:Events for Northampton BID
REFRESH-INTERVAL;VALUE=DURATION:PT1H
X-Robots-Tag:noindex
X-PUBLISHED-TTL:PT1H
BEGIN:VTIMEZONE
TZID:Europe/London
BEGIN:DAYLIGHT
TZOFFSETFROM:+0000
TZOFFSETTO:+0100
TZNAME:BST
DTSTART:20240331T010000
END:DAYLIGHT
BEGIN:STANDARD
TZOFFSETFROM:+0100
TZOFFSETTO:+0000
TZNAME:GMT
DTSTART:20241027T010000
END:STANDARD
BEGIN:DAYLIGHT
TZOFFSETFROM:+0000
TZOFFSETTO:+0100
TZNAME:BST
DTSTART:20250330T010000
END:DAYLIGHT
BEGIN:STANDARD
TZOFFSETFROM:+0100
TZOFFSETTO:+0000
TZNAME:GMT
DTSTART:20251026T010000
END:STANDARD
END:VTIMEZONE
BEGIN:VEVENT
DTSTART;TZID=Europe/London:20251218T183000
DTEND;TZID=Europe/London:20251218T183000
DTSTAMP:20260425T194151
CREATED:20251218T134226Z
LAST-MODIFIED:20251218T134226Z
UID:133231-1766082600-1766082600@www.discovernorthampton.co.uk
SUMMARY:Women's Bookclub 18 Dec 2025
DESCRIPTION:Saints women’s book club! 🍹📚 \nCome on your own or with friends. All women are welcome! We meet every third Thursday of the month. Book talk\, cocktails\, wine\, coffee\, etc 📚🍷🍸🧀 \nTickets are £10 to attend\, the price of the ticket is fully redeemable against drinks purchased on the night. Contribute as much or as little to the book chat as you like\, we’d just love to have you there! For details of each month’s book\, please see Instagram and Facebook posts or direct message us on those platforms. Tickets are non-refundable. Looking forward to welcoming you to the book club! 🤍🤍🤍 \nMeet at 6:30\, settle in\, and discussions start at 7pm
URL:https://www.discovernorthampton.co.uk/event/womens-bookclub-18-dec-2025/
LOCATION:Saints Coffee\, 62 St Giles' St\, Northampton\, Northamptonshire\, NN1 1JW\, United Kingdom
CATEGORIES:Book Club
ATTACH;FMTTYPE=image/png:https://www.discovernorthampton.co.uk/wp-content/uploads/2025/12/Bookclub.png
END:VEVENT
BEGIN:VEVENT
DTSTART;TZID=Europe/London:20250918T183000
DTEND;TZID=Europe/London:20250918T183000
DTSTAMP:20260425T194151
CREATED:20250911T115620Z
LAST-MODIFIED:20250911T115620Z
UID:130271-1758220200-1758220200@www.discovernorthampton.co.uk
SUMMARY:Women's Bookclub 18 September 2025
DESCRIPTION:?? Come on your own or with friends. All women are welcome! We meet every third Thursday of the month. Book talk\, cocktails\, wine\, coffee\, etc \n???? Tickets are 10 to attend\, the price of the ticket is fully redeemable against drinks purchased on the night. Contribute as much or as little to the book chat as you like\, we’d just love to have you there! For details of each month’s book\, please see Instagram and Facebook posts or direct message us on those platforms. Tickets are non-refundable. Looking forward to welcoming you to the book club! \n??? Meet at 6:30\, settle in\, and discussions start at 7pm
URL:https://www.discovernorthampton.co.uk/event/womens-bookclub-18-september-2025/
LOCATION:Saints Coffee\, 62 St Giles' St\, Northampton\, Northamptonshire\, NN1 1JW\, United Kingdom
CATEGORIES:Book Club
ATTACH;FMTTYPE=image/png:https://www.discovernorthampton.co.uk/wp-content/uploads/2025/09/Book-Club.png
END:VEVENT
BEGIN:VEVENT
DTSTART;TZID=Europe/London:20250821T190000
DTEND;TZID=Europe/London:20250821T190000
DTSTAMP:20260425T194151
CREATED:20250731T125915Z
LAST-MODIFIED:20250731T125930Z
UID:128940-1755802800-1755802800@www.discovernorthampton.co.uk
SUMMARY:Saints Book Club & Cocktails
DESCRIPTION:Saints Book Club & Cocktails (Open to all women\, DM if interested!) (Tickets available for purchase through the link in our bio or our website – www.saintscoffee.co.uk)
URL:https://www.discovernorthampton.co.uk/event/saints-book-club-cocktails-17/
LOCATION:Saints Coffee\, 62 St Giles' St\, Northampton\, Northamptonshire\, NN1 1JW\, United Kingdom
CATEGORIES:Book Club
ATTACH;FMTTYPE=image/webp:https://www.discovernorthampton.co.uk/wp-content/uploads/2024/05/Saints-Coffee-Logo-1-2.webp
END:VEVENT
BEGIN:VEVENT
DTSTART;TZID=Europe/London:20250619T183000
DTEND;TZID=Europe/London:20250619T183000
DTSTAMP:20260425T194151
CREATED:20250410T105703Z
LAST-MODIFIED:20250410T105703Z
UID:125738-1750357800-1750357800@www.discovernorthampton.co.uk
SUMMARY:Women's Bookclub June
DESCRIPTION:Saints women’s book club! ?? Come on your own or with friends. All women are welcome! We meet every third Thursday of the month. Book talk\, cocktails\, wine\, coffee\, etc ???? Tickets are 10 to attend\, the price of the ticket is fully redeemable against drinks purchased on the night. Contribute as much or as little to the book chat as you like\, we’d just love to have you there! For details of each month’s book\, please see Instagram and Facebook posts or direct message us on those platforms. Tickets are non-refundable. Looking forward to welcoming you to the book club! ??? Meet at 6:30\, settle in\, and discussions start at 7pm
URL:https://www.discovernorthampton.co.uk/event/womens-bookclub-june/
LOCATION:Saints Coffee\, 62 St Giles' St\, Northampton\, Northamptonshire\, NN1 1JW\, United Kingdom
CATEGORIES:Book Club
ATTACH;FMTTYPE=image/png:https://www.discovernorthampton.co.uk/wp-content/uploads/2025/04/bookclub-june.png
END:VEVENT
BEGIN:VEVENT
DTSTART;TZID=Europe/London:20250515T183000
DTEND;TZID=Europe/London:20250515T183000
DTSTAMP:20260425T194151
CREATED:20250506T141413Z
LAST-MODIFIED:20250506T141413Z
UID:126331-1747333800-1747333800@www.discovernorthampton.co.uk
SUMMARY:Women's Bookclub May
DESCRIPTION:Saints women’s book club! ?? Come on your own or with friends. All women are welcome! We meet every third Thursday of the month. Book talk\, cocktails\, wine\, coffee\, etc ???? Tickets are 10 to attend\, the price of the ticket is fully redeemable against drinks purchased on the night. Contribute as much or as little to the book chat as you like\, we’d just love to have you there! For details of each month’s book\, please see Instagram and Facebook posts or direct message us on those platforms. Tickets are non-refundable. Looking forward to welcoming you to the book club! ??? Meet at 6:30\, settle in\, and discussions start at 7pm
URL:https://www.discovernorthampton.co.uk/event/womens-bookclub-may-2/
LOCATION:Saints Coffee\, 62 St Giles' St\, Northampton\, Northamptonshire\, NN1 1JW\, United Kingdom
CATEGORIES:Book Club
ATTACH;FMTTYPE=image/png:https://www.discovernorthampton.co.uk/wp-content/uploads/2025/05/Screenshot-2025-05-06-151038.png
END:VEVENT
BEGIN:VEVENT
DTSTART;TZID=Europe/London:20250515T183000
DTEND;TZID=Europe/London:20250515T183000
DTSTAMP:20260425T194151
CREATED:20250410T105526Z
LAST-MODIFIED:20250410T105526Z
UID:125735-1747333800-1747333800@www.discovernorthampton.co.uk
SUMMARY:Women's Bookclub May
DESCRIPTION:Saints women’s book club! ?? Come on your own or with friends. All women are welcome! We meet every third Thursday of the month. Book talk\, cocktails\, wine\, coffee\, etc ???? Tickets are 10 to attend\, the price of the ticket is fully redeemable against drinks purchased on the night. Contribute as much or as little to the book chat as you like\, we’d just love to have you there! For details of each month’s book\, please see Instagram and Facebook posts or direct message us on those platforms. Tickets are non-refundable. Looking forward to welcoming you to the book club! ??? Meet at 6:30\, settle in\, and discussions start at 7pm
URL:https://www.discovernorthampton.co.uk/event/womens-bookclub-may/
LOCATION:Saints Coffee\, 62 St Giles' St\, Northampton\, Northamptonshire\, NN1 1JW\, United Kingdom
CATEGORIES:Book Club
ATTACH;FMTTYPE=image/png:https://www.discovernorthampton.co.uk/wp-content/uploads/2025/04/bookclub-may.png
END:VEVENT
BEGIN:VEVENT
DTSTART;TZID=Europe/London:20250417T183000
DTEND;TZID=Europe/London:20250417T183000
DTSTAMP:20260425T194151
CREATED:20250410T105331Z
LAST-MODIFIED:20250410T105331Z
UID:125732-1744914600-1744914600@www.discovernorthampton.co.uk
SUMMARY:Women's Bookclub April
DESCRIPTION:Saints women’s book club! ?? Come on your own or with friends. All women are welcome! We meet every third Thursday of the month. Book talk\, cocktails\, wine\, coffee\, etc ???? Tickets are 10 to attend\, the price of the ticket is fully redeemable against drinks purchased on the night. Contribute as much or as little to the book chat as you like\, we’d just love to have you there! For details of each month’s book\, please see Instagram and Facebook posts or direct message us on those platforms. Tickets are non-refundable. Looking forward to welcoming you to the book club! ??? Meet at 6:30\, settle in\, and discussions start at 7pm
URL:https://www.discovernorthampton.co.uk/event/womens-bookclub-april/
LOCATION:Saints Coffee\, 62 St Giles' St\, Northampton\, Northamptonshire\, NN1 1JW\, United Kingdom
CATEGORIES:Book Club
ATTACH;FMTTYPE=image/png:https://www.discovernorthampton.co.uk/wp-content/uploads/2025/04/Womens-Bookclub.png
END:VEVENT
BEGIN:VEVENT
DTSTART;TZID=Europe/London:20250320T183000
DTEND;TZID=Europe/London:20250320T183000
DTSTAMP:20260425T194151
CREATED:20250313T133308Z
LAST-MODIFIED:20250313T133308Z
UID:124319-1742495400-1742495400@www.discovernorthampton.co.uk
SUMMARY:Women's Bookclub March
DESCRIPTION:Saints women’s book club! ?? Come on your own or with friends. All women are welcome! We meet every third Thursday of the month. Book talk\, cocktails\, wine\, coffee\, etc ???? Tickets are 10 to attend\, the price of the ticket is fully redeemable against drinks purchased on the night. Contribute as much or as little to the book chat as you like\, we’d just love to have you there! For details of each month’s book\, please see Instagram and Facebook posts or direct message us on those platforms. Tickets are non-refundable. Looking forward to welcoming you to the book club! ??? Meet at 6:30\, settle in\, and discussions start at 7pm
URL:https://www.discovernorthampton.co.uk/event/womens-bookclub-march/
LOCATION:Saints Coffee\, 62 St Giles' St\, Northampton\, Northamptonshire\, NN1 1JW\, United Kingdom
CATEGORIES:Book Club
ATTACH;FMTTYPE=image/jpeg:https://www.discovernorthampton.co.uk/wp-content/uploads/2025/03/s571617689982408585_p54_i1_w1600.jpeg
END:VEVENT
BEGIN:VEVENT
DTSTART;TZID=Europe/London:20250306T180000
DTEND;TZID=Europe/London:20250306T180000
DTSTAMP:20260425T194151
CREATED:20250227T113708Z
LAST-MODIFIED:20250227T113708Z
UID:123843-1741284000-1741284000@www.discovernorthampton.co.uk
SUMMARY:Thursday Book Club
DESCRIPTION:Thursday Book Club\n\n\n\n\nThursday 6th March\n6pm\n\n\nThe Book\, The TV Drama\, The Legends \n\n\n\n\n\nBook Club is back. \nWe are changing to the first Thursday of the month\, starting at 6pm. \nWe have a very informal group\, its not about making friends than the book discussion\, even though we do talk about the books (lol). We are always happy to welcome new recruits. \nAbout this month’s book:\nDaisy & The Six follows a rock band in the 1970s from their rise in the LA music scene to becoming one of the most famous bands in the world and explores the reason behind their split at the height of their success.. Sounds a lot like Fleetwood Mac…..? \nThe book is also viewable as a Netflix TV drama series.
URL:https://www.discovernorthampton.co.uk/event/thursday-book-club/
LOCATION:The Eccentric Englishman\, 21 St Giles' Street\, northampton\, Northamptonshire\, NN1 1JA\, United Kingdom
CATEGORIES:Book Club
ATTACH;FMTTYPE=image/png:https://www.discovernorthampton.co.uk/wp-content/uploads/2025/02/Screenshot-2025-02-27-113627.png
END:VEVENT
BEGIN:VEVENT
DTSTART;TZID=Europe/London:20250116T190000
DTEND;TZID=Europe/London:20250116T200000
DTSTAMP:20260425T194151
CREATED:20250102T140611Z
LAST-MODIFIED:20250102T140611Z
UID:122936-1737054000-1737057600@www.discovernorthampton.co.uk
SUMMARY:Saints Book Club & Cocktails
DESCRIPTION:Thursday 16th January\, 7pm – Saints Book Club & Cocktails (Open to all women\, DM if interested!)  (Tickets available for purchase through the link in our bio or our website – www.saintscoffee.co.uk)
URL:https://www.discovernorthampton.co.uk/event/saints-book-club-cocktails-16/
LOCATION:Saints Coffee\, 62 St Giles' St\, Northampton\, Northamptonshire\, NN1 1JW\, United Kingdom
CATEGORIES:Book Club,Coffee Morning,Event
ATTACH;FMTTYPE=image/jpeg:https://www.discovernorthampton.co.uk/wp-content/uploads/2025/01/Saints-Calender.jpg
END:VEVENT
BEGIN:VEVENT
DTSTART;TZID=Europe/London:20240808T180000
DTEND;TZID=Europe/London:20240808T180000
DTSTAMP:20260425T194151
CREATED:20240801T105126Z
LAST-MODIFIED:20240801T105126Z
UID:120930-1723140000-1723140000@www.discovernorthampton.co.uk
SUMMARY:Book Club at The Eccentric Englishman
DESCRIPTION:Whos coming to book club? Every second Thursday of the month\, next month is the above book. No need to reserve a place\, come along and meet new people in a safe and friendly environment from 6pm. This months book is the cover photo
URL:https://www.discovernorthampton.co.uk/event/book-club-at-the-eccentric-englishman/
LOCATION:The Eccentric Englishman\, 21 St Giles' Street\, northampton\, Northamptonshire\, NN1 1JA\, United Kingdom
CATEGORIES:Book Club
ATTACH;FMTTYPE=image/jpeg:https://www.discovernorthampton.co.uk/wp-content/uploads/2024/08/Book-Club-Eccentric-Englishman.jpg
END:VEVENT
END:VCALENDAR