BEGIN:VCALENDAR
VERSION:2.0
PRODID:-//Northampton BID - ECPv6.2.4//NONSGML v1.0//EN
CALSCALE:GREGORIAN
METHOD:PUBLISH
X-WR-CALNAME:Northampton BID
X-ORIGINAL-URL:https://www.discovernorthampton.co.uk
X-WR-CALDESC:Events for Northampton BID
REFRESH-INTERVAL;VALUE=DURATION:PT1H
X-Robots-Tag:noindex
X-PUBLISHED-TTL:PT1H
BEGIN:VTIMEZONE
TZID:Europe/London
BEGIN:DAYLIGHT
TZOFFSETFROM:+0000
TZOFFSETTO:+0100
TZNAME:BST
DTSTART:20220327T010000
END:DAYLIGHT
BEGIN:STANDARD
TZOFFSETFROM:+0100
TZOFFSETTO:+0000
TZNAME:GMT
DTSTART:20221030T010000
END:STANDARD
BEGIN:DAYLIGHT
TZOFFSETFROM:+0000
TZOFFSETTO:+0100
TZNAME:BST
DTSTART:20230326T010000
END:DAYLIGHT
BEGIN:STANDARD
TZOFFSETFROM:+0100
TZOFFSETTO:+0000
TZNAME:GMT
DTSTART:20231029T010000
END:STANDARD
BEGIN:DAYLIGHT
TZOFFSETFROM:+0000
TZOFFSETTO:+0100
TZNAME:BST
DTSTART:20240331T010000
END:DAYLIGHT
BEGIN:STANDARD
TZOFFSETFROM:+0100
TZOFFSETTO:+0000
TZNAME:GMT
DTSTART:20241027T010000
END:STANDARD
BEGIN:DAYLIGHT
TZOFFSETFROM:+0000
TZOFFSETTO:+0100
TZNAME:BST
DTSTART:20250330T010000
END:DAYLIGHT
BEGIN:STANDARD
TZOFFSETFROM:+0100
TZOFFSETTO:+0000
TZNAME:GMT
DTSTART:20251026T010000
END:STANDARD
BEGIN:DAYLIGHT
TZOFFSETFROM:+0000
TZOFFSETTO:+0100
TZNAME:BST
DTSTART:20260329T010000
END:DAYLIGHT
BEGIN:STANDARD
TZOFFSETFROM:+0100
TZOFFSETTO:+0000
TZNAME:GMT
DTSTART:20261025T010000
END:STANDARD
END:VTIMEZONE
BEGIN:VEVENT
DTSTART;TZID=Europe/London:20260117T130000
DTEND;TZID=Europe/London:20260117T130000
DTSTAMP:20260421T012928
CREATED:20260109T104422Z
LAST-MODIFIED:20260109T104422Z
UID:133752-1768654800-1768654800@www.discovernorthampton.co.uk
SUMMARY:MAMMA MIA! PARTY
DESCRIPTION:Dry January? January blues? Not on our watch ABBA anthems\, disco vibes and our brand-new Boom Room karaoke stage ready for its next Dancing Queen 
URL:https://www.discovernorthampton.co.uk/event/mamma-mia-party-2/
LOCATION:Bridge 26 Bar & Bites\, 26 Bridge Street\,\, Northampton\,\, NN1 1NW
CATEGORIES:Bottomless Brunch,Event,MUSIC
ATTACH;FMTTYPE=image/png:https://www.discovernorthampton.co.uk/wp-content/uploads/2026/01/Screenshot-2026-01-09-104114.png
END:VEVENT
BEGIN:VEVENT
DTSTART;TZID=Europe/London:20251220T120000
DTEND;TZID=Europe/London:20251220T200000
DTSTAMP:20260421T012928
CREATED:20251210T104518Z
LAST-MODIFIED:20251210T104518Z
UID:133047-1766232000-1766260800@www.discovernorthampton.co.uk
SUMMARY:CHRISTMAS BOTTOMLESS BRUNCH
DESCRIPTION:
URL:https://www.discovernorthampton.co.uk/event/christmas-bottomless-brunch/
LOCATION:The Optimist\, 23-25 St. Giles Street\, Northampton\,\, NN1 1JA
CATEGORIES:Bottomless Brunch
ATTACH;FMTTYPE=image/png:https://www.discovernorthampton.co.uk/wp-content/uploads/2025/12/Screenshot-2025-12-10-104326.png
END:VEVENT
BEGIN:VEVENT
DTSTART;TZID=Europe/London:20251129T140000
DTEND;TZID=Europe/London:20251129T160000
DTSTAMP:20260421T012928
CREATED:20251007T103456Z
LAST-MODIFIED:20251007T103456Z
UID:131127-1764424800-1764432000@www.discovernorthampton.co.uk
SUMMARY:Disney Christmas Bottomless Brunch
DESCRIPTION:Join us for a magical Disney-themed bottomless brunch quiz! \nFor 90 minutes\, enjoy bottomless cocktails and Prosecco. Our motto is “your glass is never empty” while testing your Disney knowledge across five fun rounds of 10 questions in each round. \nHalfway through\, a platter of sweet and savoury treats will be served to keep your energy up\, and 5.00 from every seat sold will go into the Cash Prize Pot for the winning team. \nThe price is 45.00 per person with a 15.00 non-refundable deposit required at booking.\nPlease note: there is no discount for non-drinkers \nWe cater for dietary requirements if notified at the time of booking. \nCall 01604 626977 to reserve your spot\, or email us through the Contact Us page on the website. A festive Disney adventure awaits!
URL:https://www.discovernorthampton.co.uk/event/disney-christmas-bottomless-brunch/
LOCATION:The Eccentric Englishman\, 21 St Giles' Street\, northampton\, Northamptonshire\, NN1 1JA\, United Kingdom
CATEGORIES:Bottomless Brunch
ATTACH;FMTTYPE=image/png:https://www.discovernorthampton.co.uk/wp-content/uploads/2025/10/Screenshot-2025-10-07-113248.png
END:VEVENT
BEGIN:VEVENT
DTSTART;TZID=Europe/London:20251108T140000
DTEND;TZID=Europe/London:20251108T160000
DTSTAMP:20260421T012928
CREATED:20251007T065224Z
LAST-MODIFIED:20251007T065224Z
UID:131109-1762610400-1762617600@www.discovernorthampton.co.uk
SUMMARY:Bingo Bottomless Brunch
DESCRIPTION:“Number 3: Cup of Tea”…or something like that \nGet ready for an afternoon of classic bingo with a lively twist! Enjoy all your favourite tunes playing throughout as you sip bottomless cocktails and Prosecco. Halfway through\, a tasty sharing platter will be served to keep your energy up for the rest of the games. \nThere will be three exciting rounds\, with prizes for lines and full houses. Perfect for those who love an afternoon tipple and an early night\, or for those who want to keep the party going into the evening! \nThe price is 45.00 per person\nDeposit: 15.00 per person (non-refundable) \nPlease let us know of any dietary requirements when booking. Cancellations within 24 hours or no-shows will be charged in full. \nCall us or contact us with details of your booking using the contact form on the website\, to secure your place at the table.
URL:https://www.discovernorthampton.co.uk/event/bingo-bottomless-brunch/
LOCATION:The Eccentric Englishman\, 21 St Giles' Street\, northampton\, Northamptonshire\, NN1 1JA\, United Kingdom
CATEGORIES:Bottomless Brunch
ATTACH;FMTTYPE=image/png:https://www.discovernorthampton.co.uk/wp-content/uploads/2025/10/Screenshot-2025-10-07-075015.png
END:VEVENT
BEGIN:VEVENT
DTSTART;TZID=Europe/London:20251004T140000
DTEND;TZID=Europe/London:20251004T160000
DTSTAMP:20260421T012928
CREATED:20250813T131328Z
LAST-MODIFIED:20250813T131328Z
UID:129080-1759586400-1759593600@www.discovernorthampton.co.uk
SUMMARY:Your Favourite Sitcom Bottomless Brunch Quiz
DESCRIPTION:Could you BE any more ready for a quiz? \noin us for another of our immensely popular Bottomless Brunch Quizzes. \nThis time we’re celebrating the best of British and American sitcoms. From ‘Only Fools & Horses’ to ‘Gavin & Stacey’\, ‘The Royle Family’ to ‘Friends’\, and ‘The Big Bang Theory’  expect questions\, quotes\, and plenty of laughs (no laugh track needed). \nYoull have 90 minutes of bottomless cocktails and Prosecco. Our motto: your glass is never empty. \nHalfway through\, well serve up a delicious sweet-and-savoury platter to keep your brain ticking over. The quiz consists of 5 rounds\, with 10 questions in each round. 5.00 from every seat sold goes into the cash prize pot for the Winning Team. \nIf you have any dietary requirements\, just let us know when you book.\nTickets are 45.00 per person with a 15 deposit required at the time of booking.\nBooking is essential\, as places go very quickly\, so please call us to save your seat at the table. \nSadly\, there are no discounts for non-drinkers\, but we promise the fun is bottomless too!
URL:https://www.discovernorthampton.co.uk/event/your-favourite-sitcom-bottomless-brunch-quiz/
LOCATION:The Eccentric Englishman\, 21 St Giles' Street\, northampton\, Northamptonshire\, NN1 1JA\, United Kingdom
CATEGORIES:Bottomless Brunch,Quiz
ATTACH;FMTTYPE=image/png:https://www.discovernorthampton.co.uk/wp-content/uploads/2025/08/Screenshot-2025-08-13-140929.png
END:VEVENT
BEGIN:VEVENT
DTSTART;TZID=Europe/London:20250913T160000
DTEND;TZID=Europe/London:20250913T180000
DTSTAMP:20260421T012928
CREATED:20250819T123842Z
LAST-MODIFIED:20250819T123842Z
UID:129322-1757779200-1757786400@www.discovernorthampton.co.uk
SUMMARY:DRUM & BASS & BOTTOMLESS BRUNCH.
DESCRIPTION:Bottomless brunch and live music.
URL:https://www.discovernorthampton.co.uk/event/drum-bass-bottomless-brunch/
LOCATION:The Shipmans\, 12 Drapery\,\, northampton\, Northamptonshire\, NN1 2HG\, United Kingdom
CATEGORIES:Bottomless Brunch,MUSIC
ATTACH;FMTTYPE=image/png:https://www.discovernorthampton.co.uk/wp-content/uploads/2025/08/Screenshot-2025-08-19-133214.png
END:VEVENT
BEGIN:VEVENT
DTSTART;TZID=Europe/London:20250809T150000
DTEND;TZID=Europe/London:20250809T170000
DTSTAMP:20260421T012928
CREATED:20250715T125939Z
LAST-MODIFIED:20250715T125939Z
UID:128392-1754751600-1754758800@www.discovernorthampton.co.uk
SUMMARY:Bottomless Bingo Brunch
DESCRIPTION:Drag Bingo Bottomless Brunch!Hosted By Paula Gravy \nEnjoy Bottomless Prosecco\, Cocktails & Grazing Platter \nAugust 9th\, Starting At 3PM5PMTickets: 39 Per-PersonDeposit: 15 Per-Person (Taken At Booking) \nTo Book Please Call 01604 620121 \nOr Message Us On: \nFacebook: The Fish NorthamptonInstagram: fishpubnorthampton \n 
URL:https://www.discovernorthampton.co.uk/event/bottomless-bingo-brunch/
LOCATION:The Fish Pub\, 11 Fish St\, Northampton\, Northamptonshire\, NN1 2AA\, United Kingdom
CATEGORIES:Bottomless Brunch
ATTACH;FMTTYPE=image/png:https://www.discovernorthampton.co.uk/wp-content/uploads/2025/07/Screenshot-2025-07-15-135919.png
END:VEVENT
BEGIN:VEVENT
DTSTART;TZID=Europe/London:20250628T160000
DTEND;TZID=Europe/London:20250628T180000
DTSTAMP:20260421T012928
CREATED:20250603T113233Z
LAST-MODIFIED:20250603T113233Z
UID:127393-1751126400-1751133600@www.discovernorthampton.co.uk
SUMMARY:BOTTOMLESS BRUNCH.
DESCRIPTION:Get ready for our epic themed brunch sessions.
URL:https://www.discovernorthampton.co.uk/event/bottomless-brunch/
LOCATION:The Shipmans\, 12 Drapery\,\, northampton\, Northamptonshire\, NN1 2HG\, United Kingdom
CATEGORIES:Bottomless Brunch
ATTACH;FMTTYPE=image/png:https://www.discovernorthampton.co.uk/wp-content/uploads/2025/06/Screenshot-2025-06-03-122822.png
END:VEVENT
BEGIN:VEVENT
DTSTART;TZID=Europe/London:20250628T150000
DTEND;TZID=Europe/London:20250628T170000
DTSTAMP:20260421T012928
CREATED:20250609T121717Z
LAST-MODIFIED:20250609T121717Z
UID:127573-1751122800-1751130000@www.discovernorthampton.co.uk
SUMMARY:Pat Butcher Bottomless Brunch
DESCRIPTION:Two hours of drinking time with our famous themed cocktails or Proseccoand a picky board\, remember eating is cheating at one of our bottomless brunches!!!! \nTables decorated in only the way Pat could. Dont forget our jugs need to be drank dry. Two hours of great fun and 80/90s tunes\, like youre in The Vic. \nTickets are 45.00 per person and a 15.00 non refundable deposit\, per person\, is required to secure your booking. The rest is payable on the day. Please give us 24 hours for cancellations or your group will be liable for the total cost of your entry fees.
URL:https://www.discovernorthampton.co.uk/event/pat-butcher-bottomless-brunch/
LOCATION:The Eccentric Englishman\, 21 St Giles' Street\, northampton\, Northamptonshire\, NN1 1JA\, United Kingdom
CATEGORIES:Bottomless Brunch
ATTACH;FMTTYPE=image/png:https://www.discovernorthampton.co.uk/wp-content/uploads/2025/06/Screenshot-2025-06-09-131346.png
END:VEVENT
BEGIN:VEVENT
DTSTART;TZID=Europe/London:20250525T140000
DTEND;TZID=Europe/London:20250525T153000
DTSTAMP:20260421T012928
CREATED:20250514T142802Z
LAST-MODIFIED:20250514T142802Z
UID:126391-1748181600-1748187000@www.discovernorthampton.co.uk
SUMMARY:MATCHDAY BOTTOMLESS BRUNCH
DESCRIPTION:This25th May at 2PM\, were serving up theperfect hat-trick banging food\, bottomless pints\, and full-throttle football vibes. Whether you’re a die-hard supporter or just here for the beers and banter\, this is your call-up to the ultimate Sunday day drinking session. \nExpect big screens\, best seats in the house and ice-cold pints that just keep coming! With an atmosphere louder than the final whistle\, matchday has never looked (or tasted) this good. \n?Mark your spot. Bring your appetite and rally the squad because at our brunch\,every seat is front row!
URL:https://www.discovernorthampton.co.uk/event/matchday-bottomless-brunch/
LOCATION:The Optimist\, 23-25 St. Giles Street\, Northampton\,\, NN1 1JA
CATEGORIES:Bottomless Brunch
ATTACH;FMTTYPE=image/png:https://www.discovernorthampton.co.uk/wp-content/uploads/2025/05/Screenshot-2025-05-14-152335.png
END:VEVENT
BEGIN:VEVENT
DTSTART;TZID=Europe/London:20250517T140000
DTEND;TZID=Europe/London:20250517T160000
DTSTAMP:20260421T012928
CREATED:20250503T073004Z
LAST-MODIFIED:20250503T073004Z
UID:126266-1747490400-1747497600@www.discovernorthampton.co.uk
SUMMARY:Disney Bottomless Brunch
DESCRIPTION:  \n\n\n\nDisney Bottomless Brunch & Quiz at The Eccentric Englishman! \n\n\n\n\n\nBibbidi-Bobbidi-Booze! \nGet ready for a magical afternoon of laughs\, cocktails\, and a whole lot of Disney! Our legendary bottomless brunch quiz is back\, and its one you definitely dont want to miss. \nWe’ll have 5 fun-filled rounds of Disney trivia\, with 10 questions in each section\, bottomless cocktails or Prosecco\, for a full 2 hours\, and a delicious sharing platter served halfway through to keep your team fuelled.\nAnd\, just when you thought it couldn’t possibly get any more magical\, there’s a 50 prize for the winning team. \nAll of this is just 45.00 per person\, including a 10 non-refundable deposit. Please call to book your place(s).
URL:https://www.discovernorthampton.co.uk/event/disney-bottomless-brunch/
LOCATION:The Eccentric Englishman\, 21 St Giles' Street\, northampton\, Northamptonshire\, NN1 1JA\, United Kingdom
CATEGORIES:Bottomless Brunch,Event
ATTACH;FMTTYPE=image/png:https://www.discovernorthampton.co.uk/wp-content/uploads/2025/05/Screenshot-2025-05-03-082532.png
END:VEVENT
BEGIN:VEVENT
DTSTART;TZID=Europe/London:20250418T150000
DTEND;TZID=Europe/London:20250420T233000
DTSTAMP:20260421T012928
CREATED:20250417T144918Z
LAST-MODIFIED:20250417T144918Z
UID:125883-1744988400-1745191800@www.discovernorthampton.co.uk
SUMMARY:Easter Weekend 'Disco Mash-Up' Bottomless Brunch
DESCRIPTION:One not to be missed*\nThis Easter Bank Holiday weekend we take you through a 3 Decade music mash-up Bottomless Brunch across 3 Days!\nGroovy 70’s\,Rad 80’s\, &Totally Cool 90’s  its the ultimate nostalgia trip Bottomless Brunch you didnt know you needed this long Easter weekend! Whether you’re channelling your inner disco queen\, rocking that neon vibe\, or jamming to your favourite 90s hits\, weve got the perfect throwback experience for you!\nWhat to expect: Doors Open: Friday 18th\, Saturday 19th & Sunday 20th – 3pm – late.\n Bottomless Brunch: 42.50 per person  Enjoy a main or 2 sides to get you started and then sip\, chill and indulge in endless drinks for 2 hours before grabbing some props and having that much needed Boogie!\n 2.5-hour sittings per table: 2-hours of Bottomless Brunch + Half an hour extra stay on tables. Email us if you wish to stay longer\, we will do our best to re-allocate you if we require your table back\n Book your 2.5-hour table sitting between: 3pm  4pm OR 6pm  7.30pm (7.30pm last sitting).\n Retro 70s\, 80s\, 90s Party Props & Giveaways!\n Full retro venue decor & lighting!\n Super Fun\, Friendly & Speedy service team!\n Tables & Booths from 2  15ppl catered for! (email us with any additional requirements)\n ALL day cocktail happy hour prices!\n Main Bar/Restaurant room  Our very own DJ Jay spinning groovy 70s funk\, 80s disco hits and 90’s Pop singalongs and dancealongs! As well as requests!\n The Boom Room (dance room)  DJ Prowsy spinning the bangers including 80s & 90’s Club classics\, Hip-Hop\, R&B\, Garage\, Reggae\, requests & more!\nTo Book: Simply fill out the short booking form atwww.bridge26.co.uk/book-nowand select your preferred day and time and let us take care of the rest!(limited availability)\nMenus & Further information will follow  more info email us anytime info@bridge26.co.uk or call us during opening times on 01604 628789\n(P.S – Dont forget those dancing shoes!)
URL:https://www.discovernorthampton.co.uk/event/easter-weekend-disco-mash-up-bottomless-brunch/
LOCATION:Bridge 26 Bar & Bites\, 26 Bridge Street\,\, Northampton\,\, NN1 1NW
CATEGORIES:Bottomless Brunch
ATTACH;FMTTYPE=image/jpeg:https://www.discovernorthampton.co.uk/wp-content/uploads/2025/04/486859986_1205104034953561_3848547009325701430_n.jpg
END:VEVENT
BEGIN:VEVENT
DTSTART;TZID=Europe/London:20240831T140000
DTEND;TZID=Europe/London:20240831T160000
DTSTAMP:20260421T012928
CREATED:20240829T100715Z
LAST-MODIFIED:20240829T100715Z
UID:121468-1725112800-1725120000@www.discovernorthampton.co.uk
SUMMARY:Bridgerton Bottomless Brunch Quiz
DESCRIPTION:Dearest Gentle Reader\,\n\nWe invite you to attend the afternoon of the season\, join us on Saturday 31st August from 2pm until the hour of 4pm for our bottomless brunch and quiz. Cocktails and Prosecco will adorn your tables alongside a delectable platter of finger foods.\nPlease be so kind as to inform us of your presence with a telephone call to reserve your seating. Again feel free to dress accordingly.\nPrices are 40 with a cash prize for the winning team\, call today with a 10 deposit pp on 01604 626977.\n\nHowever\, gentle reader\, before you set the comments section alight with requests for more sordid details\, know that I am disinclined to report on the particulars at this time. Patience\, after all\, is a virtue.\n\n\nYours Truly\,Lady Whistledown
URL:https://www.discovernorthampton.co.uk/event/bridgerton-bottomless-brunch-quiz/
LOCATION:The Eccentric Englishman\, 21 St Giles' Street\, northampton\, Northamptonshire\, NN1 1JA\, United Kingdom
CATEGORIES:Bottomless Brunch
ATTACH;FMTTYPE=image/jpeg:https://www.discovernorthampton.co.uk/wp-content/uploads/2024/08/443836386_776016764669812_7019666941610666744_n.jpg
END:VEVENT
BEGIN:VEVENT
DTSTART;TZID=Europe/London:20240803T140000
DTEND;TZID=Europe/London:20240803T160000
DTSTAMP:20260421T012928
CREATED:20240731T162753Z
LAST-MODIFIED:20240731T162753Z
UID:120895-1722693600-1722700800@www.discovernorthampton.co.uk
SUMMARY:Disney Bottomless Brunch Quiz at The Eccentric Englishman
DESCRIPTION:Its time for another of our very popular bottomless brunch quizzes. An hour and a half of drinking cocktails and Prosecco\, our motto is your glass is never empty. A platter of sweet and savoury will be brought out to you halfway through the quiz. 5 rounds of consisting of 10 questions in each. 5 from every seat sold will go into the cash prize pot for the winner. Dietary requirements catered for at time of booking. 40 pp\, 10 of which is payable at time of booking. Give us a call on 01604 626977 to book
URL:https://www.discovernorthampton.co.uk/event/disney-bottomless-brunch-quiz-at-the-eccentric-englishman/
LOCATION:The Eccentric Englishman\, 21 St Giles' Street\, northampton\, Northamptonshire\, NN1 1JA\, United Kingdom
CATEGORIES:Bottomless Brunch
ATTACH;FMTTYPE=image/webp:https://www.discovernorthampton.co.uk/wp-content/uploads/2024/07/T_E_E_-Logo-Round-.webp
END:VEVENT
BEGIN:VEVENT
DTSTART;TZID=Europe/London:20240505T000000
DTEND;TZID=Europe/London:20240505T000000
DTSTAMP:20260421T012928
CREATED:20240502T105959Z
LAST-MODIFIED:20240502T105959Z
UID:119571-1714867200-1714867200@www.discovernorthampton.co.uk
SUMMARY:The Shipmans - Garage Bangers
DESCRIPTION:We have one big bank holiday Sunday coming up……\n\n\n\nOur bottomless brunch is going old school with a garage themed afternoon and evening. With our main man DJ riddim man and MC Ryan T live from 4-close.\n\n\n\nThis is going to be a bank holiday Sunday not to be missed…. With them playing some of the best garage music from the past and present!!and sure to keep you dancing all night!!!\n\n\nwww.facebook.com/shipmansnorthampton/
URL:https://www.discovernorthampton.co.uk/event/the-shipmans-garage-bangers/
LOCATION:The Shipmans\, 12 Drapery\,\, northampton\, Northamptonshire\, NN1 2HG\, United Kingdom
CATEGORIES:Bottomless Brunch,DJ
ATTACH;FMTTYPE=image/jpeg:https://www.discovernorthampton.co.uk/wp-content/uploads/2024/05/1342_SHIPMANS_POSTER_GARAGE-BANGERS-BRUNCH_V1-1-1.jpg
END:VEVENT
BEGIN:VEVENT
DTSTART;TZID=Europe/London:20220416T113000
DTEND;TZID=Europe/London:20220416T150000
DTSTAMP:20260421T012928
CREATED:20220405T115424Z
LAST-MODIFIED:20220405T115424Z
UID:107716-1650108600-1650121200@www.discovernorthampton.co.uk
SUMMARY:Abba Bottomless Brunch
DESCRIPTION:All the greatest hits and big sing along with a bottomless booze and brunch!
URL:https://www.discovernorthampton.co.uk/event/abba-bottomless-brunch/
LOCATION:The Picturedrome\, 222 Kettering Rd\, Northampton\, Northants\, NN1 4BN\, United Kingdom
CATEGORIES:Bottomless Brunch
ATTACH;FMTTYPE=image/jpeg:https://www.discovernorthampton.co.uk/wp-content/uploads/2022/04/scaled_768.jpg
END:VEVENT
END:VCALENDAR