BEGIN:VCALENDAR
VERSION:2.0
PRODID:-//Northampton BID - ECPv6.2.4//NONSGML v1.0//EN
CALSCALE:GREGORIAN
METHOD:PUBLISH
X-WR-CALNAME:Northampton BID
X-ORIGINAL-URL:https://www.discovernorthampton.co.uk
X-WR-CALDESC:Events for Northampton BID
REFRESH-INTERVAL;VALUE=DURATION:PT1H
X-Robots-Tag:noindex
X-PUBLISHED-TTL:PT1H
BEGIN:VTIMEZONE
TZID:Europe/London
BEGIN:DAYLIGHT
TZOFFSETFROM:+0000
TZOFFSETTO:+0100
TZNAME:BST
DTSTART:20250330T010000
END:DAYLIGHT
BEGIN:STANDARD
TZOFFSETFROM:+0100
TZOFFSETTO:+0000
TZNAME:GMT
DTSTART:20251026T010000
END:STANDARD
END:VTIMEZONE
BEGIN:VEVENT
DTSTART;TZID=Europe/London:20251205T100000
DTEND;TZID=Europe/London:20251205T170000
DTSTAMP:20260421T034143
CREATED:20251120T104920Z
LAST-MODIFIED:20251204T134741Z
UID:132137-1764928800-1764954000@www.discovernorthampton.co.uk
SUMMARY:Mini Christmas Makers Market
DESCRIPTION:Itâ€™s Christmas at The Creative Place! Weâ€™re turning our space into a Mini Christmas Makers Market! We open on Sat 22nd Nov along with the Christmas Light Switch On and running right up until Christmas! You can expectâ€¦ â€“ Local artists & makers selling handmade gifts â€“ Free Christmas crafts for children and adults â€“ A festive space to make and shop local! Creative activities & local traders announced soon\, so watch the space! Grab a gift for someone you love or just come in\, get inspired\, and get crafty! Tues-Sat 10am-5pm 22 Nov- Christmas Inside The Creative Place\, Northampton Market Sq
URL:https://www.discovernorthampton.co.uk/event/mini-christmas-makers-market/2025-12-05/
LOCATION:Northampton Market Square
CATEGORIES:Christmas
ATTACH;FMTTYPE=image/jpeg:https://www.discovernorthampton.co.uk/wp-content/uploads/2025/11/580981967_122175250418519902_4146867266383029650_n.jpg
END:VEVENT
BEGIN:VEVENT
DTSTART;TZID=Europe/London:20251205T130000
DTEND;TZID=Europe/London:20251205T210000
DTSTAMP:20260421T034143
CREATED:20251127T142823Z
LAST-MODIFIED:20251127T160658Z
UID:132202-1764939600-1764968400@www.discovernorthampton.co.uk
SUMMARY:Northampton Market Square On Ice
DESCRIPTION:4th December 2025 – 4th January 2026 \nMarket Square\, NN1 2DF \nThis Christmas\, Northampton’s Market Square will be transformed into a sparkling winter wonderland! \nGather your family and friends\, lace up your skates\, and join us for this lovely festive experience. \nWhether you’re a seasoned skater or stepping onto the ice for the first time\, all abilities are welcome and we have skating aids available to hire. \nThe Market Square On Ice\, bringing Christmas cheer right at the heart of town. \nMore details at: https://www.theoldsavoy.co.uk/ice-skating/
URL:https://www.discovernorthampton.co.uk/event/northampton-market-square-on-ice-2__trashed/2025-12-05/
LOCATION:Northampton Market Square
CATEGORIES:Christmas
ATTACH;FMTTYPE=image/jpeg:https://www.discovernorthampton.co.uk/wp-content/uploads/2025/11/2461x925-digital-assets-Christmas-on-the-market-square-2048x770-1.jpg
END:VEVENT
BEGIN:VEVENT
DTSTART;TZID=Europe/London:20251205T130000
DTEND;TZID=Europe/London:20251205T210000
DTSTAMP:20260421T034143
CREATED:20251212T160536Z
LAST-MODIFIED:20251212T161058Z
UID:133076-1764939600-1764968400@www.discovernorthampton.co.uk
SUMMARY:Northampton Market Square On Ice
DESCRIPTION:4th December 2025 â€“ 4th January 2026 \nNN1 2DF \nThis Christmas\, Northamptonâ€™s Market Square will be transformed into a sparkling winter wonderland! \nGather your family and friends\, lace up your skates\, and join us for this lovely festive experience. \nWhether youâ€™re a seasoned skater or stepping onto the ice for the first time\, all abilities are welcome and we have skating aids available to hire. \nThe Market SquareÂ On Ice\, bringing Christmas cheer right at the heart of town.
URL:https://www.discovernorthampton.co.uk/event/northampton-market-square-on-ice-2/2025-12-05/
LOCATION:Northampton Market Square
CATEGORIES:Christmas
ATTACH;FMTTYPE=image/png:https://www.discovernorthampton.co.uk/wp-content/uploads/2025/11/Market-Square-on-Ice.png
END:VEVENT
END:VCALENDAR