BEGIN:VCALENDAR
VERSION:2.0
PRODID:-//Northampton BID - ECPv6.2.4//NONSGML v1.0//EN
CALSCALE:GREGORIAN
METHOD:PUBLISH
X-WR-CALNAME:Northampton BID
X-ORIGINAL-URL:https://www.discovernorthampton.co.uk
X-WR-CALDESC:Events for Northampton BID
REFRESH-INTERVAL;VALUE=DURATION:PT1H
X-Robots-Tag:noindex
X-PUBLISHED-TTL:PT1H
BEGIN:VTIMEZONE
TZID:Europe/London
BEGIN:DAYLIGHT
TZOFFSETFROM:+0000
TZOFFSETTO:+0100
TZNAME:BST
DTSTART:20250330T010000
END:DAYLIGHT
BEGIN:STANDARD
TZOFFSETFROM:+0100
TZOFFSETTO:+0000
TZNAME:GMT
DTSTART:20251026T010000
END:STANDARD
END:VTIMEZONE
BEGIN:VEVENT
DTSTART;TZID=Europe/London:20251214T103000
DTEND;TZID=Europe/London:20251214T160000
DTSTAMP:20260425T210601
CREATED:20251031T140910Z
LAST-MODIFIED:20251205T103556Z
UID:131716-1765708200-1765728000@www.discovernorthampton.co.uk
SUMMARY:Santa's Grotto
DESCRIPTION:No Christmas is complete without a visit to Father Christmas\, and the BID is delighted to be bringing Santa’s Grotto back to Grosvenor Shopping Northampton this festive season. Important Information Pre-booking is required. All proceeds from this event will be split between two charities being Northamptonshire Toy Library and Rockin Roadrunner. There will be a £2 charge to secure the booking per family\, using PayPal. Families will be able to take their own photos with Santa. Each child will receive a gift. Northamptonshire Toy Library would also be appreciative of new/used toy donations to support their work. These can be left at the Grotto for them. \n 
URL:https://www.discovernorthampton.co.uk/event/santas-grotto-4/2025-12-14/
LOCATION:Grosvenor Shopping Northampton\, Grosvenor Centre\, Union Street\, Northampton\, Northamptonshire\, NN1 2EW
CATEGORIES:Christmas,Santa's Grotto
ATTACH;FMTTYPE=image/png:https://www.discovernorthampton.co.uk/wp-content/uploads/2022/11/New-Grotto-2.png
END:VEVENT
BEGIN:VEVENT
DTSTART;TZID=Europe/London:20251214T110000
DTEND;TZID=Europe/London:20251214T130000
DTSTAMP:20260425T210601
CREATED:20251212T164016Z
LAST-MODIFIED:20251212T164016Z
UID:133117-1765710000-1765717200@www.discovernorthampton.co.uk
SUMMARY:Breakfast with Santa
DESCRIPTION:Our Breakfast with Santas are magical and can’t be beaten. Our Santa is not like other Santas\, he’s very traditional. We will also make sure all presents he gives are suitable for your child\, as the elves ask a few questions at time of booking.Sausage and bacon rolls\, beans or scrambled eggs on toast\, pancakes are available. Plus unlimited hot drinks of tea\, coffee and hot are available.Children are £25 each aswell as adults.£15 pp deposit at time of booking is required and non refundable.Tables are decorated\, letters to Santa are available to be written and posted also just to double check nothing is forgotten on the big day. Give us a call to book
URL:https://www.discovernorthampton.co.uk/event/breakfast-with-santa-2/
LOCATION:The Eccentric Englishman\, 21 St Giles' Street\, northampton\, Northamptonshire\, NN1 1JA\, United Kingdom
CATEGORIES:Christmas
ATTACH;FMTTYPE=image/jpeg:https://www.discovernorthampton.co.uk/wp-content/uploads/2025/12/530207409_1081473180790834_6389271115117597119_n.jpg
END:VEVENT
BEGIN:VEVENT
DTSTART;TZID=Europe/London:20251214T110000
DTEND;TZID=Europe/London:20251214T170000
DTSTAMP:20260425T210601
CREATED:20251212T165102Z
LAST-MODIFIED:20251212T165102Z
UID:133127-1765710000-1765731600@www.discovernorthampton.co.uk
SUMMARY:V and B Christmas Market
DESCRIPTION:Find your Christmas spirit(s)!\n\n\nDiscover the beauty of local business at this year’s Christmas Market.\nFrom handcrafted treats\, to cozy winter sips\, every stall tells a story worth sharing.\n\n\nCome and support small businesses\, soak up the magic\, and celebrate the season with us!
URL:https://www.discovernorthampton.co.uk/event/v-and-b-christmas-market-2/
LOCATION:V and B\, 10 St Giles' Square\,\, Northampton\, NN1 1DA\, United Kingdom
CATEGORIES:Christmas
ATTACH;FMTTYPE=image/jpeg:https://www.discovernorthampton.co.uk/wp-content/uploads/2025/12/590871477_18053464775672891_7428512952971768099_n.jpg
END:VEVENT
BEGIN:VEVENT
DTSTART;TZID=Europe/London:20251214T110000
DTEND;TZID=Europe/London:20251214T200000
DTSTAMP:20260425T210601
CREATED:20251212T160828Z
LAST-MODIFIED:20251212T160828Z
UID:133082-1765710000-1765742400@www.discovernorthampton.co.uk
SUMMARY:Northampton Market Square On Ice
DESCRIPTION:4th December 2025 – 4th January 2026 \nNN1 2DF \nThis Christmas\, Northampton’s Market Square will be transformed into a sparkling winter wonderland! \nGather your family and friends\, lace up your skates\, and join us for this lovely festive experience. \nWhether you’re a seasoned skater or stepping onto the ice for the first time\, all abilities are welcome and we have skating aids available to hire. \nThe Market Square On Ice\, bringing Christmas cheer right at the heart of town.
URL:https://www.discovernorthampton.co.uk/event/northampton-market-square-on-ice-4/2025-12-14/
LOCATION:Northampton Market Square
CATEGORIES:Christmas
ATTACH;FMTTYPE=image/png:https://www.discovernorthampton.co.uk/wp-content/uploads/2025/11/Market-Square-on-Ice.png
END:VEVENT
END:VCALENDAR