BEGIN:VCALENDAR
VERSION:2.0
PRODID:-//Northampton BID - ECPv6.2.4//NONSGML v1.0//EN
CALSCALE:GREGORIAN
METHOD:PUBLISH
X-WR-CALNAME:Northampton BID
X-ORIGINAL-URL:https://www.discovernorthampton.co.uk
X-WR-CALDESC:Events for Northampton BID
REFRESH-INTERVAL;VALUE=DURATION:PT1H
X-Robots-Tag:noindex
X-PUBLISHED-TTL:PT1H
BEGIN:VTIMEZONE
TZID:Europe/London
BEGIN:DAYLIGHT
TZOFFSETFROM:+0000
TZOFFSETTO:+0100
TZNAME:BST
DTSTART:20250330T010000
END:DAYLIGHT
BEGIN:STANDARD
TZOFFSETFROM:+0100
TZOFFSETTO:+0000
TZNAME:GMT
DTSTART:20251026T010000
END:STANDARD
END:VTIMEZONE
BEGIN:VEVENT
DTSTART;TZID=Europe/London:20251217T100000
DTEND;TZID=Europe/London:20251217T170000
DTSTAMP:20260419T171104
CREATED:20251120T104920Z
LAST-MODIFIED:20251204T134745Z
UID:132145-1765965600-1765990800@www.discovernorthampton.co.uk
SUMMARY:Mini Christmas Makers Market
DESCRIPTION:It’s Christmas at The Creative Place! We’re turning our space into a Mini Christmas Makers Market! We open on Sat 22nd Nov along with the Christmas Light Switch On and running right up until Christmas! You can expect… – Local artists & makers selling handmade gifts – Free Christmas crafts for children and adults – A festive space to make and shop local! Creative activities & local traders announced soon\, so watch the space! Grab a gift for someone you love or just come in\, get inspired\, and get crafty! Tues-Sat 10am-5pm 22 Nov- Christmas Inside The Creative Place\, Northampton Market Sq
URL:https://www.discovernorthampton.co.uk/event/mini-christmas-makers-market/2025-12-17/
LOCATION:Northampton Market Square
CATEGORIES:Christmas
ATTACH;FMTTYPE=image/jpeg:https://www.discovernorthampton.co.uk/wp-content/uploads/2025/11/580981967_122175250418519902_4146867266383029650_n.jpg
END:VEVENT
BEGIN:VEVENT
DTSTART;TZID=Europe/London:20251217T130000
DTEND;TZID=Europe/London:20251217T200000
DTSTAMP:20260419T171104
CREATED:20251212T160411Z
LAST-MODIFIED:20251212T160411Z
UID:133074-1765976400-1766001600@www.discovernorthampton.co.uk
SUMMARY:Northampton Market Square On Ice
DESCRIPTION:4th December 2025 – 4th January 2026 \nNN1 2DF \nThis Christmas\, Northampton’s Market Square will be transformed into a sparkling winter wonderland! \nGather your family and friends\, lace up your skates\, and join us for this lovely festive experience. \nWhether you’re a seasoned skater or stepping onto the ice for the first time\, all abilities are welcome and we have skating aids available to hire. \nThe Market Square On Ice\, bringing Christmas cheer right at the heart of town.
URL:https://www.discovernorthampton.co.uk/event/northampton-market-square-on-ice/2025-12-17/
LOCATION:Northampton Market Square
CATEGORIES:Christmas
ATTACH;FMTTYPE=image/png:https://www.discovernorthampton.co.uk/wp-content/uploads/2025/11/Market-Square-on-Ice.png
END:VEVENT
BEGIN:VEVENT
DTSTART;TZID=Europe/London:20251217T193000
DTEND;TZID=Europe/London:20251217T193000
DTSTAMP:20260419T171104
CREATED:20251212T161931Z
LAST-MODIFIED:20251212T161931Z
UID:133089-1765999800-1765999800@www.discovernorthampton.co.uk
SUMMARY:Maggie's Northampton Carol Concert 2025
DESCRIPTION:Celebratory Christmas Carol Concert 2025\n\n\n\nJoin us on Wednesday 17th December at 7.30pm for our second Celebratory Christmas Carol Concert in the beautiful All Saints Church in Northampton. Our Christmas Carol Concert is the perfect opportunity to start your festive celebrations\, catch up with friends and raise vital funds and awareness of the new Maggie’s Northampton Centre which is opening this October. With celebrity readers and a fantastic musical line up it’s going to be a wonderful evening. The doors will be open at 7.00pm and the Concert starts at 7.30pm. \nThis event is organised by the committee who ran the Whittlebury Charity Fair – for over 20 years – raising well over £250\,000. The committee (Sam Satchell\, Carolyn James\, Amanda Smith\, Min Pumphrey\, Laura Wade and Emma Danby) are continuing to raise awareness and funds for the new Maggie’s Centre. \nWe are grateful to our sponsors Learning Technologies Group\, The Woodcote Trust\, HCR Hewitsons\, Witty Pask & Buckingham\, Paul Rowles Kitchens\, Michael Jones Jewellers\, Stowe Group Winchester House School\, O’Riordan Bond\, Forrester Partners. \nThank you also to our readers and musicians and everyone who has helped to make this evening possible. \nI can’t attend but I would like to donate: https://gtap.uk/63/maggiesnorthampton
URL:https://www.discovernorthampton.co.uk/event/maggies-northampton-carol-concert-2025/
LOCATION:All Saints Church\, George Row\, Northampton\, Northamptonshire\, NN1 1DF\, United Kingdom
CATEGORIES:Christmas
ATTACH;FMTTYPE=image/jpeg:https://www.discovernorthampton.co.uk/wp-content/uploads/2025/12/https___cdn.evbuc_.com_images_874787369_191476349324_1_original.jpg
END:VEVENT
END:VCALENDAR