BEGIN:VCALENDAR
VERSION:2.0
PRODID:-//Northampton BID - ECPv6.2.4//NONSGML v1.0//EN
CALSCALE:GREGORIAN
METHOD:PUBLISH
X-WR-CALNAME:Northampton BID
X-ORIGINAL-URL:https://www.discovernorthampton.co.uk
X-WR-CALDESC:Events for Northampton BID
REFRESH-INTERVAL;VALUE=DURATION:PT1H
X-Robots-Tag:noindex
X-PUBLISHED-TTL:PT1H
BEGIN:VTIMEZONE
TZID:Europe/London
BEGIN:DAYLIGHT
TZOFFSETFROM:+0000
TZOFFSETTO:+0100
TZNAME:BST
DTSTART:20250330T010000
END:DAYLIGHT
BEGIN:STANDARD
TZOFFSETFROM:+0100
TZOFFSETTO:+0000
TZNAME:GMT
DTSTART:20251026T010000
END:STANDARD
END:VTIMEZONE
BEGIN:VEVENT
DTSTART;TZID=Europe/London:20251122T000000
DTEND;TZID=Europe/London:20251122T000000
DTSTAMP:20260420T210847
CREATED:20251114T154433Z
LAST-MODIFIED:20251114T154433Z
UID:131857-1763769600-1763769600@www.discovernorthampton.co.uk
SUMMARY:Delapre Abbey Xmas Market
DESCRIPTION:Catch us at the @delapreabbey Christmas market!
URL:https://www.discovernorthampton.co.uk/event/delapre-abbey-xmas-market/
LOCATION:Delapre Abbey\, NN4 8AW
CATEGORIES:Christmas
ATTACH;FMTTYPE=image/jpeg:https://www.discovernorthampton.co.uk/wp-content/uploads/2025/11/574213134_18050380232672891_7025509184359898324_n.jpg
END:VEVENT
BEGIN:VEVENT
DTSTART;TZID=Europe/London:20251122T000000
DTEND;TZID=Europe/London:20251122T000000
DTSTAMP:20260420T210847
CREATED:20251114T154735Z
LAST-MODIFIED:20251114T154735Z
UID:131859-1763769600-1763769600@www.discovernorthampton.co.uk
SUMMARY:V&B Pop up bar for the Xmas light switch
DESCRIPTION:Catch us at our pop up bar for the Xmas light switch on at the market square. @northampton_tc
URL:https://www.discovernorthampton.co.uk/event/vb-pop-up-bar-for-the-xmas-light-switch/
LOCATION:Northampton Market Square
CATEGORIES:Christmas
ATTACH;FMTTYPE=image/jpeg:https://www.discovernorthampton.co.uk/wp-content/uploads/2025/11/574330592_18050380295672891_7711250802636525940_n.jpg
END:VEVENT
BEGIN:VEVENT
DTSTART;TZID=Europe/London:20251122T100000
DTEND;TZID=Europe/London:20251122T150000
DTSTAMP:20260420T210847
CREATED:20251120T110824Z
LAST-MODIFIED:20251120T110824Z
UID:132159-1763805600-1763823600@www.discovernorthampton.co.uk
SUMMARY:Festive Fair at Northamptonshire Central Library
DESCRIPTION:Save the date for our fantastic Festive Fair at Northamptonshire Central Library on Saturday 22 November from 10 am to 3 pm.\n\nThe library is the place to be this festive season\, with a festive market\, games and fun for all the family!\n\nThis is a drop-in event for all ages\, so everyone is welcome.
URL:https://www.discovernorthampton.co.uk/event/festive-fair-at-northamptonshire-central-library/
LOCATION:Northampton Central Library\, Abington Street\, Northampton\, Northamptonshire\, NN1 2BA\, United Kingdom
CATEGORIES:Christmas
ATTACH;FMTTYPE=image/jpeg:https://www.discovernorthampton.co.uk/wp-content/uploads/2025/11/557363080_1224758096346258_4528508301844169754_n.jpg
END:VEVENT
BEGIN:VEVENT
DTSTART;TZID=Europe/London:20251122T100000
DTEND;TZID=Europe/London:20251122T160000
DTSTAMP:20260420T210847
CREATED:20251120T105611Z
LAST-MODIFIED:20251120T105611Z
UID:132153-1763805600-1763827200@www.discovernorthampton.co.uk
SUMMARY:Christmas Fair
DESCRIPTION:Enjoy a great day out for all the family at Delapré Abbeyâ€™s annual Christmas Fair to kick off the Festive season. \nEvent Details\n\nSaturday 22nd & Sunday 23rd November\, 10am – 4pm \nŁ2 per person entry with an option to donate food as well. \nEnjoy a great day out for all the family at our annual Christmas Fair. \nPick up unique\, handmade gifts from local makers and a wide range of carefully selected stalls. There will be something for all ages with food and drink\, live music\, and children’s activities. \n*Food Donations: For the sixth year running\, we’ll be collecting food donations for Northampton Hope Centre and Food Aid Far Cotton to help tackle poverty this Christmas. Please bring an item of food with you on the day.
URL:https://www.discovernorthampton.co.uk/event/christmas-fair/2025-11-22/
LOCATION:Delapre Abbey\, NN4 8AW
CATEGORIES:Christmas
ATTACH;FMTTYPE=image/png:https://www.discovernorthampton.co.uk/wp-content/uploads/2025/11/Christmas-Fair.png
END:VEVENT
BEGIN:VEVENT
DTSTART;TZID=Europe/London:20251122T100000
DTEND;TZID=Europe/London:20251122T170000
DTSTAMP:20260420T210847
CREATED:20251120T104920Z
LAST-MODIFIED:20251204T134740Z
UID:132126-1763805600-1763830800@www.discovernorthampton.co.uk
SUMMARY:Mini Christmas Makers Market
DESCRIPTION:Itâ€™s Christmas at The Creative Place! Weâ€™re turning our space into a Mini Christmas Makers Market! We open on Sat 22nd Nov along with the Christmas Light Switch On and running right up until Christmas! You can expectâ€¦ â€“ Local artists & makers selling handmade gifts â€“ Free Christmas crafts for children and adults â€“ A festive space to make and shop local! Creative activities & local traders announced soon\, so watch the space! Grab a gift for someone you love or just come in\, get inspired\, and get crafty! Tues-Sat 10am-5pm 22 Nov- Christmas Inside The Creative Place\, Northampton Market Sq
URL:https://www.discovernorthampton.co.uk/event/mini-christmas-makers-market/2025-11-22/
LOCATION:Northampton Market Square
CATEGORIES:Christmas
ATTACH;FMTTYPE=image/jpeg:https://www.discovernorthampton.co.uk/wp-content/uploads/2025/11/580981967_122175250418519902_4146867266383029650_n.jpg
END:VEVENT
BEGIN:VEVENT
DTSTART;TZID=Europe/London:20251122T103000
DTEND;TZID=Europe/London:20251122T160000
DTSTAMP:20260420T210847
CREATED:20251031T140910Z
LAST-MODIFIED:20251205T103556Z
UID:131705-1763807400-1763827200@www.discovernorthampton.co.uk
SUMMARY:Santa's Grotto
DESCRIPTION:No Christmas is complete without a visit to Father Christmas\, and the BID is delighted to be bringing Santaâ€™s Grotto back to Grosvenor Shopping Northampton this festive season. Important Information Pre-booking is required. All proceeds from this event will be split between two charities being Northamptonshire Toy Library and Rockin Roadrunner. There will be a ÂŁ2 charge to secure the booking per family\, using PayPal. Families will be able to take their own photos with Santa. Each child will receive a gift. Northamptonshire Toy Library would also be appreciative of new/used toy donations to support their work. These can be left at the Grotto for them. \nÂ 
URL:https://www.discovernorthampton.co.uk/event/santas-grotto-4/2025-11-22/
LOCATION:Grosvenor Shopping Northampton\, Grosvenor Centre\, Union Street\, Northampton\, Northamptonshire\, NN1 2EW
CATEGORIES:Christmas,Santa's Grotto
ATTACH;FMTTYPE=image/png:https://www.discovernorthampton.co.uk/wp-content/uploads/2022/11/New-Grotto-2.png
END:VEVENT
BEGIN:VEVENT
DTSTART;TZID=Europe/London:20251122T120000
DTEND;TZID=Europe/London:20251122T180000
DTSTAMP:20260420T210847
CREATED:20251023T151817Z
LAST-MODIFIED:20251023T151817Z
UID:131548-1763812800-1763834400@www.discovernorthampton.co.uk
SUMMARY:Christmas Lights Switch On 2025
DESCRIPTION:Saturday 22nd November 12pm â€“ 6pm\nMarket Square\, Northampton\n\nEnjoy a stocking-stuffed line up of free festive fun as we countdown to Christmas! Northamptonâ€™s Annual Christmas Lights Switch On returns to the Market Square with a packed schedule of live stage entertainment\, community stalls\, festive workshops and activities. Join Panto Stars\, The Mayor of Northampton and Santa as we celebrate the most magical time of year. \nMore info coming soonâ€¦! \nThe switch on will illuminate the large spruce trees on the Market Square\, All Saintsâ€™ Piazza\, Guildhall Square\, Abington Square and at Becketâ€™s Park\, as well as the festive installations throughout the town. The town council has invested in new Christmas lighting schemes for the town centre locations and along the Wellingborough Road. We hope residents and visitors enjoy the festive atmosphere as we will continue to improve and evolve the lighting over the next couple of years. \nSantaâ€™s Grotto\, delivered by Northampton BID and supported by Northampton Town Council\, opens in the Grosvenor Centre on Saturday 22nd November and will welcome families each weekend throughout December. The festive fun continues with the Northampton BID Golden Ticket giveaway\, running from 1st November to 14th December\, offering lucky entrants the chance to win vouchers to spend in town. Plus\, tune into the holiday spirit with NLive Radioâ€™s Christmas Radio Station\, supported by Northampton BID\, bringing seasonal cheer all December long.
URL:https://www.discovernorthampton.co.uk/event/christmas-lights-switch-on-2025/
LOCATION:Northampton Market Square
CATEGORIES:Christmas
ATTACH;FMTTYPE=image/png:https://www.discovernorthampton.co.uk/wp-content/uploads/2025/10/Christmas-light-switch-on-.png
END:VEVENT
BEGIN:VEVENT
DTSTART;TZID=Europe/London:20251122T123000
DTEND;TZID=Europe/London:20251122T163000
DTSTAMP:20260420T210847
CREATED:20251117T110349Z
LAST-MODIFIED:20251117T110349Z
UID:131886-1763814600-1763829000@www.discovernorthampton.co.uk
SUMMARY:Family Silent Disco @ Northampton Town Christmas Lights Switch on!
DESCRIPTION:et ready to dance with your family at the Northampton Town Christmas Lights Switch on â€“ itâ€™s a Silent Disco party! FREE ENTRY\n\n\n\nWelcome to the Family Silent Disco Zone at the Northampton Town Christmas Light Switch on! Get ready to dance and celebrate the start of the festive season with your loved ones in Market Square. \nJoin us on Saturday 22nd November from 12:30 for a fun-filled event that will have everyone grooving to the beat. Bring your best dance moves and get ready to enjoy the festive atmosphere as we kick off the holiday season in style. Donâ€™t miss out on this exciting event! \nThe Channels are: \nFAMILY PARTY / RETRO 70s-00s & CHRISTMAS / CHART HITS \nTickets are FREE and are for 45 min slots at 12:30\, 13:30\, 14:30 and 15:30. \nPlease note that it is a maximum of 4 tickets per order. Duplicate orders or orders of more than 1 session will be cancelled. If you require more than 4 tickets for a family please email hello@thesilentdiscoproject.co.uk whilst tickets are still available â€“ otherwise we cannot confirm availability. \nChildren must be accompanied by an adult at all time
URL:https://www.discovernorthampton.co.uk/event/family-silent-disco-northampton-town-christmas-lights-switch-on/
LOCATION:Northampton Market Square
CATEGORIES:Christmas,Event
ATTACH;FMTTYPE=image/png:https://www.discovernorthampton.co.uk/wp-content/uploads/2025/11/Screenshot-2025-11-17-110102.png
END:VEVENT
BEGIN:VEVENT
DTSTART;TZID=Europe/London:20251123T100000
DTEND;TZID=Europe/London:20251123T160000
DTSTAMP:20260420T210847
CREATED:20251120T105611Z
LAST-MODIFIED:20251120T105611Z
UID:132156-1763892000-1763913600@www.discovernorthampton.co.uk
SUMMARY:Christmas Fair
DESCRIPTION:Enjoy a great day out for all the family at Delapré Abbeyâ€™s annual Christmas Fair to kick off the Festive season. \nEvent Details\n\nSaturday 22nd & Sunday 23rd November\, 10am – 4pm \nŁ2 per person entry with an option to donate food as well. \nEnjoy a great day out for all the family at our annual Christmas Fair. \nPick up unique\, handmade gifts from local makers and a wide range of carefully selected stalls. There will be something for all ages with food and drink\, live music\, and children’s activities. \n*Food Donations: For the sixth year running\, we’ll be collecting food donations for Northampton Hope Centre and Food Aid Far Cotton to help tackle poverty this Christmas. Please bring an item of food with you on the day.
URL:https://www.discovernorthampton.co.uk/event/christmas-fair/2025-11-23/
LOCATION:Delapre Abbey\, NN4 8AW
CATEGORIES:Christmas
ATTACH;FMTTYPE=image/png:https://www.discovernorthampton.co.uk/wp-content/uploads/2025/11/Christmas-Fair.png
END:VEVENT
END:VCALENDAR