BEGIN:VCALENDAR
VERSION:2.0
PRODID:-//Northampton BID - ECPv6.2.4//NONSGML v1.0//EN
CALSCALE:GREGORIAN
METHOD:PUBLISH
X-WR-CALNAME:Northampton BID
X-ORIGINAL-URL:https://www.discovernorthampton.co.uk
X-WR-CALDESC:Events for Northampton BID
REFRESH-INTERVAL;VALUE=DURATION:PT1H
X-Robots-Tag:noindex
X-PUBLISHED-TTL:PT1H
BEGIN:VTIMEZONE
TZID:Europe/London
BEGIN:DAYLIGHT
TZOFFSETFROM:+0000
TZOFFSETTO:+0100
TZNAME:BST
DTSTART:20250330T010000
END:DAYLIGHT
BEGIN:STANDARD
TZOFFSETFROM:+0100
TZOFFSETTO:+0000
TZNAME:GMT
DTSTART:20251026T010000
END:STANDARD
END:VTIMEZONE
BEGIN:VEVENT
DTSTART;TZID=Europe/London:20251208T130000
DTEND;TZID=Europe/London:20251208T200000
DTSTAMP:20260422T013227
CREATED:20251212T160411Z
LAST-MODIFIED:20251212T160411Z
UID:133068-1765198800-1765224000@www.discovernorthampton.co.uk
SUMMARY:Northampton Market Square On Ice
DESCRIPTION:4th December 2025 – 4th January 2026 \nNN1 2DF \nThis Christmas\, Northampton’s Market Square will be transformed into a sparkling winter wonderland! \nGather your family and friends\, lace up your skates\, and join us for this lovely festive experience. \nWhether you’re a seasoned skater or stepping onto the ice for the first time\, all abilities are welcome and we have skating aids available to hire. \nThe Market Square On Ice\, bringing Christmas cheer right at the heart of town.
URL:https://www.discovernorthampton.co.uk/event/northampton-market-square-on-ice/2025-12-08/
LOCATION:Northampton Market Square
CATEGORIES:Christmas
ATTACH;FMTTYPE=image/png:https://www.discovernorthampton.co.uk/wp-content/uploads/2025/11/Market-Square-on-Ice.png
END:VEVENT
BEGIN:VEVENT
DTSTART;TZID=Europe/London:20251209T100000
DTEND;TZID=Europe/London:20251209T170000
DTSTAMP:20260422T013227
CREATED:20251120T104920Z
LAST-MODIFIED:20251204T134744Z
UID:132139-1765274400-1765299600@www.discovernorthampton.co.uk
SUMMARY:Mini Christmas Makers Market
DESCRIPTION:It’s Christmas at The Creative Place! We’re turning our space into a Mini Christmas Makers Market! We open on Sat 22nd Nov along with the Christmas Light Switch On and running right up until Christmas! You can expect… – Local artists & makers selling handmade gifts – Free Christmas crafts for children and adults – A festive space to make and shop local! Creative activities & local traders announced soon\, so watch the space! Grab a gift for someone you love or just come in\, get inspired\, and get crafty! Tues-Sat 10am-5pm 22 Nov- Christmas Inside The Creative Place\, Northampton Market Sq
URL:https://www.discovernorthampton.co.uk/event/mini-christmas-makers-market/2025-12-09/
LOCATION:Northampton Market Square
CATEGORIES:Christmas
ATTACH;FMTTYPE=image/jpeg:https://www.discovernorthampton.co.uk/wp-content/uploads/2025/11/580981967_122175250418519902_4146867266383029650_n.jpg
END:VEVENT
BEGIN:VEVENT
DTSTART;TZID=Europe/London:20251209T130000
DTEND;TZID=Europe/London:20251209T200000
DTSTAMP:20260422T013227
CREATED:20251212T160411Z
LAST-MODIFIED:20251212T160411Z
UID:133069-1765285200-1765310400@www.discovernorthampton.co.uk
SUMMARY:Northampton Market Square On Ice
DESCRIPTION:4th December 2025 – 4th January 2026 \nNN1 2DF \nThis Christmas\, Northampton’s Market Square will be transformed into a sparkling winter wonderland! \nGather your family and friends\, lace up your skates\, and join us for this lovely festive experience. \nWhether you’re a seasoned skater or stepping onto the ice for the first time\, all abilities are welcome and we have skating aids available to hire. \nThe Market Square On Ice\, bringing Christmas cheer right at the heart of town.
URL:https://www.discovernorthampton.co.uk/event/northampton-market-square-on-ice/2025-12-09/
LOCATION:Northampton Market Square
CATEGORIES:Christmas
ATTACH;FMTTYPE=image/png:https://www.discovernorthampton.co.uk/wp-content/uploads/2025/11/Market-Square-on-Ice.png
END:VEVENT
BEGIN:VEVENT
DTSTART;TZID=Europe/London:20251210T100000
DTEND;TZID=Europe/London:20251210T170000
DTSTAMP:20260422T013227
CREATED:20251120T104920Z
LAST-MODIFIED:20251204T134744Z
UID:132140-1765360800-1765386000@www.discovernorthampton.co.uk
SUMMARY:Mini Christmas Makers Market
DESCRIPTION:It’s Christmas at The Creative Place! We’re turning our space into a Mini Christmas Makers Market! We open on Sat 22nd Nov along with the Christmas Light Switch On and running right up until Christmas! You can expect… – Local artists & makers selling handmade gifts – Free Christmas crafts for children and adults – A festive space to make and shop local! Creative activities & local traders announced soon\, so watch the space! Grab a gift for someone you love or just come in\, get inspired\, and get crafty! Tues-Sat 10am-5pm 22 Nov- Christmas Inside The Creative Place\, Northampton Market Sq
URL:https://www.discovernorthampton.co.uk/event/mini-christmas-makers-market/2025-12-10/
LOCATION:Northampton Market Square
CATEGORIES:Christmas
ATTACH;FMTTYPE=image/jpeg:https://www.discovernorthampton.co.uk/wp-content/uploads/2025/11/580981967_122175250418519902_4146867266383029650_n.jpg
END:VEVENT
BEGIN:VEVENT
DTSTART;TZID=Europe/London:20251210T130000
DTEND;TZID=Europe/London:20251210T200000
DTSTAMP:20260422T013227
CREATED:20251212T160411Z
LAST-MODIFIED:20251212T160411Z
UID:133070-1765371600-1765396800@www.discovernorthampton.co.uk
SUMMARY:Northampton Market Square On Ice
DESCRIPTION:4th December 2025 – 4th January 2026 \nNN1 2DF \nThis Christmas\, Northampton’s Market Square will be transformed into a sparkling winter wonderland! \nGather your family and friends\, lace up your skates\, and join us for this lovely festive experience. \nWhether you’re a seasoned skater or stepping onto the ice for the first time\, all abilities are welcome and we have skating aids available to hire. \nThe Market Square On Ice\, bringing Christmas cheer right at the heart of town.
URL:https://www.discovernorthampton.co.uk/event/northampton-market-square-on-ice/2025-12-10/
LOCATION:Northampton Market Square
CATEGORIES:Christmas
ATTACH;FMTTYPE=image/png:https://www.discovernorthampton.co.uk/wp-content/uploads/2025/11/Market-Square-on-Ice.png
END:VEVENT
BEGIN:VEVENT
DTSTART;TZID=Europe/London:20251211T100000
DTEND;TZID=Europe/London:20251211T170000
DTSTAMP:20260422T013227
CREATED:20251120T104920Z
LAST-MODIFIED:20251204T134744Z
UID:132141-1765447200-1765472400@www.discovernorthampton.co.uk
SUMMARY:Mini Christmas Makers Market
DESCRIPTION:It’s Christmas at The Creative Place! We’re turning our space into a Mini Christmas Makers Market! We open on Sat 22nd Nov along with the Christmas Light Switch On and running right up until Christmas! You can expect… – Local artists & makers selling handmade gifts – Free Christmas crafts for children and adults – A festive space to make and shop local! Creative activities & local traders announced soon\, so watch the space! Grab a gift for someone you love or just come in\, get inspired\, and get crafty! Tues-Sat 10am-5pm 22 Nov- Christmas Inside The Creative Place\, Northampton Market Sq
URL:https://www.discovernorthampton.co.uk/event/mini-christmas-makers-market/2025-12-11/
LOCATION:Northampton Market Square
CATEGORIES:Christmas
ATTACH;FMTTYPE=image/jpeg:https://www.discovernorthampton.co.uk/wp-content/uploads/2025/11/580981967_122175250418519902_4146867266383029650_n.jpg
END:VEVENT
BEGIN:VEVENT
DTSTART;TZID=Europe/London:20251211T130000
DTEND;TZID=Europe/London:20251211T200000
DTSTAMP:20260422T013227
CREATED:20251212T160411Z
LAST-MODIFIED:20251212T160411Z
UID:133071-1765458000-1765483200@www.discovernorthampton.co.uk
SUMMARY:Northampton Market Square On Ice
DESCRIPTION:4th December 2025 – 4th January 2026 \nNN1 2DF \nThis Christmas\, Northampton’s Market Square will be transformed into a sparkling winter wonderland! \nGather your family and friends\, lace up your skates\, and join us for this lovely festive experience. \nWhether you’re a seasoned skater or stepping onto the ice for the first time\, all abilities are welcome and we have skating aids available to hire. \nThe Market Square On Ice\, bringing Christmas cheer right at the heart of town.
URL:https://www.discovernorthampton.co.uk/event/northampton-market-square-on-ice/2025-12-11/
LOCATION:Northampton Market Square
CATEGORIES:Christmas
ATTACH;FMTTYPE=image/png:https://www.discovernorthampton.co.uk/wp-content/uploads/2025/11/Market-Square-on-Ice.png
END:VEVENT
BEGIN:VEVENT
DTSTART;TZID=Europe/London:20251211T190000
DTEND;TZID=Europe/London:20251211T210000
DTSTAMP:20260422T013227
CREATED:20251204T155255Z
LAST-MODIFIED:20251204T155255Z
UID:133001-1765479600-1765486800@www.discovernorthampton.co.uk
SUMMARY:Christmas beer tasting - SOLD OUT
DESCRIPTION:Tis the season of joy and Christmas beer!\n\n\n \n\n\n\n\n\nChristmas is coming – and you know what that means\, Christmas beers will be back on the menu! Get into the festive spirit with our Christmas Beer Tasting. Taste a range of special Christmas brews\, learn about how they’re made\, where they’re from and what makes them ‘Christmassy’.
URL:https://www.discovernorthampton.co.uk/event/christmas-beer-tasting-sold-out/
LOCATION:V and B\, 10 St Giles' Square\,\, Northampton\, NN1 1DA\, United Kingdom
CATEGORIES:Christmas
ATTACH;FMTTYPE=image/png:https://www.discovernorthampton.co.uk/wp-content/uploads/2025/12/Masterclass.png
END:VEVENT
BEGIN:VEVENT
DTSTART;TZID=Europe/London:20251212T100000
DTEND;TZID=Europe/London:20251212T170000
DTSTAMP:20260422T013227
CREATED:20251120T104920Z
LAST-MODIFIED:20251204T134745Z
UID:132142-1765533600-1765558800@www.discovernorthampton.co.uk
SUMMARY:Mini Christmas Makers Market
DESCRIPTION:It’s Christmas at The Creative Place! We’re turning our space into a Mini Christmas Makers Market! We open on Sat 22nd Nov along with the Christmas Light Switch On and running right up until Christmas! You can expect… – Local artists & makers selling handmade gifts – Free Christmas crafts for children and adults – A festive space to make and shop local! Creative activities & local traders announced soon\, so watch the space! Grab a gift for someone you love or just come in\, get inspired\, and get crafty! Tues-Sat 10am-5pm 22 Nov- Christmas Inside The Creative Place\, Northampton Market Sq
URL:https://www.discovernorthampton.co.uk/event/mini-christmas-makers-market/2025-12-12/
LOCATION:Northampton Market Square
CATEGORIES:Christmas
ATTACH;FMTTYPE=image/jpeg:https://www.discovernorthampton.co.uk/wp-content/uploads/2025/11/580981967_122175250418519902_4146867266383029650_n.jpg
END:VEVENT
BEGIN:VEVENT
DTSTART;TZID=Europe/London:20251212T130000
DTEND;TZID=Europe/London:20251212T210000
DTSTAMP:20260422T013227
CREATED:20251212T160536Z
LAST-MODIFIED:20251212T160536Z
UID:133083-1765544400-1765573200@www.discovernorthampton.co.uk
SUMMARY:Northampton Market Square On Ice
DESCRIPTION:4th December 2025 – 4th January 2026 \nNN1 2DF \nThis Christmas\, Northampton’s Market Square will be transformed into a sparkling winter wonderland! \nGather your family and friends\, lace up your skates\, and join us for this lovely festive experience. \nWhether you’re a seasoned skater or stepping onto the ice for the first time\, all abilities are welcome and we have skating aids available to hire. \nThe Market Square On Ice\, bringing Christmas cheer right at the heart of town.
URL:https://www.discovernorthampton.co.uk/event/northampton-market-square-on-ice-2/2025-12-12/
LOCATION:Northampton Market Square
CATEGORIES:Christmas
ATTACH;FMTTYPE=image/png:https://www.discovernorthampton.co.uk/wp-content/uploads/2025/11/Market-Square-on-Ice.png
END:VEVENT
BEGIN:VEVENT
DTSTART;TZID=Europe/London:20251212T170000
DTEND;TZID=Europe/London:20251212T200000
DTSTAMP:20260422T013227
CREATED:20251027T110736Z
LAST-MODIFIED:20251027T110736Z
UID:131608-1765558800-1765569600@www.discovernorthampton.co.uk
SUMMARY:Wreath Decorating
DESCRIPTION:Wreath Decorating Workshop + Free Mulled Wine Get festive and creative this season!
URL:https://www.discovernorthampton.co.uk/event/wreath-decorating/
LOCATION:Grandbies\, 26 St Giles' St\, northampton\, Northamptonshire\, NN1 1JA\, United Kingdom
CATEGORIES:Christmas,Event
ATTACH;FMTTYPE=image/png:https://www.discovernorthampton.co.uk/wp-content/uploads/2025/10/Screenshot-2025-10-27-110523.png
END:VEVENT
BEGIN:VEVENT
DTSTART;TZID=Europe/London:20251212T190000
DTEND;TZID=Europe/London:20251212T210000
DTSTAMP:20260422T013227
CREATED:20251204T155451Z
LAST-MODIFIED:20251204T155451Z
UID:133004-1765566000-1765573200@www.discovernorthampton.co.uk
SUMMARY:Masterclass: Saint-Émilion\, Bordeaux & Fronsac.
DESCRIPTION:Discover wine from this amazing region and meet the man who gets it from grape to bottle.\n\n\n\nWe are so excited to welcome back our friend\, the young and talented winemaker – Hugues Laborde to V and B Northampton. Hugues is the man behind many of your V and B favourites (L’Exalté\, L’instant H and Les Fleurs du Mal to name a few!) and is passionate about the democratisation of wine – making the good stuff accessible to many\, all whilst respecting the enivironment AND being a really nice guy. \nTaste wines from Bordeaux\, St Emilion and Fronsac – and have them explained to you by the man who made them. This masterclass is always a speedy sell out – so make sure you book quickly to avoid disappointment!
URL:https://www.discovernorthampton.co.uk/event/masterclass-saint-emilion-bordeaux-fronsac/
LOCATION:V and B\, 10 St Giles' Square\,\, Northampton\, NN1 1DA\, United Kingdom
CATEGORIES:Christmas
ATTACH;FMTTYPE=image/jpeg:https://www.discovernorthampton.co.uk/wp-content/uploads/2025/12/https___cdn.evbuc_.com_images_1170954412_851184522543_1_original.jpg
END:VEVENT
BEGIN:VEVENT
DTSTART;TZID=Europe/London:20251213T100000
DTEND;TZID=Europe/London:20251213T170000
DTSTAMP:20260422T013227
CREATED:20251120T104920Z
LAST-MODIFIED:20251204T134745Z
UID:132143-1765620000-1765645200@www.discovernorthampton.co.uk
SUMMARY:Mini Christmas Makers Market
DESCRIPTION:It’s Christmas at The Creative Place! We’re turning our space into a Mini Christmas Makers Market! We open on Sat 22nd Nov along with the Christmas Light Switch On and running right up until Christmas! You can expect… – Local artists & makers selling handmade gifts – Free Christmas crafts for children and adults – A festive space to make and shop local! Creative activities & local traders announced soon\, so watch the space! Grab a gift for someone you love or just come in\, get inspired\, and get crafty! Tues-Sat 10am-5pm 22 Nov- Christmas Inside The Creative Place\, Northampton Market Sq
URL:https://www.discovernorthampton.co.uk/event/mini-christmas-makers-market/2025-12-13/
LOCATION:Northampton Market Square
CATEGORIES:Christmas
ATTACH;FMTTYPE=image/jpeg:https://www.discovernorthampton.co.uk/wp-content/uploads/2025/11/580981967_122175250418519902_4146867266383029650_n.jpg
END:VEVENT
BEGIN:VEVENT
DTSTART;TZID=Europe/London:20251213T103000
DTEND;TZID=Europe/London:20251213T160000
DTSTAMP:20260422T013227
CREATED:20251031T140910Z
LAST-MODIFIED:20251205T103556Z
UID:131715-1765621800-1765641600@www.discovernorthampton.co.uk
SUMMARY:Santa's Grotto
DESCRIPTION:No Christmas is complete without a visit to Father Christmas\, and the BID is delighted to be bringing Santa’s Grotto back to Grosvenor Shopping Northampton this festive season. Important Information Pre-booking is required. All proceeds from this event will be split between two charities being Northamptonshire Toy Library and Rockin Roadrunner. There will be a £2 charge to secure the booking per family\, using PayPal. Families will be able to take their own photos with Santa. Each child will receive a gift. Northamptonshire Toy Library would also be appreciative of new/used toy donations to support their work. These can be left at the Grotto for them. \n 
URL:https://www.discovernorthampton.co.uk/event/santas-grotto-4/2025-12-13/
LOCATION:Grosvenor Shopping Northampton\, Grosvenor Centre\, Union Street\, Northampton\, Northamptonshire\, NN1 2EW
CATEGORIES:Christmas,Santa's Grotto
ATTACH;FMTTYPE=image/png:https://www.discovernorthampton.co.uk/wp-content/uploads/2022/11/New-Grotto-2.png
END:VEVENT
BEGIN:VEVENT
DTSTART;TZID=Europe/London:20251213T110000
DTEND;TZID=Europe/London:20251213T210000
DTSTAMP:20260422T013227
CREATED:20251212T160704Z
LAST-MODIFIED:20251212T160704Z
UID:133085-1765623600-1765659600@www.discovernorthampton.co.uk
SUMMARY:Northampton Market Square On Ice
DESCRIPTION:4th December 2025 – 4th January 2026 \nNN1 2DF \nThis Christmas\, Northampton’s Market Square will be transformed into a sparkling winter wonderland! \nGather your family and friends\, lace up your skates\, and join us for this lovely festive experience. \nWhether you’re a seasoned skater or stepping onto the ice for the first time\, all abilities are welcome and we have skating aids available to hire. \nThe Market Square On Ice\, bringing Christmas cheer right at the heart of town.
URL:https://www.discovernorthampton.co.uk/event/northampton-market-square-on-ice-3/2025-12-13/
LOCATION:Northampton Market Square
CATEGORIES:Christmas
ATTACH;FMTTYPE=image/png:https://www.discovernorthampton.co.uk/wp-content/uploads/2025/11/Market-Square-on-Ice.png
END:VEVENT
BEGIN:VEVENT
DTSTART;TZID=Europe/London:20251213T120000
DTEND;TZID=Europe/London:20251213T140000
DTSTAMP:20260422T013227
CREATED:20250926T100348Z
LAST-MODIFIED:20251204T143325Z
UID:130926-1765627200-1765634400@www.discovernorthampton.co.uk
SUMMARY:Nightmare Before Christmas Afternoon Tea
DESCRIPTION:Nightmare Before Christmas Afternoon Tea So much love for The Nightmare Before Christmas\, we’ve been asked to host an afternoon Tea on Saturday 13th December 12pm-2pm! 3 courses\, beautiful decor\, themed food and cocktails. A welcome drink and gifts to take away. Prices are £25 per child\, 30 prohibition and 40 Tiddley. Deposits for this are 15\, and are non refundable. Any cancellations must be made up to 24hrs before otherwise we will have to charge full price.
URL:https://www.discovernorthampton.co.uk/event/nightmare-before-christmas-afternoon-tea/
LOCATION:The Eccentric Englishman\, 21 St Giles' Street\, northampton\, Northamptonshire\, NN1 1JA\, United Kingdom
CATEGORIES:Christmas,Event
ATTACH;FMTTYPE=image/png:https://www.discovernorthampton.co.uk/wp-content/uploads/2025/09/Screenshot-2025-09-26-110103.png
END:VEVENT
BEGIN:VEVENT
DTSTART;TZID=Europe/London:20251213T130000
DTEND;TZID=Europe/London:20251213T150000
DTSTAMP:20260422T013227
CREATED:20251212T161552Z
LAST-MODIFIED:20251212T161552Z
UID:133086-1765630800-1765638000@www.discovernorthampton.co.uk
SUMMARY:Tailored Treasures - A Festive Bauble Workshop
DESCRIPTION:Overview\n\n\n\nCome along and create your own beautiful Christmas bauble! \n\n\n\n\n🎄 Tailored Treasures – A Festive Bauble Workshop 🎨✨ \nAdd a personal touch to your holiday season with a cosy\, creative workshop designed to spark festive joy! Join us for a delightful hands-on experience where you’ll customise one beautiful Christmas bauble to treasure or gift. \nDuring this workshop\, you’ll enjoy:\n✨ A warm\, festive atmosphere\n✨ Expert guidance and creative inspiration\n✨ A selection of high-quality baubles\, paints\, and decorative materials\n✨ All tools provided—just bring your imagination\n✨ A complimentary glass of mulled wine to keep things merry and bright \nNo crafting experience is needed—just come along and enjoy a relaxing\, seasonal activity. \n🎁 You’ll leave with:\nYour very own personalised bauble\, crafted with care and ready to hang on your tree. \n🌟 Perfect for:\nHoliday lovers\, craft enthusiasts\, festive outings with friends\, cosy date nights\, or anyone wanting to make a meaningful decoration. \nJoin us for a magical\, creative evening and leave with a unique treasure you’ll enjoy year after year.
URL:https://www.discovernorthampton.co.uk/event/tailored-treasures-a-festive-bauble-workshop/
LOCATION:Grandbies\, 26 St Giles' St\, northampton\, Northamptonshire\, NN1 1JA\, United Kingdom
CATEGORIES:Christmas
ATTACH;FMTTYPE=image/png:https://www.discovernorthampton.co.uk/wp-content/uploads/2025/12/Grandbies.png
END:VEVENT
BEGIN:VEVENT
DTSTART;TZID=Europe/London:20251213T140000
DTEND;TZID=Europe/London:20251213T180000
DTSTAMP:20260422T013227
CREATED:20251202T155451Z
LAST-MODIFIED:20251202T155451Z
UID:132344-1765634400-1765648800@www.discovernorthampton.co.uk
SUMMARY:Carols on the Square
DESCRIPTION:Northants Sings Out and Billy Lockett to lead first-ever Carols on the Square singalong in Northampton Market Square \nBritain’s Got Talent Finalists Northants Sings Out and popular Northampton singer-songwriter Billy Lockett will lead Northampton’s first ever large-scale Christmas carol sing-along in the Market Square\, bringing live music\, festive cheer and community spirit to the town centre this December. \nTaking place on Saturday 13 December from 2pm to 6pm\, this free family event will showcase an exciting line-up of local talent; including NMPAT\, The Performing Rooms\, The Nene Valley Community Band\, plus a selection of school and cultural groups who will lead the ultimate Christmas carol concert for residents and visitors.
URL:https://www.discovernorthampton.co.uk/event/carols-on-the-square/
LOCATION:Northampton Market Square
CATEGORIES:Christmas
ATTACH;FMTTYPE=image/jpeg:https://www.discovernorthampton.co.uk/wp-content/uploads/2025/12/Carols-on-the-Sq-event.jpg
END:VEVENT
BEGIN:VEVENT
DTSTART;TZID=Europe/London:20251214T103000
DTEND;TZID=Europe/London:20251214T160000
DTSTAMP:20260422T013227
CREATED:20251031T140910Z
LAST-MODIFIED:20251205T103556Z
UID:131716-1765708200-1765728000@www.discovernorthampton.co.uk
SUMMARY:Santa's Grotto
DESCRIPTION:No Christmas is complete without a visit to Father Christmas\, and the BID is delighted to be bringing Santa’s Grotto back to Grosvenor Shopping Northampton this festive season. Important Information Pre-booking is required. All proceeds from this event will be split between two charities being Northamptonshire Toy Library and Rockin Roadrunner. There will be a £2 charge to secure the booking per family\, using PayPal. Families will be able to take their own photos with Santa. Each child will receive a gift. Northamptonshire Toy Library would also be appreciative of new/used toy donations to support their work. These can be left at the Grotto for them. \n 
URL:https://www.discovernorthampton.co.uk/event/santas-grotto-4/2025-12-14/
LOCATION:Grosvenor Shopping Northampton\, Grosvenor Centre\, Union Street\, Northampton\, Northamptonshire\, NN1 2EW
CATEGORIES:Christmas,Santa's Grotto
ATTACH;FMTTYPE=image/png:https://www.discovernorthampton.co.uk/wp-content/uploads/2022/11/New-Grotto-2.png
END:VEVENT
BEGIN:VEVENT
DTSTART;TZID=Europe/London:20251214T110000
DTEND;TZID=Europe/London:20251214T130000
DTSTAMP:20260422T013227
CREATED:20251212T164016Z
LAST-MODIFIED:20251212T164016Z
UID:133117-1765710000-1765717200@www.discovernorthampton.co.uk
SUMMARY:Breakfast with Santa
DESCRIPTION:Our Breakfast with Santas are magical and can’t be beaten. Our Santa is not like other Santas\, he’s very traditional. We will also make sure all presents he gives are suitable for your child\, as the elves ask a few questions at time of booking.Sausage and bacon rolls\, beans or scrambled eggs on toast\, pancakes are available. Plus unlimited hot drinks of tea\, coffee and hot are available.Children are £25 each aswell as adults.£15 pp deposit at time of booking is required and non refundable.Tables are decorated\, letters to Santa are available to be written and posted also just to double check nothing is forgotten on the big day. Give us a call to book
URL:https://www.discovernorthampton.co.uk/event/breakfast-with-santa-2/
LOCATION:The Eccentric Englishman\, 21 St Giles' Street\, northampton\, Northamptonshire\, NN1 1JA\, United Kingdom
CATEGORIES:Christmas
ATTACH;FMTTYPE=image/jpeg:https://www.discovernorthampton.co.uk/wp-content/uploads/2025/12/530207409_1081473180790834_6389271115117597119_n.jpg
END:VEVENT
BEGIN:VEVENT
DTSTART;TZID=Europe/London:20251214T110000
DTEND;TZID=Europe/London:20251214T170000
DTSTAMP:20260422T013227
CREATED:20251212T165102Z
LAST-MODIFIED:20251212T165102Z
UID:133127-1765710000-1765731600@www.discovernorthampton.co.uk
SUMMARY:V and B Christmas Market
DESCRIPTION:Find your Christmas spirit(s)!\n\n\nDiscover the beauty of local business at this year’s Christmas Market.\nFrom handcrafted treats\, to cozy winter sips\, every stall tells a story worth sharing.\n\n\nCome and support small businesses\, soak up the magic\, and celebrate the season with us!
URL:https://www.discovernorthampton.co.uk/event/v-and-b-christmas-market-2/
LOCATION:V and B\, 10 St Giles' Square\,\, Northampton\, NN1 1DA\, United Kingdom
CATEGORIES:Christmas
ATTACH;FMTTYPE=image/jpeg:https://www.discovernorthampton.co.uk/wp-content/uploads/2025/12/590871477_18053464775672891_7428512952971768099_n.jpg
END:VEVENT
BEGIN:VEVENT
DTSTART;TZID=Europe/London:20251214T110000
DTEND;TZID=Europe/London:20251214T200000
DTSTAMP:20260422T013227
CREATED:20251212T160828Z
LAST-MODIFIED:20251212T160828Z
UID:133082-1765710000-1765742400@www.discovernorthampton.co.uk
SUMMARY:Northampton Market Square On Ice
DESCRIPTION:4th December 2025 – 4th January 2026 \nNN1 2DF \nThis Christmas\, Northampton’s Market Square will be transformed into a sparkling winter wonderland! \nGather your family and friends\, lace up your skates\, and join us for this lovely festive experience. \nWhether you’re a seasoned skater or stepping onto the ice for the first time\, all abilities are welcome and we have skating aids available to hire. \nThe Market Square On Ice\, bringing Christmas cheer right at the heart of town.
URL:https://www.discovernorthampton.co.uk/event/northampton-market-square-on-ice-4/2025-12-14/
LOCATION:Northampton Market Square
CATEGORIES:Christmas
ATTACH;FMTTYPE=image/png:https://www.discovernorthampton.co.uk/wp-content/uploads/2025/11/Market-Square-on-Ice.png
END:VEVENT
END:VCALENDAR