BEGIN:VCALENDAR
VERSION:2.0
PRODID:-//Northampton BID - ECPv6.2.4//NONSGML v1.0//EN
CALSCALE:GREGORIAN
METHOD:PUBLISH
X-WR-CALNAME:Northampton BID
X-ORIGINAL-URL:https://www.discovernorthampton.co.uk
X-WR-CALDESC:Events for Northampton BID
REFRESH-INTERVAL;VALUE=DURATION:PT1H
X-Robots-Tag:noindex
X-PUBLISHED-TTL:PT1H
BEGIN:VTIMEZONE
TZID:Europe/London
BEGIN:DAYLIGHT
TZOFFSETFROM:+0000
TZOFFSETTO:+0100
TZNAME:BST
DTSTART:20250330T010000
END:DAYLIGHT
BEGIN:STANDARD
TZOFFSETFROM:+0100
TZOFFSETTO:+0000
TZNAME:GMT
DTSTART:20251026T010000
END:STANDARD
END:VTIMEZONE
BEGIN:VEVENT
DTSTART;TZID=Europe/London:20251222T103000
DTEND;TZID=Europe/London:20251222T160000
DTSTAMP:20260420T211003
CREATED:20251031T140910Z
LAST-MODIFIED:20251205T103557Z
UID:131719-1766399400-1766419200@www.discovernorthampton.co.uk
SUMMARY:Santa's Grotto
DESCRIPTION:No Christmas is complete without a visit to Father Christmas\, and the BID is delighted to be bringing Santaâ€™s Grotto back to Grosvenor Shopping Northampton this festive season. Important Information Pre-booking is required. All proceeds from this event will be split between two charities being Northamptonshire Toy Library and Rockin Roadrunner. There will be a Â£2 charge to secure the booking per family\, using PayPal. Families will be able to take their own photos with Santa. Each child will receive a gift. Northamptonshire Toy Library would also be appreciative of new/used toy donations to support their work. These can be left at the Grotto for them. \nÂ 
URL:https://www.discovernorthampton.co.uk/event/santas-grotto-4/2025-12-22/
LOCATION:Grosvenor Shopping Northampton\, Grosvenor Centre\, Union Street\, Northampton\, Northamptonshire\, NN1 2EW
CATEGORIES:Christmas,Santa's Grotto
ATTACH;FMTTYPE=image/png:https://www.discovernorthampton.co.uk/wp-content/uploads/2022/11/New-Grotto-2.png
END:VEVENT
BEGIN:VEVENT
DTSTART;TZID=Europe/London:20251222T120000
DTEND;TZID=Europe/London:20251222T140000
DTSTAMP:20260420T211003
CREATED:20251117T112059Z
LAST-MODIFIED:20251117T112059Z
UID:131892-1766404800-1766412000@www.discovernorthampton.co.uk
SUMMARY:Paddington Christmas Afternoon Tea
DESCRIPTION:So much love for the Paddington Afternoon Tea\, we’ve been asked to hold one at Christmas. So our next will be a special festive afternoon Tea on Monday 22nd December 12pm-2pm.3 courses\, beautiful decor\, themed food and cocktails. A welcome drink and gifts to take away.Prices are £25 per child\, £30 prohibition and £40 Tiddley.\nDeposits for this are £15\, and are non refundable. Any cancellations must be made up to 24hrs before otherwise we will have to charge full price.
URL:https://www.discovernorthampton.co.uk/event/paddington-christmas-afternoon-tea/
LOCATION:The Eccentric Englishman\, 21 St Giles' Street\, northampton\, Northamptonshire\, NN1 1JA\, United Kingdom
CATEGORIES:Afternoon Tea,Christmas,Event
ATTACH;FMTTYPE=image/png:https://www.discovernorthampton.co.uk/wp-content/uploads/2025/11/Screenshot-2025-11-17-111807.png
END:VEVENT
BEGIN:VEVENT
DTSTART;TZID=Europe/London:20251222T130000
DTEND;TZID=Europe/London:20251222T200000
DTSTAMP:20260420T211003
CREATED:20251224T120009Z
LAST-MODIFIED:20251224T120009Z
UID:133412-1766408400-1766433600@www.discovernorthampton.co.uk
SUMMARY:Northampton Market Square On Ice
DESCRIPTION:Northampton Market SquareÂ On Ice â€“Â NN1 2DF\n4th December 2025 â€“ 4th January 2026\nThis Christmas\, Northamptonâ€™s Market Square will be transformed into a sparkling winter wonderland! \nGather your family and friends\, lace up your skates\, and join us for this lovely festive experience. \nWhether youâ€™re a seasoned skater or stepping onto the ice for the first time\, all abilities are welcome and we have skating aids available to hire. \nThe Market SquareÂ On Ice\, bringing Christmas cheer right at the heart of town.
URL:https://www.discovernorthampton.co.uk/event/northampton-market-square-on-ice-7/2025-12-22/
LOCATION:Northampton Market Square
CATEGORIES:Christmas
ATTACH;FMTTYPE=image/jpeg:https://www.discovernorthampton.co.uk/wp-content/uploads/2025/12/2461x925-digital-assets-Christmas-on-the-market-square-1.0-2048x770-1.jpg
END:VEVENT
BEGIN:VEVENT
DTSTART;TZID=Europe/London:20251222T190000
DTEND;TZID=Europe/London:20251222T210000
DTSTAMP:20260420T211003
CREATED:20251204T160053Z
LAST-MODIFIED:20251204T160053Z
UID:133010-1766430000-1766437200@www.discovernorthampton.co.uk
SUMMARY:Xmas cheese and wine - SOLD OUT
DESCRIPTION:Cheese and wine\, one hell of a time! \n\n\n\n\nWhen it comes to cheese and wine\, no-one does it better than us. Weâ€™ll have a huge selection of new cheeses\, exclusive to the Christmas period\, with a delicious wine to go with each one. \nLooking to take your Xmas meal to the next level? Discover your favourite pairing\, and bring them home in time for Christmas!
URL:https://www.discovernorthampton.co.uk/event/xmas-cheese-and-wine-sold-out/
LOCATION:V and B\, 10 St Giles' Square\,\, Northampton\, NN1 1DA\, United Kingdom
CATEGORIES:Christmas
ATTACH;FMTTYPE=image/png:https://www.discovernorthampton.co.uk/wp-content/uploads/2025/12/Screenshot-2025-12-04-155916.png
END:VEVENT
BEGIN:VEVENT
DTSTART;TZID=Europe/London:20251223T100000
DTEND;TZID=Europe/London:20251223T170000
DTSTAMP:20260420T211003
CREATED:20251120T104920Z
LAST-MODIFIED:20251204T134746Z
UID:132149-1766484000-1766509200@www.discovernorthampton.co.uk
SUMMARY:Mini Christmas Makers Market
DESCRIPTION:Itâ€™s Christmas at The Creative Place! Weâ€™re turning our space into a Mini Christmas Makers Market! We open on Sat 22nd Nov along with the Christmas Light Switch On and running right up until Christmas! You can expectâ€¦ â€“ Local artists & makers selling handmade gifts â€“ Free Christmas crafts for children and adults â€“ A festive space to make and shop local! Creative activities & local traders announced soon\, so watch the space! Grab a gift for someone you love or just come in\, get inspired\, and get crafty! Tues-Sat 10am-5pm 22 Nov- Christmas Inside The Creative Place\, Northampton Market Sq
URL:https://www.discovernorthampton.co.uk/event/mini-christmas-makers-market/2025-12-23/
LOCATION:Northampton Market Square
CATEGORIES:Christmas
ATTACH;FMTTYPE=image/jpeg:https://www.discovernorthampton.co.uk/wp-content/uploads/2025/11/580981967_122175250418519902_4146867266383029650_n.jpg
END:VEVENT
BEGIN:VEVENT
DTSTART;TZID=Europe/London:20251223T103000
DTEND;TZID=Europe/London:20251223T160000
DTSTAMP:20260420T211003
CREATED:20251031T140910Z
LAST-MODIFIED:20251205T103557Z
UID:131720-1766485800-1766505600@www.discovernorthampton.co.uk
SUMMARY:Santa's Grotto
DESCRIPTION:No Christmas is complete without a visit to Father Christmas\, and the BID is delighted to be bringing Santaâ€™s Grotto back to Grosvenor Shopping Northampton this festive season. Important Information Pre-booking is required. All proceeds from this event will be split between two charities being Northamptonshire Toy Library and Rockin Roadrunner. There will be a Â£2 charge to secure the booking per family\, using PayPal. Families will be able to take their own photos with Santa. Each child will receive a gift. Northamptonshire Toy Library would also be appreciative of new/used toy donations to support their work. These can be left at the Grotto for them. \nÂ 
URL:https://www.discovernorthampton.co.uk/event/santas-grotto-4/2025-12-23/
LOCATION:Grosvenor Shopping Northampton\, Grosvenor Centre\, Union Street\, Northampton\, Northamptonshire\, NN1 2EW
CATEGORIES:Christmas,Santa's Grotto
ATTACH;FMTTYPE=image/png:https://www.discovernorthampton.co.uk/wp-content/uploads/2022/11/New-Grotto-2.png
END:VEVENT
BEGIN:VEVENT
DTSTART;TZID=Europe/London:20251223T130000
DTEND;TZID=Europe/London:20251223T150000
DTSTAMP:20260420T211003
CREATED:20251218T124235Z
LAST-MODIFIED:20251218T124235Z
UID:133182-1766494800-1766502000@www.discovernorthampton.co.uk
SUMMARY:Christmas Reading for Children
DESCRIPTION:Come join us for a cozy Christmas Reading for Children\, filled with holiday stories\, hot cocoa\, and festive fun!
URL:https://www.discovernorthampton.co.uk/event/christmas-reading-for-children/
LOCATION:Grandbies\, 26 St Giles' St\, northampton\, Northamptonshire\, NN1 1JA\, United Kingdom
CATEGORIES:Christmas
ATTACH;FMTTYPE=image/png:https://www.discovernorthampton.co.uk/wp-content/uploads/2025/12/Christmas-reading-for-children.png
END:VEVENT
BEGIN:VEVENT
DTSTART;TZID=Europe/London:20251223T130000
DTEND;TZID=Europe/London:20251223T200000
DTSTAMP:20260420T211003
CREATED:20251224T120009Z
LAST-MODIFIED:20251224T120009Z
UID:133414-1766494800-1766520000@www.discovernorthampton.co.uk
SUMMARY:Northampton Market Square On Ice
DESCRIPTION:Northampton Market SquareÂ On Ice â€“Â NN1 2DF\n4th December 2025 â€“ 4th January 2026\nThis Christmas\, Northamptonâ€™s Market Square will be transformed into a sparkling winter wonderland! \nGather your family and friends\, lace up your skates\, and join us for this lovely festive experience. \nWhether youâ€™re a seasoned skater or stepping onto the ice for the first time\, all abilities are welcome and we have skating aids available to hire. \nThe Market SquareÂ On Ice\, bringing Christmas cheer right at the heart of town.
URL:https://www.discovernorthampton.co.uk/event/northampton-market-square-on-ice-7/2025-12-23/
LOCATION:Northampton Market Square
CATEGORIES:Christmas
ATTACH;FMTTYPE=image/jpeg:https://www.discovernorthampton.co.uk/wp-content/uploads/2025/12/2461x925-digital-assets-Christmas-on-the-market-square-1.0-2048x770-1.jpg
END:VEVENT
BEGIN:VEVENT
DTSTART;TZID=Europe/London:20251223T190000
DTEND;TZID=Europe/London:20251223T210000
DTSTAMP:20260420T211003
CREATED:20251204T160459Z
LAST-MODIFIED:20251204T160459Z
UID:133013-1766516400-1766523600@www.discovernorthampton.co.uk
SUMMARY:Xmas cheese and wine - SOLD OUT
DESCRIPTION:Cheese and wine\, one hell of a time! \n\n\n\n\nWhen it comes to cheese and wine\, no-one does it better than us. Weâ€™ll have a huge selection of new cheeses\, exclusive to the Christmas period\, with a delicious wine to go with each one. \nLooking to take your Xmas meal to the next level? Discover your favourite pairing\, and bring them home in time for Christmas!
URL:https://www.discovernorthampton.co.uk/event/xmas-cheese-and-wine-sold-out-2/
LOCATION:V and B\, 10 St Giles' Square\,\, Northampton\, NN1 1DA\, United Kingdom
CATEGORIES:Christmas
ATTACH;FMTTYPE=image/png:https://www.discovernorthampton.co.uk/wp-content/uploads/2025/12/Screenshot-2025-12-04-155916.png
END:VEVENT
BEGIN:VEVENT
DTSTART;TZID=Europe/London:20251224T140000
DTEND;TZID=Europe/London:20251224T220000
DTSTAMP:20260420T211003
CREATED:20251224T113433Z
LAST-MODIFIED:20251224T113433Z
UID:133390-1766584800-1766613600@www.discovernorthampton.co.uk
SUMMARY:Christmas at the King Billy
DESCRIPTION:Â CHRISTMAS AT THE KING BILLY!Â \nMerry Christmas\, everyone!Â \nWe know Christmas can be a funny old time â€” but here at The King Billy\, itâ€™s all about music\, drinks\, and great connections. Come celebrate the season with us in true Billy style!\nHereâ€™s whatâ€™s happening this Christmas:\nÂ Christmas EvePub opens from 2pm for anyone lucky enough to finish work early!Stick around for our weekly jam night\, with a sprinkle of festive spirit to get you in the mood.\nÂ Christmas DayWeâ€™re open 12pm â€“ 2pm to raise a glass with our amazing regulars.A huge thank you for all your love and support this year!Â \nÂ Boxing DayOpen 2pm â€“ 7pm with Brighton Riot bringing the energy to help you dance off the Christmas indulgence!\nSo grab your families and bring your mates\, and join us for a Billy Christmas to remember!Â 
URL:https://www.discovernorthampton.co.uk/event/christmas-at-the-king-billy/
LOCATION:The King Billy Music Bar\, 2 Commercial Street\, Northampton\, NN1 1PJ\, United Kingdom
CATEGORIES:Christmas
ATTACH;FMTTYPE=image/jpeg:https://www.discovernorthampton.co.uk/wp-content/uploads/2025/12/569305336_122143155356855719_1415323461319445644_n.jpg
END:VEVENT
BEGIN:VEVENT
DTSTART;TZID=Europe/London:20251224T160000
DTEND;TZID=Europe/London:20251224T160000
DTSTAMP:20260420T211003
CREATED:20251224T113922Z
LAST-MODIFIED:20251224T113922Z
UID:133398-1766592000-1766592000@www.discovernorthampton.co.uk
SUMMARY:Christmas Eve Carols by Candlelight
DESCRIPTION:Please join us for this yearâ€™s Christmas Carol Service by Candlelight at 4pm on Christmas Eve.\nA mixture of singing and readings about the Christmas story this service is just lovely.\nThe service starts in candlelight moving to a lighted service then back to candlelight.\nAfter there will be homemade mince pies\, mulled wine and hot chocolate.\nEnter via the West Door ( Sheep Street) or the South Porch ( Church Lane).\nArrive early for a seat as last year it was packed.
URL:https://www.discovernorthampton.co.uk/event/christmas-eve-carols-by-candlelight/
LOCATION:Church of the Holy Sepulchre\, Sheep Street\, Northampton\, Northamptonshire\, NN1 2LY
CATEGORIES:Christmas
ATTACH;FMTTYPE=image/jpeg:https://www.discovernorthampton.co.uk/wp-content/uploads/2025/12/581203955_122227358834139991_3962375157140756421_n.jpg
END:VEVENT
BEGIN:VEVENT
DTSTART;TZID=Europe/London:20251227T110000
DTEND;TZID=Europe/London:20251227T210000
DTSTAMP:20260420T211003
CREATED:20251224T115210Z
LAST-MODIFIED:20251224T115210Z
UID:133404-1766833200-1766869200@www.discovernorthampton.co.uk
SUMMARY:Northampton Market Square On Ice
DESCRIPTION:Northampton Market Square On Ice â€“Â NN1 2DF\n4th December 2025 â€“ 4th January 2026\nThis Christmas\, Northamptonâ€™s Market Square will be transformed into a sparkling winter wonderland! \nGather your family and friends\, lace up your skates\, and join us for this lovely festive experience. \nWhether youâ€™re a seasoned skater or stepping onto the ice for the first time\, all abilities are welcome and we have skating aids available to hire. \nThe Market SquareÂ On Ice\, bringing Christmas cheer right at the heart of town.
URL:https://www.discovernorthampton.co.uk/event/northampton-market-square-on-ice-5/2025-12-27/
LOCATION:Northampton Market Square
CATEGORIES:Christmas
ATTACH;FMTTYPE=image/jpeg:https://www.discovernorthampton.co.uk/wp-content/uploads/2025/12/2461x925-digital-assets-Christmas-on-the-market-square-1.0-2048x770-1.jpg
END:VEVENT
BEGIN:VEVENT
DTSTART;TZID=Europe/London:20251228T110000
DTEND;TZID=Europe/London:20251228T200000
DTSTAMP:20260420T211003
CREATED:20251224T115753Z
LAST-MODIFIED:20251224T115756Z
UID:133408-1766919600-1766952000@www.discovernorthampton.co.uk
SUMMARY:Northampton Market Square On Ice
DESCRIPTION:Northampton Market Square On Ice â€“Â NN1 2DF\n4th December 2025 â€“ 4th January 2026\nThis Christmas\, Northamptonâ€™s Market Square will be transformed into a sparkling winter wonderland! \nGather your family and friends\, lace up your skates\, and join us for this lovely festive experience. \nWhether youâ€™re a seasoned skater or stepping onto the ice for the first time\, all abilities are welcome and we have skating aids available to hire. \nThe Market SquareÂ On Ice\, bringing Christmas cheer right at the heart of town.
URL:https://www.discovernorthampton.co.uk/event/northampton-market-square-on-ice-6/2025-12-28/
LOCATION:Northampton Market Square
CATEGORIES:Christmas
ATTACH;FMTTYPE=image/jpeg:https://www.discovernorthampton.co.uk/wp-content/uploads/2025/12/2461x925-digital-assets-Christmas-on-the-market-square-1.0-2048x770-1.jpg
END:VEVENT
END:VCALENDAR