BEGIN:VCALENDAR
VERSION:2.0
PRODID:-//Northampton BID - ECPv6.2.4//NONSGML v1.0//EN
CALSCALE:GREGORIAN
METHOD:PUBLISH
X-WR-CALNAME:Northampton BID
X-ORIGINAL-URL:https://www.discovernorthampton.co.uk
X-WR-CALDESC:Events for Northampton BID
REFRESH-INTERVAL;VALUE=DURATION:PT1H
X-Robots-Tag:noindex
X-PUBLISHED-TTL:PT1H
BEGIN:VTIMEZONE
TZID:Europe/London
BEGIN:DAYLIGHT
TZOFFSETFROM:+0000
TZOFFSETTO:+0100
TZNAME:BST
DTSTART:20250330T010000
END:DAYLIGHT
BEGIN:STANDARD
TZOFFSETFROM:+0100
TZOFFSETTO:+0000
TZNAME:GMT
DTSTART:20251026T010000
END:STANDARD
BEGIN:DAYLIGHT
TZOFFSETFROM:+0000
TZOFFSETTO:+0100
TZNAME:BST
DTSTART:20260329T010000
END:DAYLIGHT
BEGIN:STANDARD
TZOFFSETFROM:+0100
TZOFFSETTO:+0000
TZNAME:GMT
DTSTART:20261025T010000
END:STANDARD
END:VTIMEZONE
BEGIN:VEVENT
DTSTART;TZID=Europe/London:20251229T130000
DTEND;TZID=Europe/London:20251229T200000
DTSTAMP:20260420T220609
CREATED:20251224T120009Z
LAST-MODIFIED:20251224T120009Z
UID:133415-1767013200-1767038400@www.discovernorthampton.co.uk
SUMMARY:Northampton Market Square On Ice
DESCRIPTION:Northampton Market Square On Ice – NN1 2DF\n4th December 2025 – 4th January 2026\nThis Christmas\, Northampton’s Market Square will be transformed into a sparkling winter wonderland! \nGather your family and friends\, lace up your skates\, and join us for this lovely festive experience. \nWhether you’re a seasoned skater or stepping onto the ice for the first time\, all abilities are welcome and we have skating aids available to hire. \nThe Market Square On Ice\, bringing Christmas cheer right at the heart of town.
URL:https://www.discovernorthampton.co.uk/event/northampton-market-square-on-ice-7/2025-12-29/
LOCATION:Northampton Market Square
CATEGORIES:Christmas
ATTACH;FMTTYPE=image/jpeg:https://www.discovernorthampton.co.uk/wp-content/uploads/2025/12/2461x925-digital-assets-Christmas-on-the-market-square-1.0-2048x770-1.jpg
END:VEVENT
BEGIN:VEVENT
DTSTART;TZID=Europe/London:20251230T130000
DTEND;TZID=Europe/London:20251230T200000
DTSTAMP:20260420T220609
CREATED:20251224T120009Z
LAST-MODIFIED:20251224T120009Z
UID:133416-1767099600-1767124800@www.discovernorthampton.co.uk
SUMMARY:Northampton Market Square On Ice
DESCRIPTION:Northampton Market Square On Ice – NN1 2DF\n4th December 2025 – 4th January 2026\nThis Christmas\, Northampton’s Market Square will be transformed into a sparkling winter wonderland! \nGather your family and friends\, lace up your skates\, and join us for this lovely festive experience. \nWhether you’re a seasoned skater or stepping onto the ice for the first time\, all abilities are welcome and we have skating aids available to hire. \nThe Market Square On Ice\, bringing Christmas cheer right at the heart of town.
URL:https://www.discovernorthampton.co.uk/event/northampton-market-square-on-ice-7/2025-12-30/
LOCATION:Northampton Market Square
CATEGORIES:Christmas
ATTACH;FMTTYPE=image/jpeg:https://www.discovernorthampton.co.uk/wp-content/uploads/2025/12/2461x925-digital-assets-Christmas-on-the-market-square-1.0-2048x770-1.jpg
END:VEVENT
BEGIN:VEVENT
DTSTART;TZID=Europe/London:20251230T190000
DTEND;TZID=Europe/London:20251230T210000
DTSTAMP:20260420T220609
CREATED:20251204T165513Z
LAST-MODIFIED:20251204T165513Z
UID:133015-1767121200-1767128400@www.discovernorthampton.co.uk
SUMMARY:PARTY WINE TASTING
DESCRIPTION:Raise a glass to the new year!
URL:https://www.discovernorthampton.co.uk/event/party-wine-tasting/
LOCATION:V and B\, 10 St Giles' Square\,\, Northampton\, NN1 1DA\, United Kingdom
CATEGORIES:Christmas
ATTACH;FMTTYPE=image/png:https://www.discovernorthampton.co.uk/wp-content/uploads/2025/12/Screenshot-2025-12-04-165423.png
END:VEVENT
BEGIN:VEVENT
DTSTART;TZID=Europe/London:20251231T130000
DTEND;TZID=Europe/London:20251231T170000
DTSTAMP:20260420T220609
CREATED:20251224T120453Z
LAST-MODIFIED:20251224T120453Z
UID:133419-1767186000-1767200400@www.discovernorthampton.co.uk
SUMMARY:Northampton Market Square On Ice
DESCRIPTION:Northampton Market Square On Ice – NN1 2DF\n4th December 2025 – 4th January 2026\nThis Christmas\, Northampton’s Market Square will be transformed into a sparkling winter wonderland! \nGather your family and friends\, lace up your skates\, and join us for this lovely festive experience. \nWhether you’re a seasoned skater or stepping onto the ice for the first time\, all abilities are welcome and we have skating aids available to hire. \nThe Market Square On Ice\, bringing Christmas cheer right at the heart of town. \n 
URL:https://www.discovernorthampton.co.uk/event/northampton-market-square-on-ice-9/
LOCATION:Northampton Market Square
CATEGORIES:Christmas
ATTACH;FMTTYPE=image/jpeg:https://www.discovernorthampton.co.uk/wp-content/uploads/2025/12/2461x925-digital-assets-Christmas-on-the-market-square-1.0-2048x770-1.jpg
END:VEVENT
BEGIN:VEVENT
DTSTART;TZID=Europe/London:20260103T110000
DTEND;TZID=Europe/London:20260103T210000
DTSTAMP:20260420T220609
CREATED:20251224T115210Z
LAST-MODIFIED:20251224T115210Z
UID:133405-1767438000-1767474000@www.discovernorthampton.co.uk
SUMMARY:Northampton Market Square On Ice
DESCRIPTION:Northampton Market Square On Ice – NN1 2DF\n4th December 2025 – 4th January 2026\nThis Christmas\, Northampton’s Market Square will be transformed into a sparkling winter wonderland! \nGather your family and friends\, lace up your skates\, and join us for this lovely festive experience. \nWhether you’re a seasoned skater or stepping onto the ice for the first time\, all abilities are welcome and we have skating aids available to hire. \nThe Market Square On Ice\, bringing Christmas cheer right at the heart of town.
URL:https://www.discovernorthampton.co.uk/event/northampton-market-square-on-ice-5/2026-01-03/
LOCATION:Northampton Market Square
CATEGORIES:Christmas
ATTACH;FMTTYPE=image/jpeg:https://www.discovernorthampton.co.uk/wp-content/uploads/2025/12/2461x925-digital-assets-Christmas-on-the-market-square-1.0-2048x770-1.jpg
END:VEVENT
BEGIN:VEVENT
DTSTART;TZID=Europe/London:20260103T110000
DTEND;TZID=Europe/London:20260103T210000
DTSTAMP:20260420T220609
CREATED:20251224T120613Z
LAST-MODIFIED:20251224T120613Z
UID:133421-1767438000-1767474000@www.discovernorthampton.co.uk
SUMMARY:Northampton Market Square On Ice
DESCRIPTION:Northampton Market Square On Ice – NN1 2DF\n4th December 2025 – 4th January 2026\nThis Christmas\, Northampton’s Market Square will be transformed into a sparkling winter wonderland! \nGather your family and friends\, lace up your skates\, and join us for this lovely festive experience. \nWhether you’re a seasoned skater or stepping onto the ice for the first time\, all abilities are welcome and we have skating aids available to hire. \nThe Market Square On Ice\, bringing Christmas cheer right at the heart of town.
URL:https://www.discovernorthampton.co.uk/event/northampton-market-square-on-ice-10/
LOCATION:Northampton Market Square
CATEGORIES:Christmas
ATTACH;FMTTYPE=image/jpeg:https://www.discovernorthampton.co.uk/wp-content/uploads/2025/12/2461x925-digital-assets-Christmas-on-the-market-square-1.0-2048x770-1.jpg
END:VEVENT
BEGIN:VEVENT
DTSTART;TZID=Europe/London:20260104T110000
DTEND;TZID=Europe/London:20260104T200000
DTSTAMP:20260420T220609
CREATED:20251224T115753Z
LAST-MODIFIED:20251224T115756Z
UID:133409-1767524400-1767556800@www.discovernorthampton.co.uk
SUMMARY:Northampton Market Square On Ice
DESCRIPTION:Northampton Market Square On Ice – NN1 2DF\n4th December 2025 – 4th January 2026\nThis Christmas\, Northampton’s Market Square will be transformed into a sparkling winter wonderland! \nGather your family and friends\, lace up your skates\, and join us for this lovely festive experience. \nWhether you’re a seasoned skater or stepping onto the ice for the first time\, all abilities are welcome and we have skating aids available to hire. \nThe Market Square On Ice\, bringing Christmas cheer right at the heart of town.
URL:https://www.discovernorthampton.co.uk/event/northampton-market-square-on-ice-6/2026-01-04/
LOCATION:Northampton Market Square
CATEGORIES:Christmas
ATTACH;FMTTYPE=image/jpeg:https://www.discovernorthampton.co.uk/wp-content/uploads/2025/12/2461x925-digital-assets-Christmas-on-the-market-square-1.0-2048x770-1.jpg
END:VEVENT
END:VCALENDAR