BEGIN:VCALENDAR
VERSION:2.0
PRODID:-//Northampton BID - ECPv6.2.4//NONSGML v1.0//EN
CALSCALE:GREGORIAN
METHOD:PUBLISH
X-WR-CALNAME:Northampton BID
X-ORIGINAL-URL:https://www.discovernorthampton.co.uk
X-WR-CALDESC:Events for Northampton BID
REFRESH-INTERVAL;VALUE=DURATION:PT1H
X-Robots-Tag:noindex
X-PUBLISHED-TTL:PT1H
BEGIN:VTIMEZONE
TZID:Europe/London
BEGIN:DAYLIGHT
TZOFFSETFROM:+0000
TZOFFSETTO:+0100
TZNAME:BST
DTSTART:20250330T010000
END:DAYLIGHT
BEGIN:STANDARD
TZOFFSETFROM:+0100
TZOFFSETTO:+0000
TZNAME:GMT
DTSTART:20251026T010000
END:STANDARD
END:VTIMEZONE
BEGIN:VEVENT
DTSTART;TZID=Europe/London:20250515T193000
DTEND;TZID=Europe/London:20250515T193000
DTSTAMP:20260426T012317
CREATED:20250515T092833Z
LAST-MODIFIED:20250515T092833Z
UID:126394-1747337400-1747337400@www.discovernorthampton.co.uk
SUMMARY:Rob Beckett: Giraffe
DESCRIPTION:Yes! Bobby Beckles is back on tour.  Smashing the life out of the M25\, M1\, M5 and any other road that’s in my way. From Bromley to Brisbane\, my new show Giraffe is going worldwide. \nExpectations on me: put on 3 stone from takeaways and post-show drinking. \nExpectations of you: leave the gig happier than when you arrived. \nMy wife thinks it’s going to be tough for me to be away from the family and don’t get me wrong\, I do love my children/podcast content providers… but I also enjoy a lie-in and a hotel buffet breakfast. I think I’ll cope. \nWhat else is there to do? Sit next to your partner on the sofa scrolling TikTok in silence again?  You did that the last three nights. See you there! \nHost of Sky’s Rob Beckett’s Smart TV and Rob & Romesh Vs. He’s also the unmistakable voice of Channel 4’s Celebs Go Dating and the smash-hit podcast Parenting Hell.
URL:https://www.discovernorthampton.co.uk/event/rob-beckett-giraffe/
LOCATION:Royal and Derngate Theatre\, 19-21 Guildhall Road\, Northampton\, Northamptonshire\, NN1 1DP
CATEGORIES:Comedy Night
ATTACH;FMTTYPE=image/png:https://www.discovernorthampton.co.uk/wp-content/uploads/2025/05/Rob-Beckett-Website-1170x476-1.png
ORGANIZER;CN="Royal and Derngate":MAILTO:BoxOffice@royalandderngate.co.uk
END:VEVENT
END:VCALENDAR