BEGIN:VCALENDAR
VERSION:2.0
PRODID:-//Northampton BID - ECPv6.2.4//NONSGML v1.0//EN
CALSCALE:GREGORIAN
METHOD:PUBLISH
X-WR-CALNAME:Northampton BID
X-ORIGINAL-URL:https://www.discovernorthampton.co.uk
X-WR-CALDESC:Events for Northampton BID
REFRESH-INTERVAL;VALUE=DURATION:PT1H
X-Robots-Tag:noindex
X-PUBLISHED-TTL:PT1H
BEGIN:VTIMEZONE
TZID:Europe/London
BEGIN:DAYLIGHT
TZOFFSETFROM:+0000
TZOFFSETTO:+0100
TZNAME:BST
DTSTART:20250330T010000
END:DAYLIGHT
BEGIN:STANDARD
TZOFFSETFROM:+0100
TZOFFSETTO:+0000
TZNAME:GMT
DTSTART:20251026T010000
END:STANDARD
END:VTIMEZONE
BEGIN:VEVENT
DTSTART;TZID=Europe/London:20250604T193000
DTEND;TZID=Europe/London:20250604T193000
DTSTAMP:20260425T212956
CREATED:20250529T170728Z
LAST-MODIFIED:20250529T170728Z
UID:127166-1749065400-1749065400@www.discovernorthampton.co.uk
SUMMARY:Viggo Venn
DESCRIPTION:Norwegian clown Viggo Venn moved to this country with one dream: to be a British comedian. \nThe rest\, you already know about. After blowing away the competition in an explosion of hi-vis jackets\, balloons\, and joyous idiocy\, Viggo became the most talked-about new entertainer in the country by winning Britain’s Got Talent in June 2023. \nDon’t miss him as he staggers bewildered into your town for a first national tour. \nPlease Note: Due to having badly broken his foot\, this show was rescheduled from Sat 22 February.
URL:https://www.discovernorthampton.co.uk/event/viggo-venn/
LOCATION:Royal and Derngate Theatre\, 19-21 Guildhall Road\, Northampton\, Northamptonshire\, NN1 1DP
CATEGORIES:Comedy Night,Royal and Derngate,Theatre
ATTACH;FMTTYPE=image/png:https://www.discovernorthampton.co.uk/wp-content/uploads/2025/05/Viggo-Venn-2340x978-Website-1170x476-1.png
ORGANIZER;CN="Royal and Derngate":MAILTO:BoxOffice@royalandderngate.co.uk
END:VEVENT
END:VCALENDAR