BEGIN:VCALENDAR
VERSION:2.0
PRODID:-//Northampton BID - ECPv6.2.4//NONSGML v1.0//EN
CALSCALE:GREGORIAN
METHOD:PUBLISH
X-ORIGINAL-URL:https://www.discovernorthampton.co.uk
X-WR-CALDESC:Events for Northampton BID
REFRESH-INTERVAL;VALUE=DURATION:PT1H
X-Robots-Tag:noindex
X-PUBLISHED-TTL:PT1H
BEGIN:VTIMEZONE
TZID:Europe/London
BEGIN:DAYLIGHT
TZOFFSETFROM:+0000
TZOFFSETTO:+0100
TZNAME:BST
DTSTART:20250330T010000
END:DAYLIGHT
BEGIN:STANDARD
TZOFFSETFROM:+0100
TZOFFSETTO:+0000
TZNAME:GMT
DTSTART:20251026T010000
END:STANDARD
END:VTIMEZONE
BEGIN:VEVENT
DTSTART;TZID=Europe/London:20250630T200000
DTEND;TZID=Europe/London:20250630T200000
DTSTAMP:20260425T234720
CREATED:20250428T095943Z
LAST-MODIFIED:20250428T095943Z
UID:126078-1751313600-1751313600@www.discovernorthampton.co.uk
SUMMARY:Paul McCaffrey & Ali Woods - Edinburgh Previews - 30th June
DESCRIPTION:Venue: The Lab\, 95-97 Charles St\, Northampton NN1 3BG \nDate: Monday 30th July \nTimes: Doors 7:00pm Show 8:00pm \nPrice: £10 a ticket plus £1 booking fee. \nFeaturing: Paul McCaffrey & Ali Woods â€“ Work in progress shows
URL:https://www.discovernorthampton.co.uk/event/paul-mccaffrey-ali-woods-edinburgh-previews-30th-june/
LOCATION:The Lab\, 95-97 Charles St\, Northampton\, Northamptonshire\, NN1 3BG\, United Kingdom
CATEGORIES:2025 Comedy Festival,Comedy Night
ATTACH;FMTTYPE=image/jpeg:https://www.discovernorthampton.co.uk/wp-content/uploads/2025/04/TheLab30thJune.jpg
END:VEVENT
END:VCALENDAR