BEGIN:VCALENDAR
VERSION:2.0
PRODID:-//Northampton BID - ECPv6.2.4//NONSGML v1.0//EN
CALSCALE:GREGORIAN
METHOD:PUBLISH
X-WR-CALNAME:Northampton BID
X-ORIGINAL-URL:https://www.discovernorthampton.co.uk
X-WR-CALDESC:Events for Northampton BID
REFRESH-INTERVAL;VALUE=DURATION:PT1H
X-Robots-Tag:noindex
X-PUBLISHED-TTL:PT1H
BEGIN:VTIMEZONE
TZID:Europe/London
BEGIN:DAYLIGHT
TZOFFSETFROM:+0000
TZOFFSETTO:+0100
TZNAME:BST
DTSTART:20250330T010000
END:DAYLIGHT
BEGIN:STANDARD
TZOFFSETFROM:+0100
TZOFFSETTO:+0000
TZNAME:GMT
DTSTART:20251026T010000
END:STANDARD
END:VTIMEZONE
BEGIN:VEVENT
DTSTART;TZID=Europe/London:20250523T193000
DTEND;TZID=Europe/London:20250523T193000
DTSTAMP:20260426T001540
CREATED:20250515T103859Z
LAST-MODIFIED:20250515T103859Z
UID:126429-1748028600-1748028600@www.discovernorthampton.co.uk
SUMMARY:Nick Mohammed is Mr. Swallow in Show Pony
DESCRIPTION:After a sell-out 2023 UK tour and extended run in London’s West End\, Taskmaster loser Nick Mohammed returns as his critically acclaimed alter-ego Mr. Swallow with a brand new show. \nShow Pony has been described by Mr. Swallow as “payback for everyone who didn’t come to the last tour” and will cover everything from not having his own sitcom to not having his own sitcom… and everything in between (critical race theory). As per – expect magic\, music and a whole load of brand new mistakes. \nNick Mohammed is one of the UK’s most celebrated comedians\, actors and writers. Nick has received feverish critical acclaim for his previous Mr. Swallow shows Dracula\, Houdini and A Christmas Carol-ish… alongside his first UK tour The Very Best & Worst of Mr. Swallow. \nMr. Swallow has appeared in Dictionary Corner on numerous episodes of 8 Out of 10 Cats Does Countdown\, with clips of his performances quickly going viral\, along with entertaining the great and the good at the 2024 BAFTA Film Awards\, with frankly terrifying results! \nNick plays Nate in Apple TV’s hit multi award-winning series Ted Lasso\, for which he was nominated twice for Outstanding Supporting Actor at the Emmy Awards. He has recently been seen starring in Sally Wainwright’s Renegade Nell (Disney+) and Steven Moffat’s Douglas Is Cancelled (ITV). Nick created\, wrote\, and starred (alongside David Schwimmer) in his own Sky TV hit show Intelligence. Other appearances include Stath Lets Flats (Channel 4)\, Inside No. 9 (BBC)\, This Time with Alan Partridge (BBC)\, and he’ll soon be seen starring alongside Bryce Dallas Howard and Orlando Bloom in Prime Video’s Deep Cover. He was one of the worst contestants in the history of Channel 4’s Taskmaster.
URL:https://www.discovernorthampton.co.uk/event/nick-mohammed-is-mr-swallow-in-show-pony/
LOCATION:Royal and Derngate Theatre\, 19-21 Guildhall Road\, Northampton\, Northamptonshire\, NN1 1DP
CATEGORIES:Comedy Night,Theatre
ATTACH;FMTTYPE=image/png:https://www.discovernorthampton.co.uk/wp-content/uploads/2025/05/Nick-Mohammed-Mr-Swallow-Show-Pony_Website-1170x476-1.png
ORGANIZER;CN="Royal and Derngate":MAILTO:BoxOffice@royalandderngate.co.uk
END:VEVENT
BEGIN:VEVENT
DTSTART;TZID=Europe/London:20250524T193000
DTEND;TZID=Europe/London:20250524T193000
DTSTAMP:20260426T001540
CREATED:20250515T105942Z
LAST-MODIFIED:20250515T105942Z
UID:126432-1748115000-1748115000@www.discovernorthampton.co.uk
SUMMARY:Nathan Caton: My Big Fat Blasian Wedding
DESCRIPTION:Nathan Caton is an award-winning comedian as seen on Live At The Apollo\, Mock The Week\, Russell Howard’s Good News and BBC R4’s Can’t Tell Nathan Caton Nothing… \nIt’s official. Nathan’s married and off the market – sorry ladies… and gentlemen! What should’ve been the happiest time of his life turned out to be the most stressful and expensive time ever. The end result? Well\, it was either therapy or turn it into comedy. Nathan chose the latter… \nNathan is one of the most exciting young comedians on the scene. Gigging since the tender age of 19\, over the last decade he has established himself both as a circuit headliner\, and a name on TV and radio.
URL:https://www.discovernorthampton.co.uk/event/nathan-caton-my-big-fat-blasian-wedding/
LOCATION:Royal and Derngate Theatre\, 19-21 Guildhall Road\, Northampton\, Northamptonshire\, NN1 1DP
CATEGORIES:Comedy Night
ATTACH;FMTTYPE=image/png:https://www.discovernorthampton.co.uk/wp-content/uploads/2025/05/Nathan-Caton_Website_2340x978px-1170x476-1.png
ORGANIZER;CN="Royal and Derngate":MAILTO:BoxOffice@royalandderngate.co.uk
END:VEVENT
END:VCALENDAR