BEGIN:VCALENDAR
VERSION:2.0
PRODID:-//Northampton BID - ECPv6.2.4//NONSGML v1.0//EN
CALSCALE:GREGORIAN
METHOD:PUBLISH
X-WR-CALNAME:Northampton BID
X-ORIGINAL-URL:https://www.discovernorthampton.co.uk
X-WR-CALDESC:Events for Northampton BID
REFRESH-INTERVAL;VALUE=DURATION:PT1H
X-Robots-Tag:noindex
X-PUBLISHED-TTL:PT1H
BEGIN:VTIMEZONE
TZID:Europe/London
BEGIN:DAYLIGHT
TZOFFSETFROM:+0000
TZOFFSETTO:+0100
TZNAME:BST
DTSTART:20250330T010000
END:DAYLIGHT
BEGIN:STANDARD
TZOFFSETFROM:+0100
TZOFFSETTO:+0000
TZNAME:GMT
DTSTART:20251026T010000
END:STANDARD
END:VTIMEZONE
BEGIN:VEVENT
DTSTART;TZID=Europe/London:20250604T193000
DTEND;TZID=Europe/London:20250604T193000
DTSTAMP:20260425T165258
CREATED:20250529T170728Z
LAST-MODIFIED:20250529T170728Z
UID:127166-1749065400-1749065400@www.discovernorthampton.co.uk
SUMMARY:Viggo Venn
DESCRIPTION:Norwegian clown Viggo Venn moved to this country with one dream: to be a British comedian. \nThe rest\, you already know about. After blowing away the competition in an explosion of hi-vis jackets\, balloons\, and joyous idiocy\, Viggo became the most talked-about new entertainer in the country by winning Britain’s Got Talent in June 2023. \nDon’t miss him as he staggers bewildered into your town for a first national tour. \nPlease Note: Due to having badly broken his foot\, this show was rescheduled from Sat 22 February.
URL:https://www.discovernorthampton.co.uk/event/viggo-venn/
LOCATION:Royal and Derngate Theatre\, 19-21 Guildhall Road\, Northampton\, Northamptonshire\, NN1 1DP
CATEGORIES:Comedy Night,Royal and Derngate,Theatre
ATTACH;FMTTYPE=image/png:https://www.discovernorthampton.co.uk/wp-content/uploads/2025/05/Viggo-Venn-2340x978-Website-1170x476-1.png
ORGANIZER;CN="Royal and Derngate":MAILTO:BoxOffice@royalandderngate.co.uk
END:VEVENT
BEGIN:VEVENT
DTSTART;TZID=Europe/London:20250605T200000
DTEND;TZID=Europe/London:20250605T200000
DTSTAMP:20260425T165258
CREATED:20250428T093443Z
LAST-MODIFIED:20250428T093443Z
UID:126059-1749153600-1749153600@www.discovernorthampton.co.uk
SUMMARY:Comedy at the Picturedrome
DESCRIPTION:Andrew Mensah\nHaving only begun his comedy career in 2018\, Andrew quickly gained plaudits and was crowned winner of The Cavendish Arms Summer Competition 2019. His relatable style and ability to speak on his life experience in an unapologetic manner has established him as one of the most exciting emerging comedians on the circuit today.\n\nAlongside stand-up Andrew is also a presenter – he hosts both series of ‘Fantasy Football League’ accompanying Ellis James and Matt Lucas in presenting the revival for Sky as well as Premier League’s ‘Welcome to the Weekend.’ He has had his first short film STILL NIL NIL commissioned by the BBC with Big Talk. Andrew also appears regularly on Capital Xtra around their football coverage.\n\nRob Rouse\nOne of stand up comedy’s most lively\, loveable and dynamic performers\, Rob Rouse burst onto the comedy scene when he won Channel 4’s prestigious So You Think You’re Funny? competition at the Edinburgh Festival. Since then\, his comic storytelling has been a regular feature at major comedy clubs and venues across the UK.\n\nHis TV appearances include Upstart Crow (BBC Two)\, 8 Out Of 10 Cats (Channel 4)\, The Friday Night Project (Channel 4)\, Live at the Comedy Store (Comedy Central)\, Celebrity Juice (ITV2) and Dave’s One Night Stand (Dave). \n\nSamantha Day\nLeicester Comedy Festival Silver Stand Up Award – Winner (2025). Samantha is the sassy\, stand-up mum of six Millennials/Gen Zers. Her comedy career kicked off about six years ago\, after three decades as an accountant and single mum. Now she’s been freed from the city\, she’s really hit her stride\, as a truly original act who’s progressing fast on the circuit.\n \nMatt Stellingwerf\nMatt has won four NZ Comedy Guild Awards\, been nominated for several others\, and was nominated as Best Newcomer at the 2014 NZ International Comedy Festival. Matt now resides in the UK and is creating the very same reputation for UK audiences as he has done in his native NZ.\nMatt was a 2015 & 2016 nominee for the prestigious Billy T Award. A renowned MC and compere\, Matt is a 3-time nominee for Best MC in New Zealand.\n“Matt utterly stole the show on Saturday! He’s an outstanding act” – Comedy Cafe\, London
URL:https://www.discovernorthampton.co.uk/event/comedy-at-the-picturedrome-4/
LOCATION:The Picturedrome\, 222 Kettering Rd\, Northampton\, Northants\, NN1 4BN\, United Kingdom
CATEGORIES:Comedy Night
ATTACH;FMTTYPE=image/png:https://www.discovernorthampton.co.uk/wp-content/uploads/2025/04/JUNE-2025-Comedy-insta-1-768x768-1.png
END:VEVENT
BEGIN:VEVENT
DTSTART;TZID=Europe/London:20250605T200000
DTEND;TZID=Europe/London:20250605T200000
DTSTAMP:20260425T165258
CREATED:20250428T094044Z
LAST-MODIFIED:20250428T094044Z
UID:126062-1749153600-1749153600@www.discovernorthampton.co.uk
SUMMARY:Genevieve's Cafe - 5th June
DESCRIPTION:Venue:  Genevieveâ€™s Cafe\, Pineham Village\, Dragonfly Way\, Upton\, Northampton NN4 9EH \nTimes:  Doors from 6pm â€“ Show 8:00pm (Food served before the show) \nPrice: £12 Plus booking fee \nLine up subject to change
URL:https://www.discovernorthampton.co.uk/event/genevieves-cafe-5th-june/
LOCATION:Genevieveâ€™s Cafe\, Pineham Village\, Dragonfly Way\, Upton\,\, Northampton\, NN4 9EH
CATEGORIES:Comedy Night
ATTACH;FMTTYPE=image/jpeg:https://www.discovernorthampton.co.uk/wp-content/uploads/2025/04/Genevieves-March-2025.jpg
END:VEVENT
BEGIN:VEVENT
DTSTART;TZID=Europe/London:20250605T200000
DTEND;TZID=Europe/London:20250605T200000
DTSTAMP:20260425T165258
CREATED:20250428T094746Z
LAST-MODIFIED:20250428T094746Z
UID:126066-1749153600-1749153600@www.discovernorthampton.co.uk
SUMMARY:Comedy at The Brampton Halt
DESCRIPTION:Venue: Pitsford Rd\, Chapel Brampton\, NN6 8BA \nDate: Thursday 5th June \nTimes: Doors 7:00pm Show 8:00pm \nPrice: £15 a ticket plus £1 booking fee. \nFeaturing: Lindsey Santoro\, Markus Birdman\, Ben Briggs\, Pete Teckman
URL:https://www.discovernorthampton.co.uk/event/comedy-at-the-brampton-halt/
CATEGORIES:Comedy Night
ATTACH;FMTTYPE=image/jpeg:https://www.discovernorthampton.co.uk/wp-content/uploads/2025/04/Brampton-Halt-October.jpg
END:VEVENT
BEGIN:VEVENT
DTSTART;TZID=Europe/London:20250607T200000
DTEND;TZID=Europe/London:20250607T200000
DTSTAMP:20260425T165258
CREATED:20250409T144215Z
LAST-MODIFIED:20250409T144215Z
UID:125697-1749326400-1749326400@www.discovernorthampton.co.uk
SUMMARY:Screaming Blue Murder Comedy Club
DESCRIPTION:Don’t miss our comedy club with compere Dan Evans. \nThis season features many of comedy’s rising stars. \nDoors 7.45pm Show 8pm. \n\nSat 26 April 2025 \nMichael Fabbri\nIngrid Dahle\nDon Biswas \nThis show will take place in the Underground \nBOOK NOW \n\nSat 7 June 2025 \nMatt Green\nWendy Wason\nFunmbi Omotayo \nThis show will take place in the Underground \nBOOK NOW \n\nLine up may be subject to change\, advance booking is recommended. Recommended for ages 16 and above.
URL:https://www.discovernorthampton.co.uk/event/screaming-blue-murder-comedy-club-10/2025-06-07/
LOCATION:Royal and Derngate Theatre\, 19-21 Guildhall Road\, Northampton\, Northamptonshire\, NN1 1DP
CATEGORIES:Comedy Night
ATTACH;FMTTYPE=image/png:https://www.discovernorthampton.co.uk/wp-content/uploads/2025/04/sbm-1170x476-1.png
ORGANIZER;CN="Royal and Derngate":MAILTO:BoxOffice@royalandderngate.co.uk
END:VEVENT
BEGIN:VEVENT
DTSTART;TZID=Europe/London:20250608T193000
DTEND;TZID=Europe/London:20250608T193000
DTSTAMP:20260425T165258
CREATED:20250529T171434Z
LAST-MODIFIED:20250529T171434Z
UID:127178-1749411000-1749411000@www.discovernorthampton.co.uk
SUMMARY:Jenny Eclair: Jokes\, Jokes\, Jokes
DESCRIPTION:In celebration of the release of her hilarious memoir of the same name\, comedian\, novelist\, and professional show-off Jenny Eclair comes to venues nationwide with a brand-new autobiographical show. \n\n\n?From drama school\, (mostly drinking cider and eating sausage rolls)\, sleeping with men who looked like they lived under a carpet\, punk poetry\, anorexia\, bedsit misery\, waitressing and not really having a clue about anything\, to being the first woman to win the Perrier Award\, becoming a mother\, author\, grumpy old woman\, podcaster and nana! ?? \n\n\nStill gigging to sell-out crowds forty years later\, Jenny invites you to look back at what she can remember before she forgets everything. Warning\, punk poetry\, animal impressions and baritone nursery rhyme singing may feature. \n?‘Ruthlessly funny’ The Times ? \nPre-order Jenny’s memoir HERE
URL:https://www.discovernorthampton.co.uk/event/jenny-eclair-jokes-jokes-jokes/
LOCATION:Royal and Derngate Theatre\, 19-21 Guildhall Road\, Northampton\, Northamptonshire\, NN1 1DP
CATEGORIES:Comedy Night,Royal and Derngate,Theatre
ATTACH;FMTTYPE=image/png:https://www.discovernorthampton.co.uk/wp-content/uploads/2025/05/Website-Template-3-1170x476-1.png
ORGANIZER;CN="Royal and Derngate":MAILTO:BoxOffice@royalandderngate.co.uk
END:VEVENT
END:VCALENDAR