BEGIN:VCALENDAR
VERSION:2.0
PRODID:-//Northampton BID - ECPv6.2.4//NONSGML v1.0//EN
CALSCALE:GREGORIAN
METHOD:PUBLISH
X-WR-CALNAME:Northampton BID
X-ORIGINAL-URL:https://www.discovernorthampton.co.uk
X-WR-CALDESC:Events for Northampton BID
REFRESH-INTERVAL;VALUE=DURATION:PT1H
X-Robots-Tag:noindex
X-PUBLISHED-TTL:PT1H
BEGIN:VTIMEZONE
TZID:Europe/London
BEGIN:DAYLIGHT
TZOFFSETFROM:+0000
TZOFFSETTO:+0100
TZNAME:BST
DTSTART:20250330T010000
END:DAYLIGHT
BEGIN:STANDARD
TZOFFSETFROM:+0100
TZOFFSETTO:+0000
TZNAME:GMT
DTSTART:20251026T010000
END:STANDARD
END:VTIMEZONE
BEGIN:VEVENT
DTSTART;TZID=Europe/London:20250609T193000
DTEND;TZID=Europe/London:20250609T193000
DTSTAMP:20260425T170810
CREATED:20250529T171620Z
LAST-MODIFIED:20250529T171620Z
UID:127181-1749497400-1749497400@www.discovernorthampton.co.uk
SUMMARY:…Earnest?
DESCRIPTION:The Edinburgh Fringe smash-hit …Earnest? arrives at Northampton following rave reviews ahead of an eagerly awaited West End run.\n\n\n\n\n\n\n\n\nWhen a traditional production of Oscar Wilde’s classic play gets underway\, everything seems to be going perfectly to plan… that is\, until the lead actor fails to arrive on cue and an actual audience member is chosen to star in the show. \nWhat follows is a madcap medley of impromptu games and spontaneous solutions as the desperate director does his best to keep this faithful production going. But with stage whiskey being swapped\, off-the-cuff auditions being held and muffins being eaten (no matter what state they’re in)\, there’s just no telling what this unique version of The Importance of Being Earnest is going to throw up. Especially when more audience members are drafted in to replace an ever-thinning cast… With the script ripped up and rewritten\, can the show reach its fabulous finale\, just as Oscar Wilde intended? \nThis one-of-a-kind comedy sensation is completely different\, completely chaotic\, and completely Wilde every single night. And who knows\, you might even become a star yourself! Guaranteed to have you laughing whether you’re sitting in the audience… or performing onstage …Earnest? is perfect for fans of The Play That Goes Wrong and Noises Off! \n????? “Get this on the West End now\, please!” – Lost in Theatreland
URL:https://www.discovernorthampton.co.uk/event/earnest/
LOCATION:Royal and Derngate Theatre\, 19-21 Guildhall Road\, Northampton\, Northamptonshire\, NN1 1DP
CATEGORIES:Comedy Night,Royal and Derngate,Theatre
ATTACH;FMTTYPE=image/jpeg:https://www.discovernorthampton.co.uk/wp-content/uploads/2025/05/Earnest_Generic_2340x978_Restricted-1170x476-1.jpg
ORGANIZER;CN="Royal and Derngate":MAILTO:BoxOffice@royalandderngate.co.uk
END:VEVENT
BEGIN:VEVENT
DTSTART;TZID=Europe/London:20250611T200000
DTEND;TZID=Europe/London:20250611T200000
DTSTAMP:20260425T170810
CREATED:20250428T095333Z
LAST-MODIFIED:20250428T095333Z
UID:126069-1749672000-1749672000@www.discovernorthampton.co.uk
SUMMARY:Lindsey Santoro & Hasan Al-Habib - Edinburgh Previews - 11th June
DESCRIPTION:Venue: V and B\, 10 St Gilesâ€™ Square\, Northampton NN1 1DA \nDate: Wednesday 11th June \nTimes: Doors 7:30pm Show 8:00pm \nPrice: £10 a ticket plus £1 booking fee. \nFeaturing: Lindsey Santoro & Hasan Al-Habib
URL:https://www.discovernorthampton.co.uk/event/lindsey-santoro-hasan-al-habib-edinburgh-previews-11th-june/
LOCATION:V and B\, 10 St Giles' Square\,\, Northampton\, NN1 1DA\, United Kingdom
CATEGORIES:2025 Comedy Festival,Comedy Night
ATTACH;FMTTYPE=image/jpeg:https://www.discovernorthampton.co.uk/wp-content/uploads/2025/04/VandB2025.jpg
END:VEVENT
BEGIN:VEVENT
DTSTART;TZID=Europe/London:20250612T193000
DTEND;TZID=Europe/London:20250612T193000
DTSTAMP:20260425T170810
CREATED:20250529T171723Z
LAST-MODIFIED:20250529T171723Z
UID:127184-1749756600-1749756600@www.discovernorthampton.co.uk
SUMMARY:Russell Kane: HyperActive
DESCRIPTION:Whirlwind\, FitBit-breaking comedian\, presenter\, actor and author Russell Kane is out on the road again\, setting it on fire with his unique recipe of sharp wit and “storming physical comedy” (Mail on Sunday). \nThe brand-new tour comes with a safety warning: wear strong underwear – pants will be spoiled. Russell is high-energy\, high-octane\, and hyper-active!
URL:https://www.discovernorthampton.co.uk/event/russell-kane-hyperactive/
LOCATION:Royal and Derngate Theatre\, 19-21 Guildhall Road\, Northampton\, Northamptonshire\, NN1 1DP
CATEGORIES:Comedy Night,Royal and Derngate,Theatre
ATTACH;FMTTYPE=image/png:https://www.discovernorthampton.co.uk/wp-content/uploads/2025/05/Russell-Kane-Website-1170x476-1.png
ORGANIZER;CN="Royal and Derngate":MAILTO:BoxOffice@royalandderngate.co.uk
END:VEVENT
END:VCALENDAR