BEGIN:VCALENDAR
VERSION:2.0
PRODID:-//Northampton BID - ECPv6.2.4//NONSGML v1.0//EN
CALSCALE:GREGORIAN
METHOD:PUBLISH
X-WR-CALNAME:Northampton BID
X-ORIGINAL-URL:https://www.discovernorthampton.co.uk
X-WR-CALDESC:Events for Northampton BID
REFRESH-INTERVAL;VALUE=DURATION:PT1H
X-Robots-Tag:noindex
X-PUBLISHED-TTL:PT1H
BEGIN:VTIMEZONE
TZID:Europe/London
BEGIN:DAYLIGHT
TZOFFSETFROM:+0000
TZOFFSETTO:+0100
TZNAME:BST
DTSTART:20250330T010000
END:DAYLIGHT
BEGIN:STANDARD
TZOFFSETFROM:+0100
TZOFFSETTO:+0000
TZNAME:GMT
DTSTART:20251026T010000
END:STANDARD
END:VTIMEZONE
BEGIN:VEVENT
DTSTART;TZID=Europe/London:20250625T200000
DTEND;TZID=Europe/London:20250625T200000
DTSTAMP:20260423T190923
CREATED:20250428T095741Z
LAST-MODIFIED:20250428T095741Z
UID:126075-1750881600-1750881600@www.discovernorthampton.co.uk
SUMMARY:Esther Manito & Lee Peart - Edinburgh Previews - 25th June
DESCRIPTION:Venue: Saints Coffee\, 62 St Gilesâ€™ St\, Northampton NN1 1JW \nDate: Wednesday 25th June \nTimes: Doors 7:00pm Show 8:00pm \nPrice: £8 a ticket plus £1 booking fee. \nFeaturing: Esther Manito & Lee Peart- Work in progress shows
URL:https://www.discovernorthampton.co.uk/event/esther-manito-lee-peart-edinburgh-previews-25th-june/
LOCATION:Saints Coffee\, 62 St Giles' St\, Northampton\, Northamptonshire\, NN1 1JW\, United Kingdom
CATEGORIES:2025 Comedy Festival,Comedy Night
ATTACH;FMTTYPE=image/jpeg:https://www.discovernorthampton.co.uk/wp-content/uploads/2025/04/SaintsCoffee26thJune.jpg
END:VEVENT
END:VCALENDAR